Encode v3.21 Perl 5 v5.32.1 x86_64-cygwin-threads-multi
- Status
- Pass
- From
- Peter John Acklam (PJACKLAM)
- Dist
-
Encode v3.21
- Platform
- Perl 5 v5.32.1 x86_64-cygwin-threads-multi
- Date
- 2024-06-03 07:51:37
- ID
- 962572d1-7a1f-1014-888a-bb0ecb5a66f2
This distribution has been tested as part of the CPAN Testers
project, supporting the Perl programming language. See
http://wiki.cpantesters.org/ for more information or email
questions to cpan-testers-discuss@perl.org
--
Dear Dan Kogai,
This is a computer-generated report for Encode-3.21
on perl 5.32.1, created by CPAN-Reporter-1.2019.
Thank you for uploading your work to CPAN. Congratulations!
All tests were successful.
Sections of this report:
* Tester comments
* Program output
* Prerequisites
* Environment and other context
------------------------------
TESTER COMMENTS
------------------------------
Additional comments from tester:
none provided
------------------------------
PROGRAM OUTPUT
------------------------------
Output from '/bin/make test':
"/usr/bin/perl.exe" -MExtUtils::Command::MM -e 'cp_nonempty' -- Encode.bs blib/arch/auto/Encode/Encode.bs 644
make[1]: Entering directory '/cygdrive/d/src/perl/.cpan/build/Encode-3.21-0/Byte'
"/usr/bin/perl.exe" -MExtUtils::Command::MM -e 'cp_nonempty' -- Byte.bs ../blib/arch/auto/Encode/Byte/Byte.bs 644
make[1]: Leaving directory '/cygdrive/d/src/perl/.cpan/build/Encode-3.21-0/Byte'
make[1]: Entering directory '/cygdrive/d/src/perl/.cpan/build/Encode-3.21-0/CN'
"/usr/bin/perl.exe" -MExtUtils::Command::MM -e 'cp_nonempty' -- CN.bs ../blib/arch/auto/Encode/CN/CN.bs 644
make[1]: Leaving directory '/cygdrive/d/src/perl/.cpan/build/Encode-3.21-0/CN'
make[1]: Entering directory '/cygdrive/d/src/perl/.cpan/build/Encode-3.21-0/EBCDIC'
"/usr/bin/perl.exe" -MExtUtils::Command::MM -e 'cp_nonempty' -- EBCDIC.bs ../blib/arch/auto/Encode/EBCDIC/EBCDIC.bs 644
make[1]: Leaving directory '/cygdrive/d/src/perl/.cpan/build/Encode-3.21-0/EBCDIC'
make[1]: Entering directory '/cygdrive/d/src/perl/.cpan/build/Encode-3.21-0/JP'
"/usr/bin/perl.exe" -MExtUtils::Command::MM -e 'cp_nonempty' -- JP.bs ../blib/arch/auto/Encode/JP/JP.bs 644
make[1]: Leaving directory '/cygdrive/d/src/perl/.cpan/build/Encode-3.21-0/JP'
make[1]: Entering directory '/cygdrive/d/src/perl/.cpan/build/Encode-3.21-0/KR'
"/usr/bin/perl.exe" -MExtUtils::Command::MM -e 'cp_nonempty' -- KR.bs ../blib/arch/auto/Encode/KR/KR.bs 644
make[1]: Leaving directory '/cygdrive/d/src/perl/.cpan/build/Encode-3.21-0/KR'
make[1]: Entering directory '/cygdrive/d/src/perl/.cpan/build/Encode-3.21-0/Symbol'
"/usr/bin/perl.exe" -MExtUtils::Command::MM -e 'cp_nonempty' -- Symbol.bs ../blib/arch/auto/Encode/Symbol/Symbol.bs 644
make[1]: Leaving directory '/cygdrive/d/src/perl/.cpan/build/Encode-3.21-0/Symbol'
make[1]: Entering directory '/cygdrive/d/src/perl/.cpan/build/Encode-3.21-0/TW'
"/usr/bin/perl.exe" -MExtUtils::Command::MM -e 'cp_nonempty' -- TW.bs ../blib/arch/auto/Encode/TW/TW.bs 644
make[1]: Leaving directory '/cygdrive/d/src/perl/.cpan/build/Encode-3.21-0/TW'
make[1]: Entering directory '/cygdrive/d/src/perl/.cpan/build/Encode-3.21-0/Unicode'
"/usr/bin/perl.exe" -MExtUtils::Command::MM -e 'cp_nonempty' -- Unicode.bs ../blib/arch/auto/Encode/Unicode/Unicode.bs 644
make[1]: Leaving directory '/cygdrive/d/src/perl/.cpan/build/Encode-3.21-0/Unicode'
make[1]: Entering directory '/cygdrive/d/src/perl/.cpan/build/Encode-3.21-0/Byte'
"/usr/bin/perl.exe" -MExtUtils::Command::MM -e 'cp_nonempty' -- Byte.bs ../blib/arch/auto/Encode/Byte/Byte.bs 644
No tests defined for Encode::Byte extension.
make[1]: Leaving directory '/cygdrive/d/src/perl/.cpan/build/Encode-3.21-0/Byte'
make[1]: Entering directory '/cygdrive/d/src/perl/.cpan/build/Encode-3.21-0/CN'
"/usr/bin/perl.exe" -MExtUtils::Command::MM -e 'cp_nonempty' -- CN.bs ../blib/arch/auto/Encode/CN/CN.bs 644
No tests defined for Encode::CN extension.
make[1]: Leaving directory '/cygdrive/d/src/perl/.cpan/build/Encode-3.21-0/CN'
make[1]: Entering directory '/cygdrive/d/src/perl/.cpan/build/Encode-3.21-0/EBCDIC'
"/usr/bin/perl.exe" -MExtUtils::Command::MM -e 'cp_nonempty' -- EBCDIC.bs ../blib/arch/auto/Encode/EBCDIC/EBCDIC.bs 644
No tests defined for Encode::EBCDIC extension.
make[1]: Leaving directory '/cygdrive/d/src/perl/.cpan/build/Encode-3.21-0/EBCDIC'
make[1]: Entering directory '/cygdrive/d/src/perl/.cpan/build/Encode-3.21-0/JP'
"/usr/bin/perl.exe" -MExtUtils::Command::MM -e 'cp_nonempty' -- JP.bs ../blib/arch/auto/Encode/JP/JP.bs 644
No tests defined for Encode::JP extension.
make[1]: Leaving directory '/cygdrive/d/src/perl/.cpan/build/Encode-3.21-0/JP'
make[1]: Entering directory '/cygdrive/d/src/perl/.cpan/build/Encode-3.21-0/KR'
"/usr/bin/perl.exe" -MExtUtils::Command::MM -e 'cp_nonempty' -- KR.bs ../blib/arch/auto/Encode/KR/KR.bs 644
No tests defined for Encode::KR extension.
make[1]: Leaving directory '/cygdrive/d/src/perl/.cpan/build/Encode-3.21-0/KR'
make[1]: Entering directory '/cygdrive/d/src/perl/.cpan/build/Encode-3.21-0/Symbol'
"/usr/bin/perl.exe" -MExtUtils::Command::MM -e 'cp_nonempty' -- Symbol.bs ../blib/arch/auto/Encode/Symbol/Symbol.bs 644
No tests defined for Encode::Symbol extension.
make[1]: Leaving directory '/cygdrive/d/src/perl/.cpan/build/Encode-3.21-0/Symbol'
make[1]: Entering directory '/cygdrive/d/src/perl/.cpan/build/Encode-3.21-0/TW'
"/usr/bin/perl.exe" -MExtUtils::Command::MM -e 'cp_nonempty' -- TW.bs ../blib/arch/auto/Encode/TW/TW.bs 644
No tests defined for Encode::TW extension.
make[1]: Leaving directory '/cygdrive/d/src/perl/.cpan/build/Encode-3.21-0/TW'
make[1]: Entering directory '/cygdrive/d/src/perl/.cpan/build/Encode-3.21-0/Unicode'
"/usr/bin/perl.exe" -MExtUtils::Command::MM -e 'cp_nonempty' -- Unicode.bs ../blib/arch/auto/Encode/Unicode/Unicode.bs 644
No tests defined for Encode::Unicode extension.
make[1]: Leaving directory '/cygdrive/d/src/perl/.cpan/build/Encode-3.21-0/Unicode'
PERL_DL_NONLAZY=1 "/usr/bin/perl.exe" "-MExtUtils::Command::MM" "-MTest::Harness" "-e" "undef *Test::Harness::Switches; test_harness(0, 'blib/lib', 'blib/arch')" t/*.t
t/Aliases.t ................ ok
t/at-cn.t .................. ok
t/at-tw.t .................. ok
t/CJKT.t ................... ok
t/cow.t .................... ok
t/decode.t ................. ok
t/enc_data.t ............... skipped: encoding pragma not supported in Perl 5.25 or later
t/enc_eucjp.t .............. skipped: Perl <=5.25.2 or cperl required
t/enc_module.t ............. skipped: encoding pragma not supported in Perl 5.25 or later
t/enc_utf8.t ............... skipped: Perl <=5.25.2 or cperl required
t/Encode.t ................. ok
t/Encoder.t ................ ok
t/encoding-locale.t ........ ok
t/encoding.t ............... skipped: encoding pragma not supported in Perl 5.25 or later
t/fallback.t ............... ok
t/from_to.t ................ ok
t/grow.t ................... ok
t/gsm0338.t ................ ok
t/guess.t .................. ok
t/isa.t .................... ok
t/jis7-fallback.t .......... ok
t/jperl.t .................. skipped: encoding pragma not supported in Perl 5.25 or later
t/magic.t .................. ok
t/mime-header.t ............ ok
t/mime-name.t .............. ok
t/mime_header_iso2022jp.t .. ok
t/perlio.t ................. ok
t/piconv.t ................. ok
t/rt113164.t ............... ok
t/rt65541.t ................ ok
t/rt76824.t ................ ok
t/rt85489.t ................ ok
t/rt86327.t ................ ok
t/taint.t .................. ok
t/truncated_utf8.t ......... ok
t/undef.t .................. ok
t/Unicode.t ................ ok
t/Unicode_trailing_nul.t ... ok
t/use-Encode-Alias.t ....... ok
t/utf32warnings.t .......... ok
t/utf8ref.t ................ ok
t/utf8strict.t ............. ok
t/utf8warnings.t ........... ok
t/whatwg-aliases.t ......... skipped: For maintainers only
t/xml.t .................... ok
All tests successful.
Files=45, Tests=7769, 207 wallclock secs ( 1.62 usr 1.64 sys + 26.28 cusr 92.08 csys = 121.63 CPU)
Result: PASS
------------------------------
PREREQUISITES
------------------------------
Prerequisite modules loaded:
requires:
Module Need Have
------------------- ----- --------
Exporter 5.57 5.74
parent 0.221 0.238
Storable 0 3.21
build_requires:
Module Need Have
------------------- ----- --------
ExtUtils::MakeMaker 0 7.44
Test::More 0.92 1.302199
configure_requires:
Module Need Have
------------------- ----- --------
ExtUtils::MakeMaker 0 7.44
------------------------------
ENVIRONMENT AND OTHER CONTEXT
------------------------------
Environment variables:
COMSPEC = C:\WINDOWS\system32\cmd.exe
LDFLAGS = -Wl,-rpath,/usr/local/lib -L/usr/local/lib
NUMBER_OF_PROCESSORS = 8
PATH = /usr/bin:/usr/bin:/bin:/usr/local/bin
PERL5LIB = /usr/local/lib/perl5/site_perl/5.32:/usr/local/lib/perl5/site_perl/5.32/x86_64-cygwin-threads-multi:/usr/local/lib/perl5/site_perl:/usr/local/lib/perl5/vendor_perl/5.32:/usr/local/lib/perl5/vendor_perl/5.32/x86_64-cygwin-threads-multi:/usr/local/lib/perl5/vendor_perl:/usr/local/lib/perl5/5.32:/usr/local/lib/perl5/5.32/x86_64-cygwin-threads-multi:/usr/local/lib/perl5:/usr/local/share/perl5/site_perl/5.32:/usr/local/share/perl5/site_perl/5.32/x86_64-cygwin-threads-multi:/usr/local/share/perl5/site_perl:/usr/local/share/perl5/vendor_perl/5.32:/usr/local/share/perl5/vendor_perl/5.32/x86_64-cygwin-threads-multi:/usr/local/share/perl5/vendor_perl:/usr/local/share/perl5/5.32:/usr/local/share/perl5/5.32/x86_64-cygwin-threads-multi:/usr/local/share/perl5
PERL5OPT =
PERL5_CPANPLUS_IS_RUNNING = 17323
PERL5_CPAN_IS_RUNNING = 17323
PERL_CANARY_STABILITY_NOPROMPT = 1
PERL_CPAN_REPORTER_CONFIG = /cygdrive/d/home/peter/.cpanreporter/config-cygwin-rigel.ini
PERL_USE_UNSAFE_INC = 1
PROCESSOR_IDENTIFIER = Intel64 Family 6 Model 42 Stepping 7, GenuineIntel
SHELL = /bin/bash
TEMP = /tmp
TERM = xterm
Perl special variables (and OS-specific diagnostics, for MSWin32):
$^X = /usr/bin/perl
$UID/$EUID = 197609 / 197609
$GID = 197609 401408 545 4 66049 11 15 68380 113 4095 66048 262180
$EGID = 197609 401408 545 4 66049 11 15 68380 113 4095 66048 262180
Perl module toolchain versions installed:
Module Have
------------------- --------
CPAN 2.36
CPAN::Meta 2.150010
Cwd 3.78
ExtUtils::CBuilder 0.280234
ExtUtils::Command 7.44
ExtUtils::Install 2.14
ExtUtils::MakeMaker 7.44
ExtUtils::Manifest 1.72
ExtUtils::ParseXS 3.40
File::Spec 3.78
JSON n/a
JSON::PP 4.04
Module::Build 0.4234
Module::Signature n/a
Parse::CPAN::Meta 2.150010
Test2 1.302199
Test::Harness 3.42
Test::More 1.302199
YAML 1.30
YAML::Syck n/a
version 0.9924
--
Summary of my perl5 (revision 5 version 32 subversion 1) configuration:
Platform:
osname=cygwin
osvers=3.2.0(0.34053)
archname=x86_64-cygwin-threads-multi
uname='cygwin_nt-10.0 cygwinpro 3.2.0(0.34053) 2021-03-29 08:42 x86_64 cygwin '
config_args='-des -Dprefix=/usr -Dmksymlinks -Darchname=x86_64-cygwin-threads -Dlibperl=cygperl5_32.dll -Dcc=gcc -Dld=g++ -Accflags=-ggdb -O2 -pipe -Wall -Werror=format-security -D_FORTIFY_SOURCE=2 -fstack-protector-strong --param=ssp-buffer-size=4 -fdebug-prefix-map=/mnt/share/cygpkgs/perl/perl.x86_64/build=/usr/src/debug/perl-5.32.1-2 -fdebug-prefix-map=/mnt/share/cygpkgs/perl/perl.x86_64/src/perl-5.32.1=/usr/src/debug/perl-5.32.1-2 -fwrapv'
hint=recommended
useposix=true
d_sigaction=define
useithreads=define
usemultiplicity=define
use64bitint=define
use64bitall=define
uselongdouble=undef
usemymalloc=n
default_inc_excludes_dot=define
bincompat5005=undef
Compiler:
cc='gcc'
ccflags ='-DPERL_USE_SAFE_PUTENV -U__STRICT_ANSI__ -D_GNU_SOURCE -ggdb -O2 -pipe -Wall -Werror=format-security -D_FORTIFY_SOURCE=2 -fstack-protector-strong --param=ssp-buffer-size=4 -fdebug-prefix-map=/mnt/share/cygpkgs/perl/perl.x86_64/build=/usr/src/debug/perl-5.32.1-2 -fdebug-prefix-map=/mnt/share/cygpkgs/perl/perl.x86_64/src/perl-5.32.1=/usr/src/debug/perl-5.32.1-2 -fwrapv -fno-strict-aliasing'
optimize='-O3'
cppflags='-DPERL_USE_SAFE_PUTENV -U__STRICT_ANSI__ -D_GNU_SOURCE -ggdb -O2 -pipe -Wall -Werror=format-security -D_FORTIFY_SOURCE=2 -fstack-protector-strong --param=ssp-buffer-size=4 -fdebug-prefix-map=/mnt/share/cygpkgs/perl/perl.x86_64/build=/usr/src/debug/perl-5.32.1-2 -fdebug-prefix-map=/mnt/share/cygpkgs/perl/perl.x86_64/src/perl-5.32.1=/usr/src/debug/perl-5.32.1-2 -fwrapv -fno-strict-aliasing'
ccversion=''
gccversion='10.2.0'
gccosandvers=''
intsize=4
longsize=8
ptrsize=8
doublesize=8
byteorder=12345678
doublekind=3
d_longlong=define
longlongsize=8
d_longdbl=define
longdblsize=16
longdblkind=3
ivtype='long'
ivsize=8
nvtype='double'
nvsize=8
Off_t='off_t'
lseeksize=8
alignbytes=8
prototype=define
Linker and Libraries:
ld='g++'
ldflags =' -Wl,--enable-auto-import -Wl,--export-all-symbols -Wl,--enable-auto-image-base -fstack-protector-strong'
libpth=/usr/lib
libs=-lpthread -lnsl -lgdbm -ldb -ldl -lcrypt -lgdbm_compat
perllibs=-lpthread -lnsl -ldl -lcrypt
libc=/usr/lib/libcygwin.a
so=dll
useshrplib=true
libperl=cygperl5_32.dll
gnulibc_version=''
Dynamic Linking:
dlsrc=dl_dlopen.xs
dlext=dll
d_dlsymun=undef
ccdlflags=' '
cccdlflags=' '
lddlflags=' --shared -Wl,--enable-auto-import -Wl,--export-all-symbols -Wl,--enable-auto-image-base -fstack-protector-strong'
Characteristics of this binary (from libperl):
Compile-time options:
HAS_TIMES
MULTIPLICITY
PERLIO_LAYERS
PERL_COPY_ON_WRITE
PERL_DONT_CREATE_GVSV
PERL_IMPLICIT_CONTEXT
PERL_OP_PARENT
PERL_PRESERVE_IVUV
PERL_USE_SAFE_PUTENV
USE_64_BIT_ALL
USE_64_BIT_INT
USE_ITHREADS
USE_LARGE_FILES
USE_LOCALE
USE_LOCALE_COLLATE
USE_LOCALE_CTYPE
USE_LOCALE_NUMERIC
USE_LOCALE_TIME
USE_PERLIO
USE_PERL_ATOF
USE_REENTRANT_API
USE_THREAD_SAFE_LOCALE
Locally applied patches:
Cygwin: README
Cygwin: use auto-image-base instead of fixed DLL base address
Cygwin: modify hints
Cygwin: Configure correct libsearch
Cygwin: Configure correct libpth
Cygwin: Encode fix for CVE-2021-36770
Cygwin: Win32 correct UTF8 handling
Built under cygwin
Compiled at Aug 14 2021 09:07:12
%ENV:
PERL5LIB="/usr/local/lib/perl5/site_perl/5.32:/usr/local/lib/perl5/site_perl/5.32/x86_64-cygwin-threads-multi:/usr/local/lib/perl5/site_perl:/usr/local/lib/perl5/vendor_perl/5.32:/usr/local/lib/perl5/vendor_perl/5.32/x86_64-cygwin-threads-multi:/usr/local/lib/perl5/vendor_perl:/usr/local/lib/perl5/5.32:/usr/local/lib/perl5/5.32/x86_64-cygwin-threads-multi:/usr/local/lib/perl5:/usr/local/share/perl5/site_perl/5.32:/usr/local/share/perl5/site_perl/5.32/x86_64-cygwin-threads-multi:/usr/local/share/perl5/site_perl:/usr/local/share/perl5/vendor_perl/5.32:/usr/local/share/perl5/vendor_perl/5.32/x86_64-cygwin-threads-multi:/usr/local/share/perl5/vendor_perl:/usr/local/share/perl5/5.32:/usr/local/share/perl5/5.32/x86_64-cygwin-threads-multi:/usr/local/share/perl5"
PERL5OPT=""
PERL5_CPANPLUS_IS_RUNNING="17323"
PERL5_CPAN_IS_RUNNING="17323"
PERL_CANARY_STABILITY_NOPROMPT="1"
PERL_CPAN_REPORTER_CONFIG="/cygdrive/d/home/peter/.cpanreporter/config-cygwin-rigel.ini"
PERL_USE_UNSAFE_INC="1"
@INC:
/usr/local/lib/perl5/site_perl/5.32
/usr/local/lib/perl5/site_perl/5.32/x86_64-cygwin-threads-multi
/usr/local/lib/perl5/site_perl
/usr/local/lib/perl5/vendor_perl/5.32
/usr/local/lib/perl5/vendor_perl/5.32/x86_64-cygwin-threads-multi
/usr/local/lib/perl5/vendor_perl
/usr/local/lib/perl5/5.32
/usr/local/lib/perl5/5.32/x86_64-cygwin-threads-multi
/usr/local/lib/perl5/x86_64-cygwin-threads-multi
/usr/local/lib/perl5
/usr/local/share/perl5/site_perl/5.32
/usr/local/share/perl5/site_perl/5.32/x86_64-cygwin-threads-multi
/usr/local/share/perl5/site_perl
/usr/local/share/perl5/vendor_perl/5.32
/usr/local/share/perl5/vendor_perl/5.32/x86_64-cygwin-threads-multi
/usr/local/share/perl5/vendor_perl
/usr/local/share/perl5/5.32
/usr/local/share/perl5/5.32/x86_64-cygwin-threads-multi
/usr/local/share/perl5
/usr/local/lib/perl5/site_perl/5.32/x86_64-cygwin-threads
/usr/local/share/perl5/site_perl/5.32
/usr/lib/perl5/vendor_perl/5.32/x86_64-cygwin-threads
/usr/share/perl5/vendor_perl/5.32
/usr/lib/perl5/5.32/x86_64-cygwin-threads
/usr/share/perl5/5.32
.