Encode v3.16 Perl 5 v5.32.0 x86_64-linux-ld
- Status
- Pass
- From
- Andreas J. König (ANDK)
- Dist
-
Encode v3.16
- Platform
- Perl 5 v5.32.0 x86_64-linux-ld
- Date
- 2022-03-31 01:40:45
- ID
- 959a645c-b093-11ec-96fa-26bcc622ca30
This distribution has been tested as part of the CPAN Testers
project, supporting the Perl programming language. See
http://wiki.cpantesters.org/ for more information or email
questions to cpan-testers-discuss@perl.org
--
Dear Dan Kogai,
This is a computer-generated report for Encode-3.16
on perl 5.32.0, created by CPAN-Reporter-1.2018.
Thank you for uploading your work to CPAN. Congratulations!
All tests were successful.
Sections of this report:
* Tester comments
* Program output
* Prerequisites
* Environment and other context
------------------------------
TESTER COMMENTS
------------------------------
Additional comments from tester:
this report is from an automated smoke testing program
and was not reviewed by a human for accuracy
------------------------------
PROGRAM OUTPUT
------------------------------
Output from '/usr/bin/make test':
"/home/sand/src/perl/repoperls/installed-perls/host/k93msid/v5.32.0/af11/bin/perl" -MExtUtils::Command::MM -e 'cp_nonempty' -- Encode.bs blib/arch/auto/Encode/Encode.bs 644
make[1]: Entering directory '/tmp/loop_over_bdir-2828496-sLaSUO/Encode-3.16-0/Byte'
"/home/sand/src/perl/repoperls/installed-perls/host/k93msid/v5.32.0/af11/bin/perl" -MExtUtils::Command::MM -e 'cp_nonempty' -- Byte.bs ../blib/arch/auto/Encode/Byte/Byte.bs 644
make[1]: Leaving directory '/tmp/loop_over_bdir-2828496-sLaSUO/Encode-3.16-0/Byte'
make[1]: Entering directory '/tmp/loop_over_bdir-2828496-sLaSUO/Encode-3.16-0/CN'
"/home/sand/src/perl/repoperls/installed-perls/host/k93msid/v5.32.0/af11/bin/perl" -MExtUtils::Command::MM -e 'cp_nonempty' -- CN.bs ../blib/arch/auto/Encode/CN/CN.bs 644
make[1]: Leaving directory '/tmp/loop_over_bdir-2828496-sLaSUO/Encode-3.16-0/CN'
make[1]: Entering directory '/tmp/loop_over_bdir-2828496-sLaSUO/Encode-3.16-0/EBCDIC'
"/home/sand/src/perl/repoperls/installed-perls/host/k93msid/v5.32.0/af11/bin/perl" -MExtUtils::Command::MM -e 'cp_nonempty' -- EBCDIC.bs ../blib/arch/auto/Encode/EBCDIC/EBCDIC.bs 644
make[1]: Leaving directory '/tmp/loop_over_bdir-2828496-sLaSUO/Encode-3.16-0/EBCDIC'
make[1]: Entering directory '/tmp/loop_over_bdir-2828496-sLaSUO/Encode-3.16-0/JP'
"/home/sand/src/perl/repoperls/installed-perls/host/k93msid/v5.32.0/af11/bin/perl" -MExtUtils::Command::MM -e 'cp_nonempty' -- JP.bs ../blib/arch/auto/Encode/JP/JP.bs 644
make[1]: Leaving directory '/tmp/loop_over_bdir-2828496-sLaSUO/Encode-3.16-0/JP'
make[1]: Entering directory '/tmp/loop_over_bdir-2828496-sLaSUO/Encode-3.16-0/KR'
"/home/sand/src/perl/repoperls/installed-perls/host/k93msid/v5.32.0/af11/bin/perl" -MExtUtils::Command::MM -e 'cp_nonempty' -- KR.bs ../blib/arch/auto/Encode/KR/KR.bs 644
make[1]: Leaving directory '/tmp/loop_over_bdir-2828496-sLaSUO/Encode-3.16-0/KR'
make[1]: Entering directory '/tmp/loop_over_bdir-2828496-sLaSUO/Encode-3.16-0/Symbol'
"/home/sand/src/perl/repoperls/installed-perls/host/k93msid/v5.32.0/af11/bin/perl" -MExtUtils::Command::MM -e 'cp_nonempty' -- Symbol.bs ../blib/arch/auto/Encode/Symbol/Symbol.bs 644
make[1]: Leaving directory '/tmp/loop_over_bdir-2828496-sLaSUO/Encode-3.16-0/Symbol'
make[1]: Entering directory '/tmp/loop_over_bdir-2828496-sLaSUO/Encode-3.16-0/TW'
"/home/sand/src/perl/repoperls/installed-perls/host/k93msid/v5.32.0/af11/bin/perl" -MExtUtils::Command::MM -e 'cp_nonempty' -- TW.bs ../blib/arch/auto/Encode/TW/TW.bs 644
make[1]: Leaving directory '/tmp/loop_over_bdir-2828496-sLaSUO/Encode-3.16-0/TW'
make[1]: Entering directory '/tmp/loop_over_bdir-2828496-sLaSUO/Encode-3.16-0/Unicode'
"/home/sand/src/perl/repoperls/installed-perls/host/k93msid/v5.32.0/af11/bin/perl" -MExtUtils::Command::MM -e 'cp_nonempty' -- Unicode.bs ../blib/arch/auto/Encode/Unicode/Unicode.bs 644
make[1]: Leaving directory '/tmp/loop_over_bdir-2828496-sLaSUO/Encode-3.16-0/Unicode'
make[1]: Entering directory '/tmp/loop_over_bdir-2828496-sLaSUO/Encode-3.16-0/Byte'
"/home/sand/src/perl/repoperls/installed-perls/host/k93msid/v5.32.0/af11/bin/perl" -MExtUtils::Command::MM -e 'cp_nonempty' -- Byte.bs ../blib/arch/auto/Encode/Byte/Byte.bs 644
No tests defined for Encode::Byte extension.
make[1]: Leaving directory '/tmp/loop_over_bdir-2828496-sLaSUO/Encode-3.16-0/Byte'
make[1]: Entering directory '/tmp/loop_over_bdir-2828496-sLaSUO/Encode-3.16-0/CN'
"/home/sand/src/perl/repoperls/installed-perls/host/k93msid/v5.32.0/af11/bin/perl" -MExtUtils::Command::MM -e 'cp_nonempty' -- CN.bs ../blib/arch/auto/Encode/CN/CN.bs 644
No tests defined for Encode::CN extension.
make[1]: Leaving directory '/tmp/loop_over_bdir-2828496-sLaSUO/Encode-3.16-0/CN'
make[1]: Entering directory '/tmp/loop_over_bdir-2828496-sLaSUO/Encode-3.16-0/EBCDIC'
"/home/sand/src/perl/repoperls/installed-perls/host/k93msid/v5.32.0/af11/bin/perl" -MExtUtils::Command::MM -e 'cp_nonempty' -- EBCDIC.bs ../blib/arch/auto/Encode/EBCDIC/EBCDIC.bs 644
No tests defined for Encode::EBCDIC extension.
make[1]: Leaving directory '/tmp/loop_over_bdir-2828496-sLaSUO/Encode-3.16-0/EBCDIC'
make[1]: Entering directory '/tmp/loop_over_bdir-2828496-sLaSUO/Encode-3.16-0/JP'
"/home/sand/src/perl/repoperls/installed-perls/host/k93msid/v5.32.0/af11/bin/perl" -MExtUtils::Command::MM -e 'cp_nonempty' -- JP.bs ../blib/arch/auto/Encode/JP/JP.bs 644
No tests defined for Encode::JP extension.
make[1]: Leaving directory '/tmp/loop_over_bdir-2828496-sLaSUO/Encode-3.16-0/JP'
make[1]: Entering directory '/tmp/loop_over_bdir-2828496-sLaSUO/Encode-3.16-0/KR'
"/home/sand/src/perl/repoperls/installed-perls/host/k93msid/v5.32.0/af11/bin/perl" -MExtUtils::Command::MM -e 'cp_nonempty' -- KR.bs ../blib/arch/auto/Encode/KR/KR.bs 644
No tests defined for Encode::KR extension.
make[1]: Leaving directory '/tmp/loop_over_bdir-2828496-sLaSUO/Encode-3.16-0/KR'
make[1]: Entering directory '/tmp/loop_over_bdir-2828496-sLaSUO/Encode-3.16-0/Symbol'
"/home/sand/src/perl/repoperls/installed-perls/host/k93msid/v5.32.0/af11/bin/perl" -MExtUtils::Command::MM -e 'cp_nonempty' -- Symbol.bs ../blib/arch/auto/Encode/Symbol/Symbol.bs 644
No tests defined for Encode::Symbol extension.
make[1]: Leaving directory '/tmp/loop_over_bdir-2828496-sLaSUO/Encode-3.16-0/Symbol'
make[1]: Entering directory '/tmp/loop_over_bdir-2828496-sLaSUO/Encode-3.16-0/TW'
"/home/sand/src/perl/repoperls/installed-perls/host/k93msid/v5.32.0/af11/bin/perl" -MExtUtils::Command::MM -e 'cp_nonempty' -- TW.bs ../blib/arch/auto/Encode/TW/TW.bs 644
No tests defined for Encode::TW extension.
make[1]: Leaving directory '/tmp/loop_over_bdir-2828496-sLaSUO/Encode-3.16-0/TW'
make[1]: Entering directory '/tmp/loop_over_bdir-2828496-sLaSUO/Encode-3.16-0/Unicode'
"/home/sand/src/perl/repoperls/installed-perls/host/k93msid/v5.32.0/af11/bin/perl" -MExtUtils::Command::MM -e 'cp_nonempty' -- Unicode.bs ../blib/arch/auto/Encode/Unicode/Unicode.bs 644
No tests defined for Encode::Unicode extension.
make[1]: Leaving directory '/tmp/loop_over_bdir-2828496-sLaSUO/Encode-3.16-0/Unicode'
PERL_DL_NONLAZY=1 "/home/sand/src/perl/repoperls/installed-perls/host/k93msid/v5.32.0/af11/bin/perl" "-MExtUtils::Command::MM" "-MTest::Harness" "-e" "undef *Test::Harness::Switches; test_harness(0, 'blib/lib', 'blib/arch')" t/*.t
t/Aliases.t ................ ok
t/at-cn.t .................. ok
t/at-tw.t .................. ok
t/CJKT.t ................... ok
t/cow.t .................... ok
t/decode.t ................. ok
t/enc_data.t ............... skipped: encoding pragma not supported in Perl 5.26
t/enc_eucjp.t .............. skipped: Perl <=5.25.2 or cperl required
t/enc_module.t ............. skipped: encoding pragma not supported in Perl 5.26
t/enc_utf8.t ............... skipped: Perl <=5.25.2 or cperl required
t/Encode.t ................. ok
t/Encoder.t ................ ok
t/encoding-locale.t ........ ok
t/encoding.t ............... skipped: encoding pragma not supported in Perl 5.26
t/fallback.t ............... ok
t/from_to.t ................ ok
t/grow.t ................... ok
t/gsm0338.t ................ ok
t/guess.t .................. ok
t/isa.t .................... ok
t/jis7-fallback.t .......... ok
t/jperl.t .................. skipped: encoding pragma not supported in Perl 5.26
t/magic.t .................. ok
t/mime-header.t ............ ok
t/mime-name.t .............. ok
t/mime_header_iso2022jp.t .. ok
t/perlio.t ................. ok
t/piconv.t ................. ok
t/rt113164.t ............... ok
t/rt65541.t ................ ok
t/rt76824.t ................ ok
t/rt85489.t ................ ok
t/rt86327.t ................ ok
t/taint.t .................. ok
t/truncated_utf8.t ......... ok
t/undef.t .................. ok
t/Unicode.t ................ ok
# temp file: /tmp/s8aklFAV7L
t/Unicode_trailing_nul.t ... ok
t/use-Encode-Alias.t ....... ok
t/utf8ref.t ................ ok
t/utf8strict.t ............. ok
t/utf8warnings.t ........... ok
t/whatwg-aliases.t ......... skipped: For maintainers only
t/xml.t .................... ok
All tests successful.
Files=44, Tests=7711, 12 wallclock secs ( 0.62 usr 0.27 sys + 5.28 cusr 1.16 csys = 7.33 CPU)
Result: PASS
------------------------------
PREREQUISITES
------------------------------
Prerequisite modules loaded:
requires:
Module Need Have
------------------- ----- --------
Exporter 5.57 5.74
parent 0.221 0.238
Storable 0 3.21
build_requires:
Module Need Have
------------------- ----- --------
ExtUtils::MakeMaker 0 7.64
Test::More 0.92 1.302190
configure_requires:
Module Need Have
------------------- ----- --------
ExtUtils::MakeMaker 0 7.64
------------------------------
ENVIRONMENT AND OTHER CONTEXT
------------------------------
Environment variables:
AUTOMATED_TESTING = 1
LANG = en_US.UTF-8
NO_NETWORK_TESTING = 1
PATH = /home/sand/bin:/usr/local/bin:/usr/bin:/bin:/usr/games:/usr/local/perl/bin:/usr/X11/bin:/sbin:/usr/sbin
PERL5LIB =
PERL5OPT =
PERL5_CPANPLUS_IS_RUNNING = 2828504
PERL5_CPAN_IS_RUNNING = 2828504
PERL_CANARY_STABILITY_NOPROMPT = 1
PERL_MM_USE_DEFAULT = 1
PERL_USE_UNSAFE_INC = 1
SHELL = /usr/bin/zsh
TERM = screen
Perl special variables (and OS-specific diagnostics, for MSWin32):
$^X = /home/sand/src/perl/repoperls/installed-perls/host/k93msid/v5.32.0/af11/bin/perl
$UID/$EUID = 1005 / 1005
$GID = 1005 1005
$EGID = 1005 1005
Perl module toolchain versions installed:
Module Have
------------------- --------
CPAN 2.33
CPAN::Meta 2.150010
Cwd 3.78
ExtUtils::CBuilder 0.280236
ExtUtils::Command 7.64
ExtUtils::Install 2.14
ExtUtils::MakeMaker 7.64
ExtUtils::Manifest 1.72
ExtUtils::ParseXS 3.40
File::Spec 3.78
JSON 4.05
JSON::PP 4.04
Module::Build 0.4231
Module::Signature 0.88
Parse::CPAN::Meta 2.150010
Test::Harness 3.42
Test::More 1.302190
YAML 1.30
YAML::Syck 1.34
version 0.9929
--
Summary of my perl5 (revision 5 version 32 subversion 0) configuration:
Commit id: 0cf01644e9e0460386db76c3546d69b15e0806df
Platform:
osname=linux
osvers=5.15.0-2-amd64
archname=x86_64-linux-ld
uname='linux k93msid 5.15.0-2-amd64 #1 smp debian 5.15.5-2 (2021-12-18) x86_64 gnulinux '
config_args='-Dprefix=/home/sand/src/perl/repoperls/installed-perls/host/k93msid/v5.32.0/af11 -Dmyhostname=k93msid -Dinstallusrbinperl=n -Uversiononly -Dusedevel -des -Ui_db -Dlibswanted=cl pthread socket inet nsl gdbm dbm malloc dl ld sun m crypt sec util c cposix posix ucb BSD gdbm_compat -Uuseithreads -Duselongdouble -DEBUGGING=-g'
hint=recommended
useposix=true
d_sigaction=define
useithreads=undef
usemultiplicity=undef
use64bitint=define
use64bitall=define
uselongdouble=define
usemymalloc=n
default_inc_excludes_dot=define
bincompat5005=undef
Compiler:
cc='cc'
ccflags ='-fwrapv -fno-strict-aliasing -pipe -fstack-protector-strong -I/usr/local/include -D_LARGEFILE_SOURCE -D_FILE_OFFSET_BITS=64 -D_FORTIFY_SOURCE=2'
optimize='-O2 -g'
cppflags='-fwrapv -fno-strict-aliasing -pipe -fstack-protector-strong -I/usr/local/include'
ccversion=''
gccversion='11.2.0'
gccosandvers=''
intsize=4
longsize=8
ptrsize=8
doublesize=8
byteorder=12345678
doublekind=3
d_longlong=define
longlongsize=8
d_longdbl=define
longdblsize=16
longdblkind=3
ivtype='long'
ivsize=8
nvtype='long double'
nvsize=16
Off_t='off_t'
lseeksize=8
alignbytes=16
prototype=define
Linker and Libraries:
ld='cc'
ldflags =' -fstack-protector-strong -L/usr/local/lib'
libpth=/usr/local/lib /usr/include/x86_64-linux-gnu /usr/lib /lib/x86_64-linux-gnu /lib/../lib /usr/lib/x86_64-linux-gnu /usr/lib/../lib /lib
libs=-lpthread -lnsl -ldl -lm -lcrypt -lutil -lc
perllibs=-lpthread -lnsl -ldl -lm -lcrypt -lutil -lc
libc=libc-2.33.so
so=so
useshrplib=false
libperl=libperl.a
gnulibc_version='2.33'
Dynamic Linking:
dlsrc=dl_dlopen.xs
dlext=so
d_dlsymun=undef
ccdlflags='-Wl,-E'
cccdlflags='-fPIC'
lddlflags='-shared -O2 -g -L/usr/local/lib -fstack-protector-strong'
Characteristics of this binary (from libperl):
Compile-time options:
HAS_TIMES
PERLIO_LAYERS
PERL_COPY_ON_WRITE
PERL_DONT_CREATE_GVSV
PERL_MALLOC_WRAP
PERL_OP_PARENT
PERL_PRESERVE_IVUV
PERL_USE_DEVEL
USE_64_BIT_ALL
USE_64_BIT_INT
USE_LARGE_FILES
USE_LOCALE
USE_LOCALE_COLLATE
USE_LOCALE_CTYPE
USE_LOCALE_NUMERIC
USE_LOCALE_TIME
USE_LONG_DOUBLE
USE_PERLIO
USE_PERL_ATOF
Built under linux
Compiled at Mar 17 2022 21:06:55
%ENV:
PERL5LIB=""
PERL5OPT=""
PERL5_CPANPLUS_IS_RUNNING="2828504"
PERL5_CPAN_IS_RUNNING="2828504"
PERL_CANARY_STABILITY_NOPROMPT="1"
PERL_MM_USE_DEFAULT="1"
PERL_USE_UNSAFE_INC="1"
@INC:
/home/sand/src/perl/repoperls/installed-perls/host/k93msid/v5.32.0/af11/lib/site_perl/5.32.0/x86_64-linux-ld
/home/sand/src/perl/repoperls/installed-perls/host/k93msid/v5.32.0/af11/lib/site_perl/5.32.0
/home/sand/src/perl/repoperls/installed-perls/host/k93msid/v5.32.0/af11/lib/5.32.0/x86_64-linux-ld
/home/sand/src/perl/repoperls/installed-perls/host/k93msid/v5.32.0/af11/lib/5.32.0
.