Dancer2-Plugin-DBIx-Class v1.1001 Perl 5 v5.22.2 amd64-freebsd-thread-multi

Status
Pass
From
Slaven Rezić
Dist
Dancer2-Plugin-DBIx-Class v1.1001
Platform
Perl 5 v5.22.2 amd64-freebsd-thread-multi
Date
2022-05-24 06:20:17
ID
94dfb916-db29-11ec-95ba-ee862cbfd570
This distribution has been tested as part of the CPAN Testers
project, supporting the Perl programming language.  See
http://wiki.cpantesters.org/ for more information or email
questions to cpan-testers-discuss@perl.org


--
Dear D Ruth Holloway,

This is a computer-generated report for Dancer2-Plugin-DBIx-Class-1.1001
on perl 5.22.2, created by CPAN-Reporter-1.2017.

Thank you for uploading your work to CPAN.  Congratulations!
All tests were successful.

Sections of this report:

    * Tester comments
    * Program output
    * Prerequisites
    * Environment and other context

------------------------------
TESTER COMMENTS
------------------------------

Additional comments from tester:

none provided

------------------------------
PROGRAM OUTPUT
------------------------------

Output from '/usr/bin/make test':

PERL_DL_NONLAZY=1 "/usr/perl5.22.2t/bin/perl" "-MExtUtils::Command::MM" "-MTest::Harness" "-e" "undef *Test::Harness::Switches; test_harness(0, 'blib/lib', 'blib/arch')" t/*.t
t/00-compile.t ................ ok
# 
# Versions for all modules listed in MYMETA.json (including optional ones):
# 
# === Configure Requires ===
# 
#     Module              Want Have
#     ------------------- ---- ----
#     ExtUtils::MakeMaker  any 7.58
# 
# === Build Requires ===
# 
#     Module              Want Have
#     ------------------- ---- ----
#     ExtUtils::MakeMaker  any 7.58
# 
# === Test Requires ===
# 
#     Module                              Want     Have
#     ----------------------------------- ---- --------
#     DBIx::Class::Core                    any    undef
#     DBIx::Class::Schema                  any    undef
#     DBIx::Class::Schema::ResultSetNames  any     1.03
#     Dancer2                              any 0.204004
#     ExtUtils::MakeMaker                  any     7.58
#     File::Spec                           any     3.62
#     HTTP::Request::Common                any     6.11
#     IO::Handle                           any     1.35
#     IPC::Open3                           any     1.18
#     JSON::MaybeXS                        any 1.003005
#     Plack::Test                          any    undef
#     Test2::V0                            any 0.000139
#     Test::More                           any 1.302183
#     base                                 any     2.22
#     lib                                  any     0.63
#     strict                               any     1.09
#     warnings                             any     1.34
# 
# === Test Recommends ===
# 
#     Module         Want     Have
#     ---------- -------- --------
#     CPAN::Meta 2.120900 2.150001
# 
# === Runtime Requires ===
# 
#     Module                       Want       Have
#     ------------------------ -------- ----------
#     Carp                          any       1.36
#     Class::C3::Componentised      any   1.001000
#     Dancer2::Plugin          0.154000   0.204004
#     Modern::Perl                  any 1.20170117
#     Moo                           any   2.003000
#     curry                    2.000001   2.000001
# 
t/00-report-prereqs.t ......... ok
t/00_core_keywords.t .......... ok
t/01_both_using_rsnames.t ..... ok
t/02_first_using_rsnames.t .... ok
t/03_second_using_rsnames.t ... ok
t/04_neither_using_rsnames.t .. ok
All tests successful.
Files=7, Tests=8,  4 wallclock secs ( 0.02 usr  0.05 sys +  1.83 cusr  1.66 csys =  3.56 CPU)
Result: PASS

------------------------------
PREREQUISITES
------------------------------

Prerequisite modules loaded:

requires:

    Module                              Need     Have      
    ----------------------------------- -------- ----------
    Carp                                0        1.36      
    Class::C3::Componentised            0        1.001000  
    curry                               2.000001 2.000001  
    Dancer2::Plugin                     0.154000 0.204004  
    Modern::Perl                        0        1.20170117
    Moo                                 0        2.003000  
    perl                                5.006    5.022002  

build_requires:

    Module                              Need     Have      
    ----------------------------------- -------- ----------
    base                                0        2.22      
    Dancer2                             0        0.204004  
    DBIx::Class::Core                   0        0         
    DBIx::Class::Schema                 0        0         
    DBIx::Class::Schema::ResultSetNames 0        1.03      
    ExtUtils::MakeMaker                 0        7.58      
    File::Spec                          0        3.62      
    HTTP::Request::Common               0        6.11      
    IO::Handle                          0        1.35      
    IPC::Open3                          0        1.18      
    JSON::MaybeXS                       0        1.003005  
    lib                                 0        0.63      
    Plack::Test                         0        0         
    strict                              0        1.09      
    Test2::V0                           0        0.000139  
    Test::More                          0        1.302183  
    warnings                            0        1.34      

configure_requires:

    Module                              Need     Have      
    ----------------------------------- -------- ----------
    ExtUtils::MakeMaker                 0        7.58      
    perl                                5.006    5.022002  


------------------------------
ENVIRONMENT AND OTHER CONTEXT
------------------------------

Environment variables:

    LC_ALL = de_DE.ISO8859-1
    PATH = /usr/local/bin:/usr/bin:/bin:/usr/local/sbin:/usr/sbin:/sbin:/home/cpansand/bin/freebsd10.3:/home/cpansand/bin/sh:/home/cpansand/bin:/usr/games:/home/cpansand/devel:/home/eserte/src/srezic-misc/scripts
    PERL5LIB = /home/cpansand/.cpan/build/2022052407/DBIx-Class-Schema-ResultSetNames-1.03-KfPRbK/blib/arch:/home/cpansand/.cpan/build/2022052407/DBIx-Class-Schema-ResultSetNames-1.03-KfPRbK/blib/lib:/home/cpansand/.cpan/build/2022052407/curry-2.000001-zR0bCb/blib/arch:/home/cpansand/.cpan/build/2022052407/curry-2.000001-zR0bCb/blib/lib
    PERL5OPT = 
    PERL5_CPANPLUS_IS_RUNNING = 62632
    PERL5_CPAN_IS_RUNNING = 62632
    PERL5_CPAN_IS_RUNNING_IN_RECURSION = 60268,62632
    PERLDOC = -MPod::Perldoc::ToTextOverstrike
    PERL_BATCH = yes
    PERL_CANARY_STABILITY_NOPROMPT = 1
    PERL_CPAN_REPORTER_CONFIG = /var/tmp/cpansmoker-1023/2022052407/cpanreporter_000_config.ini
    PERL_EXTUTILS_AUTOINSTALL = --defaultdeps
    SHELL = /usr/local/bin/zsh
    TERM = screen
    TMPDIR = /var/tmp/cpansmoker-1023/2022052407

Perl special variables (and OS-specific diagnostics, for MSWin32):

    $^X = /usr/perl5.22.2t/bin/perl
    $UID/$EUID = 1023 / 1023
    $GID = 1023 1023
    $EGID = 1023 1023

Perl module toolchain versions installed:

    Module              Have    
    ------------------- --------
    CPAN                2.11    
    CPAN::Meta          2.150001
    Cwd                 3.62    
    ExtUtils::CBuilder  0.280221
    ExtUtils::Command   7.58    
    ExtUtils::Install   2.06    
    ExtUtils::MakeMaker 7.58    
    ExtUtils::Manifest  1.70    
    ExtUtils::ParseXS   3.35    
    File::Spec          3.62    
    JSON                2.90    
    JSON::PP            2.27300 
    Module::Build       0.4218  
    Module::Signature   0.80    
    Parse::CPAN::Meta   1.4422  
    Test::Harness       3.35    
    Test::More          1.302183
    YAML                1.15    
    YAML::Syck          1.29    
    version             0.9917  


--

Summary of my perl5 (revision 5 version 22 subversion 2) configuration:
   
  Platform:
    osname=freebsd, osvers=10.1-release, archname=amd64-freebsd-thread-multi
    uname='freebsd cvrsnica-freebsd-101.herceg.de 10.1-release freebsd 10.1-release #0 r274401: tue nov 11 21:02:49 utc 2014 root@releng1.nyi.freebsd.org:usrobjusrsrcsysgeneric amd64 '
    config_args='-ds -e -Dprefix=/usr/perl5.22.2t -Dusethreads -Dcf_email=srezic@cpan.org -Doptimize=-O2 -pipe'
    hint=recommended, useposix=true, d_sigaction=define
    useithreads=define, usemultiplicity=define
    use64bitint=define, use64bitall=define, uselongdouble=undef
    usemymalloc=n, bincompat5005=undef
  Compiler:
    cc='cc', ccflags ='-DHAS_FPSETMASK -DHAS_FLOATINGPOINT_H -fno-strict-aliasing -pipe -fstack-protector -I/usr/local/include -D_FORTIFY_SOURCE=2',
    optimize='-O2 -pipe',
    cppflags='-DHAS_FPSETMASK -DHAS_FLOATINGPOINT_H -fno-strict-aliasing -pipe -fstack-protector -I/usr/local/include'
    ccversion='', gccversion='4.2.1 Compatible FreeBSD Clang 3.4.1 (tags/RELEASE_34/dot1-final 208032)', gccosandvers=''
    intsize=4, longsize=8, ptrsize=8, doublesize=8, byteorder=12345678, doublekind=3
    d_longlong=define, longlongsize=8, d_longdbl=define, longdblsize=16, longdblkind=3
    ivtype='long', ivsize=8, nvtype='double', nvsize=8, Off_t='off_t', lseeksize=8
    alignbytes=8, prototype=define
  Linker and Libraries:
    ld='cc', ldflags ='-pthread -Wl,-E  -fstack-protector -L/usr/local/lib'
    libpth=/usr/lib /usr/local/lib /usr/include/clang/3.4.1 /usr/lib
    libs=-lpthread -lgdbm -lm -lcrypt -lutil
    perllibs=-lpthread -lm -lcrypt -lutil
    libc=, so=so, useshrplib=false, libperl=libperl.a
    gnulibc_version=''
  Dynamic Linking:
    dlsrc=dl_dlopen.xs, dlext=so, d_dlsymun=undef, ccdlflags=' '
    cccdlflags='-DPIC -fPIC', lddlflags='-shared  -L/usr/local/lib -fstack-protector'


Characteristics of this binary (from libperl): 
  Compile-time options: HAS_TIMES MULTIPLICITY PERLIO_LAYERS
                        PERL_DONT_CREATE_GVSV
                        PERL_HASH_FUNC_ONE_AT_A_TIME_HARD
                        PERL_IMPLICIT_CONTEXT PERL_MALLOC_WRAP
                        PERL_NEW_COPY_ON_WRITE PERL_PRESERVE_IVUV
                        USE_64_BIT_ALL USE_64_BIT_INT USE_ITHREADS
                        USE_LARGE_FILES USE_LOCALE USE_LOCALE_COLLATE
                        USE_LOCALE_CTYPE USE_LOCALE_NUMERIC USE_LOCALE_TIME
                        USE_PERLIO USE_PERL_ATOF USE_REENTRANT_API
  Built under freebsd
  Compiled at Jun 18 2016 12:32:50
  %ENV:
    PERL5LIB="/home/cpansand/.cpan/build/2022052407/DBIx-Class-Schema-ResultSetNames-1.03-KfPRbK/blib/arch:/home/cpansand/.cpan/build/2022052407/DBIx-Class-Schema-ResultSetNames-1.03-KfPRbK/blib/lib:/home/cpansand/.cpan/build/2022052407/curry-2.000001-zR0bCb/blib/arch:/home/cpansand/.cpan/build/2022052407/curry-2.000001-zR0bCb/blib/lib"
    PERL5OPT=""
    PERL5_CPANPLUS_IS_RUNNING="62632"
    PERL5_CPAN_IS_RUNNING="62632"
    PERL5_CPAN_IS_RUNNING_IN_RECURSION="60268,62632"
    PERLDOC="-MPod::Perldoc::ToTextOverstrike"
    PERL_BATCH="yes"
    PERL_CANARY_STABILITY_NOPROMPT="1"
    PERL_CPAN_REPORTER_CONFIG="/var/tmp/cpansmoker-1023/2022052407/cpanreporter_000_config.ini"
    PERL_EXTUTILS_AUTOINSTALL="--defaultdeps"
  @INC:
    /home/cpansand/.cpan/build/2022052407/DBIx-Class-Schema-ResultSetNames-1.03-KfPRbK/blib/arch
    /home/cpansand/.cpan/build/2022052407/DBIx-Class-Schema-ResultSetNames-1.03-KfPRbK/blib/lib
    /home/cpansand/.cpan/build/2022052407/curry-2.000001-zR0bCb/blib/arch
    /home/cpansand/.cpan/build/2022052407/curry-2.000001-zR0bCb/blib/lib
    /usr/perl5.22.2t/lib/site_perl/5.22.2/amd64-freebsd-thread-multi
    /usr/perl5.22.2t/lib/site_perl/5.22.2
    /usr/perl5.22.2t/lib/5.22.2/amd64-freebsd-thread-multi
    /usr/perl5.22.2t/lib/5.22.2
    .