App-perlimports v0.000051 Perl 5 v5.37.12 darwin-2level
- Status
- Pass
- From
- David Cantrell (DCANTRELL)
- Dist
-
App-perlimports v0.000051
- Platform
- Perl 5 v5.37.12 darwin-2level
- Date
- 2023-06-02 04:25:57
- ID
- 923469fa-00fd-11ee-98f9-617279f38d86
This distribution has been tested as part of the CPAN Testers
project, supporting the Perl programming language. See
http://wiki.cpantesters.org/ for more information or email
questions to cpan-testers-discuss@perl.org
--
Dear Olaf Alders,
This is a computer-generated report for App-perlimports-0.000051
on perl 5.37.12, created by CPAN-Reporter-1.2019.
Thank you for uploading your work to CPAN. Congratulations!
All tests were successful.
Sections of this report:
* Tester comments
* Program output
* Prerequisites
* Environment and other context
------------------------------
TESTER COMMENTS
------------------------------
Additional comments from tester:
this report is from an automated smoke testing program
and was not reviewed by a human for accuracy
------------------------------
PROGRAM OUTPUT
------------------------------
Output from '/usr/bin/make test':
PERL_DL_NONLAZY=1 "/Users/cpantesting/cpantesting/perl-blead/bin/perl5.37.12" "-MExtUtils::Command::MM" "-MTest::Harness" "-e" "undef *Test::Harness::Switches; test_harness(0, 'blib/lib', 'blib/arch')" t/*.t t/ExportInspector/*.t t/cpan-modules/*.t
#
# Versions for all modules listed in MYMETA.json (including optional ones):
#
# === Configure Requires ===
#
# Module Want Have
# ------------------- ------- --------
# ExtUtils::MakeMaker any 7.70
# perl v5.10.0 5.037012
#
# === Build Requires ===
#
# Module Want Have
# ------------------- ---- ----
# ExtUtils::MakeMaker any 7.70
#
# === Test Requires ===
#
# Module Want Have
# ---------------------- ------- --------
# ExtUtils::MakeMaker any 7.70
# File::Spec any 3.88
# File::pushd any 1.016
# Log::Dispatch::Array any 1.005
# PPI::Dumper any 1.276
# Sub::Exporter any 0.989
# Test::Differences any 0.69
# Test::Fatal any 0.017
# Test::More any 1.302194
# Test::Needs any 0.002010
# Test::RequiresInternet any 0.05
# Test::Script 1.29 1.29
# Test::Warnings any 0.031
# lib any 0.65
# perl v5.18.0 5.037012
#
# === Test Recommends ===
#
# Module Want Have
# ---------- -------- --------
# CPAN::Meta 2.120900 2.150010
#
# === Runtime Requires ===
#
# Module Want Have
# ---------------------------- -------- --------
# Capture::Tiny any 0.48
# Class::Inspector 1.36 1.36
# Cpanel::JSON::XS any 4.36
# Data::Dumper any 2.188
# Data::UUID any 1.226
# File::Basename any 2.86
# File::XDG 1.01 1.02
# Getopt::Long::Descriptive any 0.111
# List::Util any 1.63
# Log::Dispatch 2.70 2.71
# Memoize any 1.16
# Module::Runtime any 0.016
# Moo any 2.005005
# Moo::Role any 2.005005
# MooX::StrictConstructor any 0.011
# PPI 1.276 1.276
# PPI::Document any 1.276
# PPIx::Utils::Classification any 0.003
# Path::Iterator::Rule any 1.015
# Path::Tiny any 0.144
# Perl::Tidy 20220613 20230309
# Pod::Usage any 2.03
# Ref::Util any 0.204
# Sereal::Decoder any 5.004
# Sereal::Encoder any 5.004
# Sub::HandlesVia any 0.050000
# Symbol::Get 0.10 0.10
# TOML::Tiny 0.16 0.16
# Text::Diff any 1.45
# Text::SimpleTable::AutoWidth any 0.09
# Try::Tiny any 0.31
# Types::Standard any 2.004000
# feature any 1.82
# perl 5.018000 5.037012
# strict any 1.12
# utf8 any 1.25
# warnings any 1.64
#
t/00-report-prereqs.t ............ ok
t/after.t ........................ skipped: Need List::AllUtils
t/annotations.t .................. ok
t/args-in-import.t ............... ok
t/builtin.t ...................... ok
t/carp.t ......................... ok
t/cast-in-regex.t ................ ok
t/cast.t ......................... skipped: Need Mojo::Util
t/cli-args.t ..................... ok
t/cli.t .......................... ok
t/config-in-import.t ............. ok
t/Config.t ....................... ok
t/cpan-modules/pithub.t .......... skipped: Need Pithub
t/cpan-modules/test2-v0.t ........ ok
t/datetime.t ..................... ok
t/do-block.t ..................... ok
t/Document.t ..................... ok
t/dump-perl-exports.t ............ ok
t/dupes.t ........................ ok
t/english.t ...................... ok
t/explodes.t ..................... ok
t/export-tags.t .................. ok
t/exported-variables.t ........... ok
t/ExportInspector/load.t ......... ok
t/ExportInspector/SubExporter.t .. skipped: Need MetaCPAN::Moose, MooseX::Types::Path::Class
t/find-bin.t ..................... ok
t/fully-qualified.t .............. ok
t/func-in-use.t .................. ok
t/func-in-var.t .................. skipped: Need Mojo::Util
t/geo-ip.t ....................... skipped: Need Geo::IP
t/hash-in-regex.t ................ ok
t/hash-key.t ..................... ok
t/heredoc.t ...................... ok
t/ignored-modules.t .............. skipped: Need Geo::IP
t/import-error.t ................. ok
t/interpolation.t ................ ok
t/is-ignored.t ................... ok
t/lookalike-words.t .............. ok
t/memoize.t ...................... skipped: Need MooseX::Types::UUID, UUID
t/meta.t ......................... ok
t/method.t ....................... ok
t/missing-semicolon-in-import.t .. ok
t/module-with-inner-packages.t ... ok
t/moo.t .......................... ok
t/moose-types.t .................. skipped: Need MooseX::Types::Path::Class
t/moose.t ........................ ok
t/moosex-types-moose.t ........... ok
t/nested-quotes.t ................ ok
t/never-exports.t ................ ok
t/original-imports.t ............. ok
t/padding.t ...................... ok
t/perl-imports.t ................. ok
t/perl.t ......................... ok
t/perlimports.t .................. ok
t/pragma.t ....................... ok
t/preserve-some-padding.t ........ ok
t/preserve-spaces.t .............. ok
t/qualified-bareword.t ........... ok
t/quoted-var.t ................... ok
t/re-export-via-sub-exporter.t ... ok
t/regex-replacement.t ............ skipped: Need IP::Random 1.200230
t/require.t ...................... ok
t/respace-include.t .............. ok
t/Sandbox.t ...................... ok
t/script-with-inner-packages.t ... ok
t/signatures.t ................... ok
t/skip-all.t ..................... skipped: Test is broken
t/socket.t ....................... ok
t/sort-imports.t ................. ok
t/switches-in-import.t ........... ok
t/symbol-as-method-call.t ........ skipped: Need HTML::TableExtract, Object::Tap
t/symbol-in-export.t ............. ok
t/test-builder.t ................. skipped: Need Test::HTML::Lint
t/test-most.t .................... ok
t/typeglob.t ..................... ok
t/unnest-quotes.t ................ ok
t/use-and-require.t .............. ok
t/var-in-hash-key.t .............. ok
t/var-in-regex.t ................. ok
t/variable.t ..................... ok
t/warning.t ...................... skipped: Need Mojo::URL
t/with-version.t ................. ok
All tests successful.
Files=82, Tests=189, 345 wallclock secs ( 0.69 usr 0.60 sys + 187.22 cusr 27.33 csys = 215.84 CPU)
Result: PASS
------------------------------
PREREQUISITES
------------------------------
Prerequisite modules loaded:
requires:
Module Need Have
---------------------------- -------- --------
Capture::Tiny 0 0.48
Class::Inspector 1.36 1.36
Cpanel::JSON::XS 0 4.36
Data::Dumper 0 2.188
Data::UUID 0 1.226
feature 0 1.82
File::Basename 0 2.86
File::XDG 1.01 1.02
Getopt::Long::Descriptive 0 0.111
List::Util 0 1.63
Log::Dispatch 2.70 2.71
Memoize 0 1.16
Module::Runtime 0 0.016
Moo 0 2.005005
Moo::Role 0 2.005005
MooX::StrictConstructor 0 0.011
Path::Iterator::Rule 0 1.015
Path::Tiny 0 0.144
perl 5.018000 5.037012
Perl::Tidy 20220613 20230309
Pod::Usage 0 2.03
PPI 1.276 1.276
PPI::Document 0 1.276
PPIx::Utils::Classification 0 0.003
Ref::Util 0 0.204
Sereal::Decoder 0 5.004
Sereal::Encoder 0 5.004
strict 0 1.12
Sub::HandlesVia 0 0.050000
Symbol::Get 0.10 0.10
Text::Diff 0 1.45
Text::SimpleTable::AutoWidth 0 0.09
TOML::Tiny 0.16 0.16
Try::Tiny 0 0.31
Types::Standard 0 2.004000
utf8 0 1.25
warnings 0 1.64
build_requires:
Module Need Have
---------------------------- -------- --------
ExtUtils::MakeMaker 0 7.70
File::pushd 0 1.016
File::Spec 0 3.88
lib 0 0.65
Log::Dispatch::Array 0 1.005
PPI::Dumper 0 1.276
Sub::Exporter 0 0.989
Test::Differences 0 0.69
Test::Fatal 0 0.017
Test::More 0 1.302194
Test::Needs 0 0.002010
Test::RequiresInternet 0 0.05
Test::Script 1.29 1.29
Test::Warnings 0 0.031
configure_requires:
Module Need Have
---------------------------- -------- --------
ExtUtils::MakeMaker 0 7.70
perl v5.10.0 5.037012
opt_build_requires:
Module Need Have
---------------------------- -------- --------
CPAN::Meta 2.120900 2.150010
------------------------------
ENVIRONMENT AND OTHER CONTEXT
------------------------------
Environment variables:
AUTOMATED_TESTING = 1
NONINTERACTIVE_TESTING = 1
PATH = /Users/cpantesting/perl5/perlbrew/bin:/Users/cpantesting/perl5/perlbrew/perls/perl-5.32.0/bin:/usr/local/bin:/usr/bin:/bin:/usr/sbin:/sbin:/Library/Apple/usr/bin:/Users/cpantesting/.cargo/bin
PERL = blead
PERL5LIB =
PERL5OPT =
PERL5_CPANPLUS_IS_RUNNING = 68887
PERL5_CPAN_IS_RUNNING = 68887
PERLBREW_HOME = /Users/cpantesting/.perlbrew
PERLBREW_MANPATH = /Users/cpantesting/perl5/perlbrew/perls/perl-5.32.0/man
PERLBREW_PATH = /Users/cpantesting/perl5/perlbrew/bin:/Users/cpantesting/perl5/perlbrew/perls/perl-5.32.0/bin
PERLBREW_PERL = perl-5.32.0
PERLBREW_ROOT = /Users/cpantesting/perl5/perlbrew
PERLBREW_SHELLRC_VERSION = 0.94
PERLBREW_VERSION = 0.94
PERLVER = blead
PERL_INLINE_DIRECTORY = /Users/cpantesting/.Inline-blead
PERL_MM_USE_DEFAULT = 1
PERL_USE_UNSAFE_INC = 0
SHELL = /bin/bash
TERM = screen
Perl special variables (and OS-specific diagnostics, for MSWin32):
$^X = /Users/cpantesting/cpantesting/perl-blead/bin/perl5.37.12
$UID/$EUID = 503 / 503
$GID = 20 20 12 61 703 702 701 100
$EGID = 20 20 12 61 703 702 701 100
Perl module toolchain versions installed:
Module Have
------------------- --------
CPAN 2.36
CPAN::Meta 2.150010
Cwd 3.89
ExtUtils::CBuilder 0.280238
ExtUtils::Command 7.70
ExtUtils::Install 2.22
ExtUtils::MakeMaker 7.70
ExtUtils::Manifest 1.73
ExtUtils::ParseXS 3.51
File::Spec 3.88
JSON 4.10
JSON::PP 4.16
Module::Build 0.4234
Module::Signature n/a
Parse::CPAN::Meta 2.150010
Test2 1.302194
Test::Harness 3.45_02
Test::More 1.302194
YAML 1.30
YAML::Syck 1.34
version 0.9929
--
Summary of my perl5 (revision 5 version 37 subversion 12) configuration:
Commit id: 51ccdf4c0e607490a3b5deea2e98272df38b396f
Platform:
osname=darwin
osvers=21.6.0
archname=darwin-2level
uname='darwin harrow.local 21.6.0 darwin kernel version 21.6.0: mon aug 22 20:17:10 pdt 2022; root:xnu-8020.140.49~2release_x86_64 x86_64 '
config_args='-de -Dprefix=/Users/cpantesting/cpantesting/perl-blead -Dusedevel'
hint=recommended
useposix=true
d_sigaction=define
useithreads=undef
usemultiplicity=undef
use64bitint=define
use64bitall=define
uselongdouble=undef
usemymalloc=n
default_inc_excludes_dot=define
Compiler:
cc='cc'
ccflags ='-fno-common -DPERL_DARWIN -mmacosx-version-min=12.6 -DNO_POSIX_2008_LOCALE -fno-strict-aliasing -pipe -fstack-protector-strong -I/usr/local/include'
optimize='-O3'
cppflags='-fno-common -DPERL_DARWIN -mmacosx-version-min=12.6 -DNO_POSIX_2008_LOCALE -fno-strict-aliasing -pipe -fstack-protector-strong -I/usr/local/include'
ccversion=''
gccversion='Apple LLVM 14.0.0 (clang-1400.0.29.202)'
gccosandvers=''
intsize=4
longsize=8
ptrsize=8
doublesize=8
byteorder=12345678
doublekind=3
d_longlong=define
longlongsize=8
d_longdbl=define
longdblsize=16
longdblkind=3
ivtype='long'
ivsize=8
nvtype='double'
nvsize=8
Off_t='off_t'
lseeksize=8
alignbytes=8
prototype=define
Linker and Libraries:
ld='cc'
ldflags =' -mmacosx-version-min=12.6 -fstack-protector-strong -L/usr/local/lib'
libpth=/usr/local/lib /Applications/Xcode.app/Contents/Developer/Toolchains/XcodeDefault.xctoolchain/usr/lib/clang/14.0.0/lib /Applications/Xcode.app/Contents/Developer/Platforms/MacOSX.platform/Developer/SDKs/MacOSX.sdk/usr/lib /Applications/Xcode.app/Contents/Developer/Toolchains/XcodeDefault.xctoolchain/usr/lib /usr/lib
libs=-lgdbm
perllibs=
libc=
so=dylib
useshrplib=false
libperl=libperl.a
gnulibc_version=''
Dynamic Linking:
dlsrc=dl_dlopen.xs
dlext=bundle
d_dlsymun=undef
ccdlflags=' '
cccdlflags=' '
lddlflags=' -mmacosx-version-min=12.6 -bundle -undefined dynamic_lookup -L/usr/local/lib -fstack-protector-strong'
Characteristics of this binary (from libperl):
Compile-time options:
HAS_LONG_DOUBLE
HAS_STRTOLD
HAS_TIMES
PERLIO_LAYERS
PERL_COPY_ON_WRITE
PERL_DONT_CREATE_GVSV
PERL_HASH_FUNC_SIPHASH13
PERL_HASH_USE_SBOX32
PERL_MALLOC_WRAP
PERL_OP_PARENT
PERL_PRESERVE_IVUV
PERL_USE_DEVEL
PERL_USE_SAFE_PUTENV
USE_64_BIT_ALL
USE_64_BIT_INT
USE_LARGE_FILES
USE_LOCALE
USE_LOCALE_COLLATE
USE_LOCALE_CTYPE
USE_LOCALE_NUMERIC
USE_LOCALE_TIME
USE_PERLIO
USE_PERL_ATOF
Built under darwin
Compiled at May 29 2023 15:07:05
%ENV:
PERL="blead"
PERL5LIB=""
PERL5OPT=""
PERL5_CPANPLUS_IS_RUNNING="68887"
PERL5_CPAN_IS_RUNNING="68887"
PERLBREW_HOME="/Users/cpantesting/.perlbrew"
PERLBREW_MANPATH="/Users/cpantesting/perl5/perlbrew/perls/perl-5.32.0/man"
PERLBREW_PATH="/Users/cpantesting/perl5/perlbrew/bin:/Users/cpantesting/perl5/perlbrew/perls/perl-5.32.0/bin"
PERLBREW_PERL="perl-5.32.0"
PERLBREW_ROOT="/Users/cpantesting/perl5/perlbrew"
PERLBREW_SHELLRC_VERSION="0.94"
PERLBREW_VERSION="0.94"
PERLVER="blead"
PERL_INLINE_DIRECTORY="/Users/cpantesting/.Inline-blead"
PERL_MM_USE_DEFAULT="1"
PERL_USE_UNSAFE_INC="0"
@INC:
/Users/cpantesting/cpantesting/perl-blead/lib/site_perl/5.37.12/darwin-2level
/Users/cpantesting/cpantesting/perl-blead/lib/site_perl/5.37.12
/Users/cpantesting/cpantesting/perl-blead/lib/5.37.12/darwin-2level
/Users/cpantesting/cpantesting/perl-blead/lib/5.37.12