Encode v3.19 Perl 5 v5.34.1 MSWin32-x86-multi-thread-64int

Status
Pass
From
twata
Dist
Encode v3.19
Platform
Perl 5 v5.34.1 MSWin32-x86-multi-thread-64int
Date
2023-05-31 14:25:36
ID
9233a93f-6db2-1014-8029-7acde3396204
This distribution has been tested as part of the CPAN Testers
project, supporting the Perl programming language.  See
http://wiki.cpantesters.org/ for more information or email
questions to cpan-testers-discuss@perl.org


--
Dear Dan Kogai,

This is a computer-generated report for Encode-3.19
on perl 5.34.1, created by CPAN-Reporter-1.2019.

Thank you for uploading your work to CPAN.  Congratulations!
All tests were successful.

Sections of this report:

    * Tester comments
    * Program output
    * Prerequisites
    * Environment and other context

------------------------------
TESTER COMMENTS
------------------------------

Additional comments from tester:

none provided

------------------------------
PROGRAM OUTPUT
------------------------------

Output from '"C:\Program Files\Microsoft Visual Studio 12.0\VC\BIN\nmake.EXE" test':


Microsoft (R) Program Maintenance Utility Version 12.00.21005.1
Copyright (C) Microsoft Corporation.  All rights reserved.

	"C:\perl32\bin\perl.exe" -MExtUtils::Command::MM -e cp_nonempty -- Encode.bs blib\arch\auto\Encode\Encode.bs 644
	nmake -f Makefile all -nologo LIBPERL_A="libperl.lib" LINKTYPE="dynamic" OPTIMIZE="-O1 -Zi -GL" PREFIX="C:\home\earth1\perl5" INSTALL_BASE="C:\home\earth1\perl5" PASTHRU_DEFINE=" " PASTHRU_INC="-IEncode "
	"C:\perl32\bin\perl.exe" -MExtUtils::Command::MM -e cp_nonempty -- Byte.bs ..\blib\arch\auto\Encode\Byte\Byte.bs 644
	cd ..
	nmake -f Makefile all -nologo LIBPERL_A="libperl.lib" LINKTYPE="dynamic" OPTIMIZE="-O1 -Zi -GL" PREFIX="C:\home\earth1\perl5" INSTALL_BASE="C:\home\earth1\perl5" PASTHRU_DEFINE=" " PASTHRU_INC="-IEncode "
	"C:\perl32\bin\perl.exe" -MExtUtils::Command::MM -e cp_nonempty -- CN.bs ..\blib\arch\auto\Encode\CN\CN.bs 644
	cd ..
	nmake -f Makefile all -nologo LIBPERL_A="libperl.lib" LINKTYPE="dynamic" OPTIMIZE="-O1 -Zi -GL" PREFIX="C:\home\earth1\perl5" INSTALL_BASE="C:\home\earth1\perl5" PASTHRU_DEFINE=" " PASTHRU_INC="-IEncode "
	"C:\perl32\bin\perl.exe" -MExtUtils::Command::MM -e cp_nonempty -- EBCDIC.bs ..\blib\arch\auto\Encode\EBCDIC\EBCDIC.bs 644
	cd ..
	nmake -f Makefile all -nologo LIBPERL_A="libperl.lib" LINKTYPE="dynamic" OPTIMIZE="-O1 -Zi -GL" PREFIX="C:\home\earth1\perl5" INSTALL_BASE="C:\home\earth1\perl5" PASTHRU_DEFINE=" " PASTHRU_INC="-IEncode "
	"C:\perl32\bin\perl.exe" -MExtUtils::Command::MM -e cp_nonempty -- JP.bs ..\blib\arch\auto\Encode\JP\JP.bs 644
	cd ..
	nmake -f Makefile all -nologo LIBPERL_A="libperl.lib" LINKTYPE="dynamic" OPTIMIZE="-O1 -Zi -GL" PREFIX="C:\home\earth1\perl5" INSTALL_BASE="C:\home\earth1\perl5" PASTHRU_DEFINE=" " PASTHRU_INC="-IEncode "
	"C:\perl32\bin\perl.exe" -MExtUtils::Command::MM -e cp_nonempty -- KR.bs ..\blib\arch\auto\Encode\KR\KR.bs 644
	cd ..
	nmake -f Makefile all -nologo LIBPERL_A="libperl.lib" LINKTYPE="dynamic" OPTIMIZE="-O1 -Zi -GL" PREFIX="C:\home\earth1\perl5" INSTALL_BASE="C:\home\earth1\perl5" PASTHRU_DEFINE=" " PASTHRU_INC="-IEncode "
	"C:\perl32\bin\perl.exe" -MExtUtils::Command::MM -e cp_nonempty -- Symbol.bs ..\blib\arch\auto\Encode\Symbol\Symbol.bs 644
	cd ..
	nmake -f Makefile all -nologo LIBPERL_A="libperl.lib" LINKTYPE="dynamic" OPTIMIZE="-O1 -Zi -GL" PREFIX="C:\home\earth1\perl5" INSTALL_BASE="C:\home\earth1\perl5" PASTHRU_DEFINE=" " PASTHRU_INC="-IEncode "
	"C:\perl32\bin\perl.exe" -MExtUtils::Command::MM -e cp_nonempty -- TW.bs ..\blib\arch\auto\Encode\TW\TW.bs 644
	cd ..
	nmake -f Makefile all -nologo LIBPERL_A="libperl.lib" LINKTYPE="dynamic" OPTIMIZE="-O1 -Zi -GL" PREFIX="C:\home\earth1\perl5" INSTALL_BASE="C:\home\earth1\perl5" PASTHRU_DEFINE=" " PASTHRU_INC="-IEncode "
	"C:\perl32\bin\perl.exe" -MExtUtils::Command::MM -e cp_nonempty -- Unicode.bs ..\blib\arch\auto\Encode\Unicode\Unicode.bs 644
	cd ..
	nmake test_dynamic -nologo LIBPERL_A="libperl.lib" LINKTYPE="dynamic" OPTIMIZE="-O1 -Zi -GL" PREFIX="C:\home\earth1\perl5" INSTALL_BASE="C:\home\earth1\perl5" PASTHRU_DEFINE=" " PASTHRU_INC="-IEncode "
	"C:\perl32\bin\perl.exe" -MExtUtils::Command::MM -e cp_nonempty -- Byte.bs ..\blib\arch\auto\Encode\Byte\Byte.bs 644
'No tests defined for Encode::Byte extension.'
	cd ..
	nmake test_dynamic -nologo LIBPERL_A="libperl.lib" LINKTYPE="dynamic" OPTIMIZE="-O1 -Zi -GL" PREFIX="C:\home\earth1\perl5" INSTALL_BASE="C:\home\earth1\perl5" PASTHRU_DEFINE=" " PASTHRU_INC="-IEncode "
	"C:\perl32\bin\perl.exe" -MExtUtils::Command::MM -e cp_nonempty -- CN.bs ..\blib\arch\auto\Encode\CN\CN.bs 644
'No tests defined for Encode::CN extension.'
	cd ..
	nmake test_dynamic -nologo LIBPERL_A="libperl.lib" LINKTYPE="dynamic" OPTIMIZE="-O1 -Zi -GL" PREFIX="C:\home\earth1\perl5" INSTALL_BASE="C:\home\earth1\perl5" PASTHRU_DEFINE=" " PASTHRU_INC="-IEncode "
	"C:\perl32\bin\perl.exe" -MExtUtils::Command::MM -e cp_nonempty -- EBCDIC.bs ..\blib\arch\auto\Encode\EBCDIC\EBCDIC.bs 644
'No tests defined for Encode::EBCDIC extension.'
	cd ..
	nmake test_dynamic -nologo LIBPERL_A="libperl.lib" LINKTYPE="dynamic" OPTIMIZE="-O1 -Zi -GL" PREFIX="C:\home\earth1\perl5" INSTALL_BASE="C:\home\earth1\perl5" PASTHRU_DEFINE=" " PASTHRU_INC="-IEncode "
	"C:\perl32\bin\perl.exe" -MExtUtils::Command::MM -e cp_nonempty -- JP.bs ..\blib\arch\auto\Encode\JP\JP.bs 644
'No tests defined for Encode::JP extension.'
	cd ..
	nmake test_dynamic -nologo LIBPERL_A="libperl.lib" LINKTYPE="dynamic" OPTIMIZE="-O1 -Zi -GL" PREFIX="C:\home\earth1\perl5" INSTALL_BASE="C:\home\earth1\perl5" PASTHRU_DEFINE=" " PASTHRU_INC="-IEncode "
	"C:\perl32\bin\perl.exe" -MExtUtils::Command::MM -e cp_nonempty -- KR.bs ..\blib\arch\auto\Encode\KR\KR.bs 644
'No tests defined for Encode::KR extension.'
	cd ..
	nmake test_dynamic -nologo LIBPERL_A="libperl.lib" LINKTYPE="dynamic" OPTIMIZE="-O1 -Zi -GL" PREFIX="C:\home\earth1\perl5" INSTALL_BASE="C:\home\earth1\perl5" PASTHRU_DEFINE=" " PASTHRU_INC="-IEncode "
	"C:\perl32\bin\perl.exe" -MExtUtils::Command::MM -e cp_nonempty -- Symbol.bs ..\blib\arch\auto\Encode\Symbol\Symbol.bs 644
'No tests defined for Encode::Symbol extension.'
	cd ..
	nmake test_dynamic -nologo LIBPERL_A="libperl.lib" LINKTYPE="dynamic" OPTIMIZE="-O1 -Zi -GL" PREFIX="C:\home\earth1\perl5" INSTALL_BASE="C:\home\earth1\perl5" PASTHRU_DEFINE=" " PASTHRU_INC="-IEncode "
	"C:\perl32\bin\perl.exe" -MExtUtils::Command::MM -e cp_nonempty -- TW.bs ..\blib\arch\auto\Encode\TW\TW.bs 644
'No tests defined for Encode::TW extension.'
	cd ..
	nmake test_dynamic -nologo LIBPERL_A="libperl.lib" LINKTYPE="dynamic" OPTIMIZE="-O1 -Zi -GL" PREFIX="C:\home\earth1\perl5" INSTALL_BASE="C:\home\earth1\perl5" PASTHRU_DEFINE=" " PASTHRU_INC="-IEncode "
	"C:\perl32\bin\perl.exe" -MExtUtils::Command::MM -e cp_nonempty -- Unicode.bs ..\blib\arch\auto\Encode\Unicode\Unicode.bs 644
'No tests defined for Encode::Unicode extension.'
	cd ..
	"C:\perl32\bin\perl.exe" "-MExtUtils::Command::MM" "-MTest::Harness" "-e" "undef *Test::Harness::Switches; test_harness(0, 'blib\lib', 'blib\arch')" t\*.t
t\Aliases.t ................ ok
t\at-cn.t .................. ok
t\at-tw.t .................. ok
t\CJKT.t ................... ok
t\cow.t .................... ok
t\decode.t ................. ok
t\enc_data.t ............... skipped: encoding pragma not supported in Perl 5.25 or later
t\enc_eucjp.t .............. skipped: Perl <=5.25.2 or cperl required
t\enc_module.t ............. skipped: encoding pragma not supported in Perl 5.25 or later
t\enc_utf8.t ............... skipped: Perl <=5.25.2 or cperl required
t\Encode.t ................. ok
t\Encoder.t ................ ok
t\encoding-locale.t ........ ok
t\encoding.t ............... skipped: encoding pragma not supported in Perl 5.25 or later
t\fallback.t ............... ok
t\from_to.t ................ ok
t\grow.t ................... ok
t\gsm0338.t ................ ok
t\guess.t .................. ok
t\isa.t .................... ok
t\jis7-fallback.t .......... ok
t\jperl.t .................. skipped: encoding pragma not supported in Perl 5.25 or later
t\magic.t .................. ok
t\mime-header.t ............ ok
t\mime-name.t .............. ok
t\mime_header_iso2022jp.t .. ok
t\perlio.t ................. ok
t\piconv.t ................. skipped: Win32 environments require IPC::Run 0.83 to complete this test
t\rt113164.t ............... ok
t\rt65541.t ................ ok
t\rt76824.t ................ ok
t\rt85489.t ................ ok
t\rt86327.t ................ ok
t\taint.t .................. ok
t\truncated_utf8.t ......... ok
t\undef.t .................. ok
t\Unicode.t ................ ok
t\Unicode_trailing_nul.t ... ok
t\use-Encode-Alias.t ....... ok
t\utf32warnings.t .......... ok
t\utf8ref.t ................ ok
t\utf8strict.t ............. ok
t\utf8warnings.t ........... ok
t\whatwg-aliases.t ......... skipped: For maintainers only
t\xml.t .................... ok
All tests successful.
Files=45, Tests=7764, 22 wallclock secs ( 1.17 usr +  0.53 sys =  1.70 CPU)
Result: PASS

------------------------------
PREREQUISITES
------------------------------

Prerequisite modules loaded:

requires:

    Module              Need  Have    
    ------------------- ----- --------
    Exporter            5.57  5.76    
    parent              0.221 0.238   
    Storable            0     3.23    

build_requires:

    Module              Need  Have    
    ------------------- ----- --------
    ExtUtils::MakeMaker 0     7.62    
    Test::More          0.92  1.302183

configure_requires:

    Module              Need  Have    
    ------------------- ----- --------
    ExtUtils::MakeMaker 0     7.62    


------------------------------
ENVIRONMENT AND OTHER CONTEXT
------------------------------

Environment variables:

    COMSPEC = C:\windows\system32\cmd.exe
    INCLUDE = C:\Program Files\Microsoft Visual Studio 12.0\VC\INCLUDE;C:\Program Files\Microsoft Visual Studio 12.0\VC\ATLMFC\INCLUDE;C:\Program Files\Windows Kits\8.1\include\shared;C:\Program Files\Windows Kits\8.1\include\um;C:\Program Files\Windows Kits\8.1\include\winrt;;C:\perl64\local\include
    LC_ALL = C
    LIB = C:\Program Files\Microsoft Visual Studio 12.0\VC\LIB;C:\Program Files\Microsoft Visual Studio 12.0\VC\ATLMFC\LIB;C:\Program Files\Windows Kits\8.1\lib\winv6.3\um\x86;
    NONINTERACTIVE_TESTING = 1
    NUMBER_OF_PROCESSORS = 4
    PATH = C:\home\earth1\perl5\bin;C:\perl32\bin;C:\build-openssl\bin;C:\Program Files\Microsoft Visual Studio 12.0\Common7\IDE\CommonExtensions\Microsoft\TestWindow;C:\Program Files\Microsoft SDKs\F#\3.1\Framework\v4.0\;C:\Program Files\MSBuild\12.0\bin;C:\Program Files\Microsoft Visual Studio 12.0\Common7\IDE\;C:\Program Files\Microsoft Visual Studio 12.0\VC\BIN;C:\Program Files\Microsoft Visual Studio 12.0\Common7\Tools;C:\windows\Microsoft.NET\Framework\v4.0.30319;C:\Program Files\Microsoft Visual Studio 12.0\VC\VCPackages;C:\Program Files\HTML Help Workshop;C:\Program Files\Microsoft Visual Studio 12.0\Team Tools\Performance Tools;C:\Program Files\Windows Kits\8.1\bin\x86;C:\Program Files\Microsoft SDKs\Windows\v8.1A\bin\NETFX 4.5.1 Tools\;C:\Windows\System32;C:\Windows;C:\Windows\System32\Wbem;C:\windows\System32\WindowsPowerShell\v1.0\
    PERL5LIB = C:\home\earth1\perl5\lib\perl5
    PERL5OPT = 
    PERL5_CPANPLUS_IS_RUNNING = 3016
    PERL5_CPAN_IS_RUNNING = 3016
    PERL_LOCAL_LIB_ROOT = C:\home\earth1\perl5
    PERL_MB_OPT = --install_base "C:\\home\\earth1\\perl5"
    PERL_MM_OPT = INSTALL_BASE=C:\\home\\earth1\\perl5
    PERL_MM_USE_DEFAULT = 1
    PERL_USE_UNSAFE_INC = 1
    PROCESSOR_IDENTIFIER = x86 Family 6 Model 37 Stepping 5, GenuineIntel
    TEMP = C:\Users\user\AppData\Local\Temp
    TERM = dumb

Perl special variables (and OS-specific diagnostics, for MSWin32):

    $^X = C:\perl32\bin\perl.exe
    $UID/$EUID = 0 / 0
    $GID = 0
    $EGID = 0
    Win32::GetOSName = Win7
    Win32::GetOSVersion = Service Pack 1, 6, 1, 7601, 2, 1, 0, 256, 1
    Win32::FsType = NTFS
    Win32::IsAdminUser = 0

Perl module toolchain versions installed:

    Module              Have    
    ------------------- --------
    CPAN                2.28    
    CPAN::Meta          2.150010
    Cwd                 3.80    
    ExtUtils::CBuilder  0.280236
    ExtUtils::Command   7.62    
    ExtUtils::Install   2.20    
    ExtUtils::MakeMaker 7.62    
    ExtUtils::Manifest  1.73    
    ExtUtils::ParseXS   3.43    
    File::Spec          3.80    
    JSON                4.10    
    JSON::PP            4.06    
    Module::Build       0.4234  
    Module::Signature   n/a     
    Parse::CPAN::Meta   2.150010
    Test2               1.302183
    Test::Harness       3.43    
    Test::More          1.302183
    YAML                n/a     
    YAML::Syck          n/a     
    version             0.9928  


--

Summary of my perl5 (revision 5 version 34 subversion 1) configuration:
   
  Platform:
    osname=MSWin32
    osvers=6.1.7601
    archname=MSWin32-x86-multi-thread-64int
    uname=''
    config_args='undef'
    hint=recommended
    useposix=true
    d_sigaction=undef
    useithreads=define
    usemultiplicity=define
    use64bitint=define
    use64bitall=undef
    uselongdouble=undef
    usemymalloc=n
    default_inc_excludes_dot=define
  Compiler:
    cc='cl'
    ccflags ='-nologo -GF -W3 -MD -DWIN32 -D_CONSOLE -DNO_STRICT -D_CRT_SECURE_NO_DEPRECATE -D_CRT_NONSTDC_NO_DEPRECATE  -DPERL_TEXTMODE_SCRIPTS -DPERL_IMPLICIT_CONTEXT -DPERL_IMPLICIT_SYS'
    optimize='-O1 -Zi -GL'
    cppflags='-DWIN32'
    ccversion='18.00.40629'
    gccversion=''
    gccosandvers=''
    intsize=4
    longsize=4
    ptrsize=4
    doublesize=8
    byteorder=12345678
    doublekind=3
    d_longlong=undef
    longlongsize=8
    d_longdbl=define
    longdblsize=8
    longdblkind=0
    ivtype='__int64'
    ivsize=8
    nvtype='double'
    nvsize=8
    Off_t='__int64'
    lseeksize=8
    alignbytes=8
    prototype=define
  Linker and Libraries:
    ld='link'
    ldflags ='-nologo -nodefaultlib -debug -opt:ref,icf -ltcg  -libpath:"c:\Perl32\lib\CORE"  -machine:x86 -subsystem:console,"5.01"'
    libpth="C:\Program Files\Microsoft Visual Studio 12.0\VC\\lib"
    libs=oldnames.lib kernel32.lib user32.lib gdi32.lib winspool.lib  comdlg32.lib advapi32.lib shell32.lib ole32.lib oleaut32.lib  netapi32.lib uuid.lib ws2_32.lib mpr.lib winmm.lib  version.lib odbc32.lib odbccp32.lib comctl32.lib msvcrt.lib
    perllibs=oldnames.lib kernel32.lib user32.lib gdi32.lib winspool.lib  comdlg32.lib advapi32.lib shell32.lib ole32.lib oleaut32.lib  netapi32.lib uuid.lib ws2_32.lib mpr.lib winmm.lib  version.lib odbc32.lib odbccp32.lib comctl32.lib msvcrt.lib
    libc=msvcrt.lib
    so=dll
    useshrplib=true
    libperl=perl534.lib
    gnulibc_version=''
  Dynamic Linking:
    dlsrc=dl_win32.xs
    dlext=dll
    d_dlsymun=undef
    ccdlflags=' '
    cccdlflags=' '
    lddlflags='-dll -nologo -nodefaultlib -debug -opt:ref,icf -ltcg  -libpath:"c:\Perl32\lib\CORE"  -machine:x86 -subsystem:console,"5.01"'


Characteristics of this binary (from libperl): 
  Compile-time options:
    HAS_TIMES
    HAVE_INTERP_INTERN
    MULTIPLICITY
    PERLIO_LAYERS
    PERL_COPY_ON_WRITE
    PERL_DONT_CREATE_GVSV
    PERL_IMPLICIT_CONTEXT
    PERL_IMPLICIT_SYS
    PERL_MALLOC_WRAP
    PERL_OP_PARENT
    PERL_PRESERVE_IVUV
    USE_64_BIT_INT
    USE_ITHREADS
    USE_LARGE_FILES
    USE_LOCALE
    USE_LOCALE_COLLATE
    USE_LOCALE_CTYPE
    USE_LOCALE_NUMERIC
    USE_LOCALE_TIME
    USE_PERLIO
    USE_PERL_ATOF
    USE_THREAD_SAFE_LOCALE
  Locally applied patches:
    VS2013: [GH #19138] Fix 5.34 test failures with Inf NaN numbers on Windows
  Built under MSWin32
  Compiled at May 20 2023 22:46:14
  %ENV:
    PERL5LIB="C:\home\earth1\perl5\lib\perl5"
    PERL5_CPANPLUS_IS_RUNNING="3016"
    PERL5_CPAN_IS_RUNNING="3016"
    PERL_LOCAL_LIB_ROOT="C:\home\earth1\perl5"
    PERL_MB_OPT="--install_base "C:\\home\\earth1\\perl5""
    PERL_MM_OPT="INSTALL_BASE=C:\\home\\earth1\\perl5"
    PERL_MM_USE_DEFAULT="1"
    PERL_USE_UNSAFE_INC="1"
  @INC:
    C:\home\earth1\perl5\lib\perl5/MSWin32-x86-multi-thread-64int
    C:\home\earth1\perl5\lib\perl5
    C:/Perl32/site/lib
    C:/Perl32/lib
    .