CHI v0.61 Perl 5 v5.40.2 darwin-2level
- Status
- Pass
- From
- Nigel Horne
- Dist
-
CHI v0.61
- Platform
- Perl 5 v5.40.2 darwin-2level
- Date
- 2025-04-15 17:32:12
- ID
- 90eff2fc-1a1f-11f0-b3c9-8a19d3b8a0ea
This distribution has been tested as part of the CPAN Testers
project, supporting the Perl programming language. See
http://wiki.cpantesters.org/ for more information or email
questions to cpan-testers-discuss@perl.org
--
Dear Alexander Becker,
This is a computer-generated report for CHI-0.61
on perl 5.40.2, created by CPAN-Reporter-1.2020.
Thank you for uploading your work to CPAN. Congratulations!
All tests were successful.
Sections of this report:
* Tester comments
* Program output
* Prerequisites
* Environment and other context
------------------------------
TESTER COMMENTS
------------------------------
Additional comments from tester:
none provided
------------------------------
PROGRAM OUTPUT
------------------------------
Output from '/usr/bin/make test':
PERL_DL_NONLAZY=1 "/Users/njh/perl5/perlbrew/perls/perl-5.40.2/bin/perl" "-MExtUtils::Command::MM" "-MTest::Harness" "-e" "undef *Test::Harness::Switches; test_harness(0, 'blib/lib', 'blib/arch')" t/*.t
t/author-03-pod.t ....................... skipped: these tests are for testing by the author
t/author-file-driver.t .................. skipped: these tests are for testing by the author
t/author-no-data-serializer.t ........... skipped: these tests are for testing by the author
t/author-RequiredModules.t .............. skipped: these tests are for testing by the author
# Testing CHI 0.61, Perl 5.040002, /Users/njh/perl5/perlbrew/perls/perl-5.40.2/bin/perl
t/00-load.t ............................. ok
t/Constants.t ........................... ok
t/Bugs.t ................................ ok
t/GetError.t ............................ ok
t/Config.t .............................. ok
t/release-dependent.t ................... skipped: these tests are for release candidate testing
t/Initialize.t .......................... ok
t/Driver-RawMemory.t .................... ok
t/Driver-Memory.t ....................... ok
t/smoke-Driver-CacheCache.t ............. skipped: these tests are for "smoke bot" testing
t/smoke-Driver-FastMmap.t ............... skipped: these tests are for "smoke bot" testing
t/smoke-Driver-File-DepthZero.t ......... skipped: these tests are for "smoke bot" testing
t/smoke-Driver-File.t ................... skipped: these tests are for "smoke bot" testing
t/smoke-Driver-NonMoose.t ............... skipped: these tests are for "smoke bot" testing
t/smoke-Driver-Subcache-l1_cache.t ...... skipped: these tests are for "smoke bot" testing
t/smoke-Driver-Subcache-mirror_cache.t .. skipped: these tests are for "smoke bot" testing
t/smoke-Null.t .......................... skipped: these tests are for "smoke bot" testing
t/Sanity.t .............................. ok
t/SetError.t ............................ ok
t/Subclass.t ............................ ok
t/Subcache.t ............................ ok
t/Util.t ................................ ok
All tests successful.
Files=26, Tests=1787, 1 wallclock secs ( 0.08 usr 0.02 sys + 0.88 cusr 0.15 csys = 1.13 CPU)
Result: PASS
------------------------------
PREREQUISITES
------------------------------
Prerequisite modules loaded:
requires:
Module Need Have
------------------------------- -------- --------
Carp::Assert 0.20 0.22
Class::Load 0 0.25
Data::UUID 0 1.227
Digest::JHash 0 0.10
Digest::MD5 0 2.59
File::Spec 0.80 3.91
Hash::MoreUtils 0 0.06
JSON::MaybeXS 1.003003 1.004008
List::MoreUtils 0.13 0.430
Log::Any 0.08 1.717
Moo 1.003 2.005005
MooX::Types::MooseLike 0.23 0.29
MooX::Types::MooseLike::Base 0 0.29
MooX::Types::MooseLike::Numeric 0 1.03
Storable 0 3.32
String::RewritePrefix 0 0.009
Task::Weaken 0 1.06
Time::Duration 1.06 1.21
Time::Duration::Parse 0.03 0.16
Time::HiRes 1.30 1.9777
Try::Tiny 0.05 0.32
build_requires:
Module Need Have
------------------------------- -------- --------
Cache::FileCache 0 0
Date::Parse 0 2.33
ExtUtils::MakeMaker 0 7.74
Module::Mask 0 0.06
Test::Builder 0 1.302210
Test::Class 0 0.52
Test::Deep 0 1.205
Test::Exception 0 0.43
Test::More 0 1.302210
Test::Warn 0 0.37
configure_requires:
Module Need Have
------------------------------- -------- --------
ExtUtils::MakeMaker 0 7.74
------------------------------
ENVIRONMENT AND OTHER CONTEXT
------------------------------
Environment variables:
HARNESS_OPTIONS = c:j4
LANG = en_US.UTF-8
LDFLAGS = -L/opt/homebrew/opt/openssl/lib:/opt/homebrew/opt/libpcap/lib:/opt/homebrew/opt/berkeley-db@5/lib
NONINTERACTIVE_TESTING = 1
PATH = /Users/njh/perl5/perlbrew/bin:/Users/njh/perl5/perlbrew/perls/perl-5.40.2/bin:/opt/homebrew/opt/libpcap/bin:/opt/homebrew/opt/berkeley-db@5/bin:/opt/homebrew/bin:/opt/homebrew/sbin:/opt/homebrew/opt/libpcap/bin:/opt/homebrew/opt/berkeley-db@5/bin:/usr/local/bin:/System/Cryptexes/App/usr/bin:/usr/bin:/bin:/usr/sbin:/sbin:/var/run/com.apple.security.cryptexd/codex.system/bootstrap/usr/local/bin:/var/run/com.apple.security.cryptexd/codex.system/bootstrap/usr/bin:/var/run/com.apple.security.cryptexd/codex.system/bootstrap/usr/appleinternal/bin:/opt/X11/bin:/Library/Apple/usr/bin:/Users/njh/bin:/Users/njh/bin:/opt/homebrew/bin
PERL5LIB =
PERL5OPT =
PERL5_CPANPLUS_IS_RUNNING = 13956
PERL5_CPAN_IS_RUNNING = 13956
PERLBREW_HOME = /Users/njh/.perlbrew
PERLBREW_MANPATH = /Users/njh/perl5/perlbrew/perls/perl-5.40.2/man
PERLBREW_PATH = /Users/njh/perl5/perlbrew/bin:/Users/njh/perl5/perlbrew/perls/perl-5.40.2/bin
PERLBREW_PERL = perl-5.40.2
PERLBREW_ROOT = /Users/njh/perl5/perlbrew
PERLBREW_SHELLRC_VERSION = 1.01
PERLBREW_VERSION = 1.01
PERL_MM_USE_DEFAULT = 1
PERL_USE_UNSAFE_INC = 1
SHELL = /bin/bash
TERM = xterm-256color
TMPDIR = /var/folders/8v/329gghld15g2ls572lrpg_yw0000z8/T/
Perl special variables (and OS-specific diagnostics, for MSWin32):
$^X = /Users/njh/perl5/perlbrew/perls/perl-5.40.2/bin/perl
$UID/$EUID = 1000 / 1000
$GID = 20 20 12 61 102 100
$EGID = 20 20 12 61 102 100
Perl module toolchain versions installed:
Module Have
------------------- --------
CPAN 2.38
CPAN::Meta 2.150010
Cwd 3.91
ExtUtils::CBuilder 0.280240
ExtUtils::Command 7.74
ExtUtils::Install 2.22
ExtUtils::MakeMaker 7.74
ExtUtils::Manifest 1.75
ExtUtils::ParseXS 3.51
File::Spec 3.91
JSON n/a
JSON::PP 4.16
Module::Build 0.4234
Module::Signature n/a
Parse::CPAN::Meta 2.150010
Test2 1.302210
Test::Harness 3.50
Test::More 1.302210
YAML 1.31
YAML::Syck 1.34
version 0.9933
--
Summary of my perl5 (revision 5 version 40 subversion 2) configuration:
Platform:
osname=darwin
osvers=24.3.0
archname=darwin-2level
uname='darwin vainc.bandsman.co.uk 24.3.0 darwin kernel version 24.3.0: thu jan 2 20:24:23 pst 2025; root:xnu-11215.81.4~3release_arm64_t8122 arm64 '
config_args='-de -Dprefix=/Users/njh/perl5/perlbrew/perls/perl-5.40.2 -Aeval:scriptdir=/Users/njh/perl5/perlbrew/perls/perl-5.40.2/bin'
hint=recommended
useposix=true
d_sigaction=define
useithreads=undef
usemultiplicity=undef
use64bitint=define
use64bitall=define
uselongdouble=undef
usemymalloc=n
default_inc_excludes_dot=define
Compiler:
cc='cc'
ccflags ='-fno-common -DPERL_DARWIN -fno-strict-aliasing -pipe -fstack-protector-strong -I/usr/local/include'
optimize='-O3'
cppflags='-fno-common -DPERL_DARWIN -fno-strict-aliasing -pipe -fstack-protector-strong -I/usr/local/include'
ccversion=''
gccversion='Apple LLVM 16.0.0 (clang-1600.0.26.6)'
gccosandvers=''
intsize=4
longsize=8
ptrsize=8
doublesize=8
byteorder=12345678
doublekind=3
d_longlong=define
longlongsize=8
d_longdbl=define
longdblsize=8
longdblkind=0
ivtype='long'
ivsize=8
nvtype='double'
nvsize=8
Off_t='off_t'
lseeksize=8
alignbytes=8
prototype=define
Linker and Libraries:
ld='env MACOSX_DEPLOYMENT_TARGET=10.3 cc'
ldflags =' -fstack-protector-strong -L/usr/local/lib -L/opt/local/lib'
libpth=/usr/local/lib /Library/Developer/CommandLineTools/usr/lib/clang/16/lib /Library/Developer/CommandLineTools/SDKs/MacOSX15.2.sdk/usr/lib /Library/Developer/CommandLineTools/usr/lib /opt/local/lib /usr/lib
libs=
perllibs=
libc=
so=dylib
useshrplib=false
libperl=libperl.a
gnulibc_version=''
Dynamic Linking:
dlsrc=dl_dlopen.xs
dlext=bundle
d_dlsymun=undef
ccdlflags=' '
cccdlflags=' '
lddlflags=' -bundle -undefined dynamic_lookup -L/usr/local/lib -L/opt/local/lib -fstack-protector-strong'
Characteristics of this binary (from libperl):
Compile-time options:
HAS_LONG_DOUBLE
HAS_STRTOLD
HAS_TIMES
PERLIO_LAYERS
PERL_COPY_ON_WRITE
PERL_DONT_CREATE_GVSV
PERL_HASH_FUNC_SIPHASH13
PERL_HASH_USE_SBOX32
PERL_MALLOC_WRAP
PERL_OP_PARENT
PERL_PRESERVE_IVUV
PERL_USE_SAFE_PUTENV
USE_64_BIT_ALL
USE_64_BIT_INT
USE_LARGE_FILES
USE_LOCALE
USE_LOCALE_COLLATE
USE_LOCALE_CTYPE
USE_LOCALE_NUMERIC
USE_LOCALE_TIME
USE_PERLIO
USE_PERL_ATOF
Built under darwin
Compiled at Apr 15 2025 10:22:24
%ENV:
PERL5LIB=""
PERL5OPT=""
PERL5_CPANPLUS_IS_RUNNING="13956"
PERL5_CPAN_IS_RUNNING="13956"
PERLBREW_HOME="/Users/njh/.perlbrew"
PERLBREW_MANPATH="/Users/njh/perl5/perlbrew/perls/perl-5.40.2/man"
PERLBREW_PATH="/Users/njh/perl5/perlbrew/bin:/Users/njh/perl5/perlbrew/perls/perl-5.40.2/bin"
PERLBREW_PERL="perl-5.40.2"
PERLBREW_ROOT="/Users/njh/perl5/perlbrew"
PERLBREW_SHELLRC_VERSION="1.01"
PERLBREW_VERSION="1.01"
PERL_MM_USE_DEFAULT="1"
PERL_USE_UNSAFE_INC="1"
@INC:
/Users/njh/perl5/perlbrew/perls/perl-5.40.2/lib/site_perl/5.40.2/darwin-2level
/Users/njh/perl5/perlbrew/perls/perl-5.40.2/lib/site_perl/5.40.2
/Users/njh/perl5/perlbrew/perls/perl-5.40.2/lib/5.40.2/darwin-2level
/Users/njh/perl5/perlbrew/perls/perl-5.40.2/lib/5.40.2
.