DBIx-Class-MoreHelpers v1.0001 Perl 5 v5.32.1 MSWin32-x86-multi-thread-64int

Status
Pass
From
gregor herrmann
Dist
DBIx-Class-MoreHelpers v1.0001
Platform
Perl 5 v5.32.1 MSWin32-x86-multi-thread-64int
Date
2023-07-10 18:22:25
ID
90c6f0f1-6c86-1014-972b-dc26e89e0930
This distribution has been tested as part of the CPAN Testers
project, supporting the Perl programming language.  See
http://wiki.cpantesters.org/ for more information or email
questions to cpan-testers-discuss@perl.org


--
Dear D Ruth Holloway,

This is a computer-generated report for DBIx-Class-MoreHelpers-1.0001
on perl 5.32.1, created by CPAN-Reporter-1.2019.

Thank you for uploading your work to CPAN.  Congratulations!
All tests were successful.

Sections of this report:

    * Tester comments
    * Program output
    * Prerequisites
    * Environment and other context

------------------------------
TESTER COMMENTS
------------------------------

Additional comments from tester:

this report is from an automated smoke testing program
and was not reviewed by a human for accuracy

------------------------------
PROGRAM OUTPUT
------------------------------

Output from 'C:\strawberry\c\bin\gmake.EXE test':

"C:\Strawberry\perl\bin\perl.exe" "-MExtUtils::Command::MM" "-MTest::Harness" "-e" "undef *Test::Harness::Switches; test_harness(0, 'blib\lib', 'blib\arch')" t/*.t
t/00-compile.t ......... ok
# 
# Versions for all modules listed in MYMETA.json (including optional ones):
# 
# === Configure Requires ===
# 
#     Module               Want     Have
#     ------------------- ----- --------
#     ExtUtils::MakeMaker   any     7.70
#     perl                5.006 5.032001
# 
# === Build Requires ===
# 
#     Module              Want Have
#     ------------------- ---- ----
#     ExtUtils::MakeMaker  any 7.70
# 
# === Test Requires ===
# 
#     Module                      Want       Have
#     -------------------------- ----- ----------
#     DBIx::Class::Core            any      undef
#     DBIx::Class::ResultSet       any      undef
#     DBIx::Class::Schema          any      undef
#     ExtUtils::MakeMaker          any       7.70
#     File::Spec                   any       3.78
#     FindBin                      any       1.52
#     IO::Handle                   any       1.45
#     IPC::Open3                   any       1.21
#     Modern::Perl                 any 1.20230106
#     Test2::Plugin::ExitSummary   any   0.000155
#     Test2::Plugin::NoWarnings    any       0.09
#     Test2::Plugin::Times         any   0.000155
#     Test2::V0                    any   0.000155
#     Test::DBIx::Class            any       0.52
#     Test::More                   any   1.302195
#     base                         any       2.27
#     lib                          any       0.65
#     perl                       5.006   5.032001
# 
# === Test Recommends ===
# 
#     Module         Want     Have
#     ---------- -------- --------
#     CPAN::Meta 2.120900 2.150010
# 
# === Runtime Requires ===
# 
#     Module                                                  Want     Have
#     ------------------------------------------------------ ----- --------
#     DBIx::Class::Helper::ResultSet::SetOperations            any 2.036000
#     DBIx::Class::Helper::ResultSet::Shortcut::Search::Base   any 2.036000
#     parent                                                   any    0.238
#     perl                                                   5.006 5.032001
#     strict                                                   any     1.11
#     warnings                                                 any     1.47
# 
t/00-report-prereqs.t .. ok
t/001_blank.t .......... ok
t/002_is.t ............. ok
t/003_numerics.t ....... ok
All tests successful.
Files=5, Tests=42, 19 wallclock secs ( 0.09 usr +  0.03 sys =  0.12 CPU)
Result: PASS

------------------------------
PREREQUISITES
------------------------------

Prerequisite modules loaded:

requires:

    Module                                                 Need  Have      
    ------------------------------------------------------ ----- ----------
    DBIx::Class::Helper::ResultSet::SetOperations          0     2.036000  
    DBIx::Class::Helper::ResultSet::Shortcut::Search::Base 0     2.036000  
    parent                                                 0     0.238     
    perl                                                   5.006 5.032001  
    strict                                                 0     1.11      
    warnings                                               0     1.47      

build_requires:

    Module                                                 Need  Have      
    ------------------------------------------------------ ----- ----------
    base                                                   0     2.27      
    DBIx::Class::Core                                      0     0         
    DBIx::Class::ResultSet                                 0     0         
    DBIx::Class::Schema                                    0     0         
    ExtUtils::MakeMaker                                    0     7.70      
    File::Spec                                             0     3.78      
    FindBin                                                0     1.52      
    IO::Handle                                             0     1.45      
    IPC::Open3                                             0     1.21      
    lib                                                    0     0.65      
    Modern::Perl                                           0     1.20230106
    Test2::Plugin::ExitSummary                             0     0.000155  
    Test2::Plugin::NoWarnings                              0     0.09      
    Test2::Plugin::Times                                   0     0.000155  
    Test2::V0                                              0     0.000155  
    Test::DBIx::Class                                      0     0.52      
    Test::More                                             0     1.302195  

configure_requires:

    Module                                                 Need  Have      
    ------------------------------------------------------ ----- ----------
    ExtUtils::MakeMaker                                    0     7.70      
    perl                                                   5.006 5.032001  


------------------------------
ENVIRONMENT AND OTHER CONTEXT
------------------------------

Environment variables:

    AUTOMATED_TESTING = 1
    COMSPEC = C:\WINDOWS\system32\cmd.exe
    NONINTERACTIVE_TESTING = 1
    NUMBER_OF_PROCESSORS = 2
    PATH = C:\WINDOWS\system32;C:\strawberry\c\bin;C:\strawberry\perl\site\bin;C:\strawberry\perl\bin
    PERL5LIB = 
    PERL5OPT = 
    PERL5_CPANPLUS_IS_RUNNING = 4476
    PERL5_CPAN_IS_RUNNING = 4476
    PERL5_CPAN_IS_RUNNING_IN_RECURSION = 2728,4476
    PERL_CR_SMOKER_CURRENT = DBIx-Class-MoreHelpers-1.0001
    PERL_EXTUTILS_AUTOINSTALL = --defaultdeps
    PERL_MM_USE_DEFAULT = 1
    PERL_USE_UNSAFE_INC = 1
    PROCESSOR_IDENTIFIER = x86 Family 6 Model 15 Stepping 11, GenuineIntel
    TEMP = C:\Users\smoker\AppData\Local\Temp

Perl special variables (and OS-specific diagnostics, for MSWin32):

    $^X = C:\Strawberry\perl\bin\perl.exe
    $UID/$EUID = 0 / 0
    $GID = 0
    $EGID = 0
    Win32::GetOSName = Win10
    Win32::GetOSVersion = , 10, 0, 19045, 2, 0, 0, 256, 1
    Win32::FsType = NTFS
    Win32::IsAdminUser = 0

Perl module toolchain versions installed:

    Module              Have    
    ------------------- --------
    CPAN                2.36    
    CPAN::Meta          2.150010
    Cwd                 3.78    
    ExtUtils::CBuilder  0.280236
    ExtUtils::Command   7.70    
    ExtUtils::Install   2.20    
    ExtUtils::MakeMaker 7.70    
    ExtUtils::Manifest  1.75    
    ExtUtils::ParseXS   3.40    
    File::Spec          3.78    
    JSON                4.10    
    JSON::PP            4.16    
    Module::Build       0.42_35 
    Module::Signature   0.88    
    Parse::CPAN::Meta   2.150010
    Test2               1.302195
    Test::Harness       3.45_02 
    Test::More          1.302195
    YAML                1.30    
    YAML::Syck          1.34    
    version             0.9928  


--

Summary of my perl5 (revision 5 version 32 subversion 1) configuration:
   
  Platform:
    osname=MSWin32
    osvers=10.0.19042.746
    archname=MSWin32-x86-multi-thread-64int
    uname='Win32 strawberry-perl 5.32.1.1 #1 Sun Jan 24 12:17:47 2021 i386'
    config_args='undef'
    hint=recommended
    useposix=true
    d_sigaction=undef
    useithreads=define
    usemultiplicity=define
    use64bitint=define
    use64bitall=undef
    uselongdouble=undef
    usemymalloc=n
    default_inc_excludes_dot=define
    bincompat5005=undef
  Compiler:
    cc='gcc'
    ccflags =' -DWIN32 -D__USE_MINGW_ANSI_STDIO -DPERL_TEXTMODE_SCRIPTS -DPERL_IMPLICIT_CONTEXT -DPERL_IMPLICIT_SYS -DUSE_PERLIO -fwrapv -fno-strict-aliasing -mms-bitfields'
    optimize='-s -O2'
    cppflags='-DWIN32'
    ccversion=''
    gccversion='8.3.0'
    gccosandvers=''
    intsize=4
    longsize=4
    ptrsize=4
    doublesize=8
    byteorder=12345678
    doublekind=3
    d_longlong=define
    longlongsize=8
    d_longdbl=define
    longdblsize=12
    longdblkind=3
    ivtype='long long'
    ivsize=8
    nvtype='double'
    nvsize=8
    Off_t='long long'
    lseeksize=8
    alignbytes=8
    prototype=define
  Linker and Libraries:
    ld='g++'
    ldflags ='-s -L"C:\STRAWB~1\perl\lib\CORE" -L"C:\STRAWB~1\c\lib"'
    libpth=C:\STRAWB~1\c\lib C:\STRAWB~1\c\i686-w64-mingw32\lib C:\STRAWB~1\c\lib\gcc\i686-w64-mingw32\8.3.0
    libs= -lmoldname -lkernel32 -luser32 -lgdi32 -lwinspool -lcomdlg32 -ladvapi32 -lshell32 -lole32 -loleaut32 -lnetapi32 -luuid -lws2_32 -lmpr -lwinmm -lversion -lodbc32 -lodbccp32 -lcomctl32
    perllibs= -lmoldname -lkernel32 -luser32 -lgdi32 -lwinspool -lcomdlg32 -ladvapi32 -lshell32 -lole32 -loleaut32 -lnetapi32 -luuid -lws2_32 -lmpr -lwinmm -lversion -lodbc32 -lodbccp32 -lcomctl32
    libc=
    so=dll
    useshrplib=true
    libperl=libperl532.a
    gnulibc_version=''
  Dynamic Linking:
    dlsrc=dl_win32.xs
    dlext=xs.dll
    d_dlsymun=undef
    ccdlflags=' '
    cccdlflags=' '
    lddlflags='-mdll -s -L"C:\STRAWB~1\perl\lib\CORE" -L"C:\STRAWB~1\c\lib"'


Characteristics of this binary (from libperl): 
  Compile-time options:
    HAS_TIMES
    HAVE_INTERP_INTERN
    MULTIPLICITY
    PERLIO_LAYERS
    PERL_COPY_ON_WRITE
    PERL_DONT_CREATE_GVSV
    PERL_IMPLICIT_CONTEXT
    PERL_IMPLICIT_SYS
    PERL_MALLOC_WRAP
    PERL_OP_PARENT
    PERL_PRESERVE_IVUV
    USE_64_BIT_INT
    USE_ITHREADS
    USE_LARGE_FILES
    USE_LOCALE
    USE_LOCALE_COLLATE
    USE_LOCALE_CTYPE
    USE_LOCALE_NUMERIC
    USE_LOCALE_TIME
    USE_PERLIO
    USE_PERL_ATOF
  Built under MSWin32
  Compiled at Jan 24 2021 12:22:49
  %ENV:
    PERL5_CPANPLUS_IS_RUNNING="4476"
    PERL5_CPAN_IS_RUNNING="4476"
    PERL5_CPAN_IS_RUNNING_IN_RECURSION="2728,4476"
    PERL_CR_SMOKER_CURRENT="DBIx-Class-MoreHelpers-1.0001"
    PERL_EXTUTILS_AUTOINSTALL="--defaultdeps"
    PERL_MM_USE_DEFAULT="1"
    PERL_USE_UNSAFE_INC="1"
  @INC:
    C:/Strawberry/perl/site/lib/MSWin32-x86-multi-thread-64int
    C:/Strawberry/perl/site/lib
    C:/Strawberry/perl/vendor/lib
    C:/Strawberry/perl/lib
    .