Catmandu-MARC v1.31 Perl 5 v5.39.7 x86_64-linux-thread-multi
- Status
- Pass
- From
- Andreas J. König (ANDK)
- Dist
-
Catmandu-MARC v1.31
- Platform
- Perl 5 v5.39.7 x86_64-linux-thread-multi
- Date
- 2024-01-31 21:41:59
- ID
- 901f86e2-c081-11ee-a1ae-582c4fc0e3fa
This distribution has been tested as part of the CPAN Testers
project, supporting the Perl programming language. See
http://wiki.cpantesters.org/ for more information or email
questions to cpan-testers-discuss@perl.org
--
Dear Patrick Hochstenbach,
This is a computer-generated report for Catmandu-MARC-1.31
on perl 5.39.7, created by CPAN-Reporter-1.2019.
Thank you for uploading your work to CPAN. Congratulations!
All tests were successful.
Sections of this report:
* Tester comments
* Program output
* Prerequisites
* Environment and other context
------------------------------
TESTER COMMENTS
------------------------------
Additional comments from tester:
this report is from an automated smoke testing program
and was not reviewed by a human for accuracy
------------------------------
PROGRAM OUTPUT
------------------------------
Output from './Build test':
t/Catmandu/Exporter/MARC.t ..................... ok
t/Catmandu/Exporter/MARC/ALEPHSEQ.t ............ ok
t/Catmandu/Exporter/MARC/Base.t ................ ok
t/Catmandu/Exporter/MARC/ISO.t ................. ok
t/Catmandu/Exporter/MARC/Line.t ................ ok
t/Catmandu/Exporter/MARC/MARCMaker.t ........... ok
t/Catmandu/Exporter/MARC/MiJ.t ................. ok
t/Catmandu/Exporter/MARC/XML.t ................. ok
t/Catmandu/Fix/Bind/marc_each.t ................ ok
t/Catmandu/Fix/Condition/marc_all_match.t ...... ok
t/Catmandu/Fix/Condition/marc_any_match.t ...... ok
t/Catmandu/Fix/Condition/marc_has.t ............ ok
t/Catmandu/Fix/Condition/marc_has_many.t ....... ok
t/Catmandu/Fix/Condition/marc_match.t .......... ok
t/Catmandu/Fix/Condition/marc_spec_has.t ....... ok
t/Catmandu/Fix/Inline/marc_add.t ............... ok
t/Catmandu/Fix/Inline/marc_map.t ............... ok
t/Catmandu/Fix/Inline/marc_remove.t ............ ok
t/Catmandu/Fix/Inline/marc_set.t ............... ok
t/Catmandu/Fix/marc_add.t ...................... ok
t/Catmandu/Fix/marc_append.t ................... ok
t/Catmandu/Fix/marc_copy.t ..................... ok
t/Catmandu/Fix/marc_cut.t ...................... ok
t/Catmandu/Fix/marc_decode_dollar_subfields.t .. ok
t/Catmandu/Fix/marc_in_json.t .................. ok
t/Catmandu/Fix/marc_map.t ...................... ok
t/Catmandu/Fix/marc_paste.t .................... ok
t/Catmandu/Fix/marc_remove.t ................... ok
t/Catmandu/Fix/marc_replace_all.t .............. ok
t/Catmandu/Fix/marc_set.t ...................... ok
t/Catmandu/Fix/marc_sort.t ..................... ok
t/Catmandu/Fix/marc_spec.t ..................... ok
Use of uninitialized value in concatenation (.) or string at /home/sand/src/perl/repoperls/installed-perls/host/k93focal/v5.39.7/d119/lib/site_perl/5.39.7/MARC/File/XML.pm line 402, <GEN7> chunk 3.
t/Catmandu/Fix/marc_xml.t ...................... ok
t/Catmandu/Importer/MARC.t ..................... ok
t/Catmandu/Importer/MARC/ALEPHSEQ.t ............ ok
t/Catmandu/Importer/MARC/Decoder.t ............. ok
t/Catmandu/Importer/MARC/ISO.t ................. ok
t/Catmandu/Importer/MARC/Line.t ................ ok
t/Catmandu/Importer/MARC/Lint.t ................ ok
t/Catmandu/Importer/MARC/MARCMaker.t ........... ok
t/Catmandu/Importer/MARC/MiJ.t ................. ok
t/Catmandu/Importer/MARC/MicroLIF.t ............ ok
t/Catmandu/Importer/MARC/RAW.t ................. ok
t/Catmandu/Importer/MARC/Record.t .............. ok
Use of uninitialized value in concatenation (.) or string at /home/sand/src/perl/repoperls/installed-perls/host/k93focal/v5.39.7/d119/lib/site_perl/5.39.7/MARC/File/XML.pm line 402, <GEN1> chunk 3.
Use of uninitialized value in concatenation (.) or string at /home/sand/src/perl/repoperls/installed-perls/host/k93focal/v5.39.7/d119/lib/site_perl/5.39.7/MARC/File/XML.pm line 402, <GEN2> chunk 21.
t/Catmandu/Importer/MARC/XML.t ................. ok
t/Catmandu/MARC.t .............................. ok
t/Catmandu/Validator/MARC.t .................... ok
t/author-pod-syntax.t .......................... skipped: these tests are for testing by the author
t/deprecate.t .................................. ok
Attempt to call undefined import method with arguments ("is_string") via package "Catmandu::Util" (Perhaps you forgot to load the package?) at /home/sand/src/perl/repoperls/installed-perls/host/k93focal/v5.39.7/d119/lib/site_perl/5.39.7/Catmandu/Error.pm line 47.
t/inline-fix.t ................................. ok
Attempt to call undefined import method with arguments ("is_string") via package "Catmandu::Util" (Perhaps you forgot to load the package?) at /home/sand/src/perl/repoperls/installed-perls/host/k93focal/v5.39.7/d119/lib/site_perl/5.39.7/Catmandu/Error.pm line 47.
t/inlineable.t ................................. ok
t/mapping_rules.t .............................. ok
t/mapping_rules_spec.t ......................... ok
t/marc-spec-subspecs.t ......................... ok
t/marc_spec2.t ................................. ok
t/old-new-internal-syntax.t .................... ok
All tests successful.
Files=56, Tests=566, 25 wallclock secs ( 0.25 usr 0.34 sys + 22.37 cusr 2.56 csys = 25.52 CPU)
Result: PASS
------------------------------
PREREQUISITES
------------------------------
Prerequisite modules loaded:
requires:
Module Need Have
--------------------- -------- --------
Carp 0 1.54
Catmandu 1.0602 1.2021
JSON::XS 2.3 4.03
List::Util 0 1.63
MARC::File::MARCMaker 0.05 0.05
MARC::File::MiJ 0.04 0.04
! MARC::File::XML v1.0.5 0.93
MARC::Lint == 1.52 1.53
MARC::Parser::RAW 0 0.06
MARC::Record v2.0.6 2.0.7
MARC::Schema 0.07 0.14
MARC::Spec v2.0.3 2.0.3
Memoize 0 1.16
Module::Build 0.4229 0.4234
Moo 1.0 2.005005
MooX::Singleton 0 1.20
namespace::clean 0 0.27
perl v5.10.1 5.039007
YAML::XS 0.34 0.89
build_requires:
Module Need Have
--------------------- -------- --------
Module::Build 0.4229 0.4234
Pod::Simple::HTML 3.23 3.45
Test::Deep 0 1.204
Test::Exception 0 0.43
Test::More 1.001003 1.302198
Test::Pod 0 1.52
Test::Simple 1.001003 1.302198
Test::Warn 0 0.37
Test::Warnings 0 0.032
XML::LibXML 0 2.0210
XML::XPath 1.13 1.48
configure_requires:
Module Need Have
--------------------- -------- --------
Module::Build 0.28 0.4234
------------------------------
ENVIRONMENT AND OTHER CONTEXT
------------------------------
Environment variables:
AUTOMATED_TESTING = 1
LANG = en_US.UTF-8
PATH = /home/sand/bin:/usr/local/bin:/usr/local/sbin:/usr/sbin:/usr/bin:/sbin:/bin:/usr/games:/usr/local/games:/snap/bin:/usr/local/perl/bin:/usr/X11/bin
PERL = /tmp/basesmoker-reloperl-m6jX/bin/perl
PERL5LIB = /tmp/loop_over_bdir-2387-4NmEHU/Devel-Required-0.16-0/blib/arch:/tmp/loop_over_bdir-2387-4NmEHU/Devel-Required-0.16-0/blib/lib:/tmp/loop_over_bdir-2387-4NmEHU/Sysync-0.35-0/blib/arch:/tmp/loop_over_bdir-2387-4NmEHU/Sysync-0.35-0/blib/lib:/tmp/loop_over_bdir-2387-4NmEHU/AllKnowingDNS-1.7-0/blib/arch:/tmp/loop_over_bdir-2387-4NmEHU/AllKnowingDNS-1.7-0/blib/lib
PERL5OPT =
PERL5_CPANPLUS_IS_RUNNING = 2395
PERL5_CPAN_IS_RUNNING = 2395
PERL_CANARY_STABILITY_NOPROMPT = 1
PERL_MM_USE_DEFAULT = 1
PERL_USE_UNSAFE_INC = 1
SHELL = /usr/bin/zsh
TERM = screen
Perl special variables (and OS-specific diagnostics, for MSWin32):
$^X = /tmp/basesmoker-reloperl-m6jX/bin/perl
$UID/$EUID = 1005 / 1005
$GID = 1005 1005
$EGID = 1005 1005
Perl module toolchain versions installed:
Module Have
------------------- --------
CPAN 2.36
CPAN::Meta 2.150010
Cwd 3.90
ExtUtils::CBuilder 0.280240
ExtUtils::Command 7.70
ExtUtils::Install 2.22
ExtUtils::MakeMaker 7.70
ExtUtils::Manifest 1.75
ExtUtils::ParseXS 3.51
File::Spec 3.90
JSON 4.10
JSON::PP 4.16
Module::Build 0.4234
Module::Signature 0.88
Parse::CPAN::Meta 2.150010
Test2 1.302198
Test::Harness 3.48
Test::More 1.302198
YAML 1.31
YAML::Syck 1.34
version 0.9930
--
Summary of my perl5 (revision 5 version 39 subversion 7) configuration:
Commit id: 96559478fdc3f2fe9c51cad02ebbae0c950b7b68
Platform:
osname=linux
osvers=5.4.0-169-generic
archname=x86_64-linux-thread-multi
uname='linux k93focal 5.4.0-169-generic #187-ubuntu smp thu nov 23 14:52:28 utc 2023 x86_64 x86_64 x86_64 gnulinux '
config_args='-Dprefix=/home/sand/src/perl/repoperls/installed-perls/host/k93focal/v5.39.7/d119 -Dmyhostname=k93focal -Dinstallusrbinperl=n -Uversiononly -Dusedevel -des -Ui_db -Dlibswanted=cl pthread socket inet nsl gdbm dbm malloc dl ld sun m crypt sec util c cposix posix ucb BSD gdbm_compat -Duseithreads -Uuselongdouble -DEBUGGING=both'
hint=recommended
useposix=true
d_sigaction=define
useithreads=define
usemultiplicity=define
use64bitint=define
use64bitall=define
uselongdouble=undef
usemymalloc=n
default_inc_excludes_dot=define
Compiler:
cc='cc'
ccflags ='-D_REENTRANT -D_GNU_SOURCE -fwrapv -DDEBUGGING -fno-strict-aliasing -pipe -fstack-protector-strong -I/usr/local/include -D_LARGEFILE_SOURCE -D_FILE_OFFSET_BITS=64'
optimize='-O2 -g'
cppflags='-D_REENTRANT -D_GNU_SOURCE -fwrapv -DDEBUGGING -fno-strict-aliasing -pipe -fstack-protector-strong -I/usr/local/include'
ccversion=''
gccversion='9.4.0'
gccosandvers=''
intsize=4
longsize=8
ptrsize=8
doublesize=8
byteorder=12345678
doublekind=3
d_longlong=define
longlongsize=8
d_longdbl=define
longdblsize=16
longdblkind=3
ivtype='long'
ivsize=8
nvtype='double'
nvsize=8
Off_t='off_t'
lseeksize=8
alignbytes=8
prototype=define
Linker and Libraries:
ld='cc'
ldflags =' -fstack-protector-strong -L/usr/local/lib'
libpth=/usr/local/lib /usr/lib/x86_64-linux-gnu /usr/lib /usr/lib64
libs=-lpthread -lnsl -ldl -lm -lcrypt -lutil -lc
perllibs=-lpthread -lnsl -ldl -lm -lcrypt -lutil -lc
libc=libc-2.31.so
so=so
useshrplib=false
libperl=libperl.a
gnulibc_version='2.31'
Dynamic Linking:
dlsrc=dl_dlopen.xs
dlext=so
d_dlsymun=undef
ccdlflags='-Wl,-E'
cccdlflags='-fPIC'
lddlflags='-shared -O2 -g -L/usr/local/lib -fstack-protector-strong'
Characteristics of this binary (from libperl):
Compile-time options:
DEBUGGING
HAS_LONG_DOUBLE
HAS_STRTOLD
HAS_TIMES
MULTIPLICITY
PERLIO_LAYERS
PERL_COPY_ON_WRITE
PERL_DONT_CREATE_GVSV
PERL_HASH_FUNC_SIPHASH13
PERL_HASH_USE_SBOX32
PERL_MALLOC_WRAP
PERL_OP_PARENT
PERL_PRESERVE_IVUV
PERL_TRACK_MEMPOOL
PERL_USE_DEVEL
PERL_USE_SAFE_PUTENV
USE_64_BIT_ALL
USE_64_BIT_INT
USE_ITHREADS
USE_LARGE_FILES
USE_LOCALE
USE_LOCALE_COLLATE
USE_LOCALE_CTYPE
USE_LOCALE_NUMERIC
USE_LOCALE_TIME
USE_PERLIO
USE_PERL_ATOF
USE_REENTRANT_API
USE_THREAD_SAFE_LOCALE
Built under linux
Compiled at Jan 20 2024 14:00:37
%ENV:
PERL="/tmp/basesmoker-reloperl-m6jX/bin/perl"
PERL5LIB="/tmp/loop_over_bdir-2387-4NmEHU/Devel-Required-0.16-0/blib/arch:/tmp/loop_over_bdir-2387-4NmEHU/Devel-Required-0.16-0/blib/lib:/tmp/loop_over_bdir-2387-4NmEHU/Sysync-0.35-0/blib/arch:/tmp/loop_over_bdir-2387-4NmEHU/Sysync-0.35-0/blib/lib:/tmp/loop_over_bdir-2387-4NmEHU/AllKnowingDNS-1.7-0/blib/arch:/tmp/loop_over_bdir-2387-4NmEHU/AllKnowingDNS-1.7-0/blib/lib"
PERL5OPT=""
PERL5_CPANPLUS_IS_RUNNING="2395"
PERL5_CPAN_IS_RUNNING="2395"
PERL_CANARY_STABILITY_NOPROMPT="1"
PERL_MM_USE_DEFAULT="1"
PERL_USE_UNSAFE_INC="1"
@INC:
/tmp/loop_over_bdir-2387-4NmEHU/Devel-Required-0.16-0/blib/arch
/tmp/loop_over_bdir-2387-4NmEHU/Devel-Required-0.16-0/blib/lib
/tmp/loop_over_bdir-2387-4NmEHU/Sysync-0.35-0/blib/arch
/tmp/loop_over_bdir-2387-4NmEHU/Sysync-0.35-0/blib/lib
/tmp/loop_over_bdir-2387-4NmEHU/AllKnowingDNS-1.7-0/blib/arch
/tmp/loop_over_bdir-2387-4NmEHU/AllKnowingDNS-1.7-0/blib/lib
/home/sand/src/perl/repoperls/installed-perls/host/k93focal/v5.39.7/d119/lib/site_perl/5.39.7/x86_64-linux-thread-multi
/home/sand/src/perl/repoperls/installed-perls/host/k93focal/v5.39.7/d119/lib/site_perl/5.39.7
/home/sand/src/perl/repoperls/installed-perls/host/k93focal/v5.39.7/d119/lib/5.39.7/x86_64-linux-thread-multi
/home/sand/src/perl/repoperls/installed-perls/host/k93focal/v5.39.7/d119/lib/5.39.7
.