CHI v0.61 Perl 5 v5.34.0 x86_64-linux
- Status
- Pass
- From
- Ioan Rogers
- Dist
-
CHI v0.61
- Platform
- Perl 5 v5.34.0 x86_64-linux
- Date
- 2022-01-18 20:38:14
- ID
- 8f2a1c20-789e-11ec-b18a-6fb1722ad497
This distribution has been tested as part of the CPAN Testers
project, supporting the Perl programming language. See
http://wiki.cpantesters.org/ for more information or email
questions to cpan-testers-discuss@perl.org
--
Dear ASB,
This is a computer-generated report for CHI-0.61
on perl 5.34.0, created by App::cpanminus::reporter 0.17 (1.7044).
Thank you for uploading your work to CPAN. Congratulations!
All tests were successful.
Sections of this report:
* Tester comments
* Program output
* Prerequisites
* Environment and other context
------------------------------
TESTER COMMENTS
------------------------------
Additional comments from tester:
none provided
------------------------------
PROGRAM OUTPUT
------------------------------
Output from '':
Building and testing CHI-0.61
cp lib/CHI/Benchmarks.pod blib/lib/CHI/Benchmarks.pod
cp lib/CHI/Driver/Role/Universal.pm blib/lib/CHI/Driver/Role/Universal.pm
cp lib/CHI.pm blib/lib/CHI.pm
cp lib/CHI/Test/Util.pm blib/lib/CHI/Test/Util.pm
cp lib/CHI/Test/Driver/Writeonly.pm blib/lib/CHI/Test/Driver/Writeonly.pm
cp lib/CHI/Test.pm blib/lib/CHI/Test.pm
cp lib/CHI/Driver/CacheCache.pm blib/lib/CHI/Driver/CacheCache.pm
cp lib/CHI/t/Constants.pm blib/lib/CHI/t/Constants.pm
cp lib/CHI/Driver/Role/HasSubcaches.pm blib/lib/CHI/Driver/Role/HasSubcaches.pm
cp lib/CHI/Driver/File.pm blib/lib/CHI/Driver/File.pm
cp lib/CHI/Driver/RawMemory.pm blib/lib/CHI/Driver/RawMemory.pm
cp lib/CHI/t/Driver/RawMemory.pm blib/lib/CHI/t/Driver/RawMemory.pm
cp lib/CHI/Test/Driver/Role/CheckKeyValidity.pm blib/lib/CHI/Test/Driver/Role/CheckKeyValidity.pm
cp lib/CHI/Driver/Memory.pm blib/lib/CHI/Driver/Memory.pm
cp lib/CHI/Test/Driver/NonMoose.pm blib/lib/CHI/Test/Driver/NonMoose.pm
cp lib/CHI/Types.pm blib/lib/CHI/Types.pm
cp lib/CHI/t/Driver/FastMmap.pm blib/lib/CHI/t/Driver/FastMmap.pm
cp lib/CHI/Stats.pm blib/lib/CHI/Stats.pm
cp lib/CHI/Serializer/JSON.pm blib/lib/CHI/Serializer/JSON.pm
cp lib/CHI/Util.pm blib/lib/CHI/Util.pm
cp lib/CHI/Driver/Metacache.pm blib/lib/CHI/Driver/Metacache.pm
cp lib/CHI/Driver/FastMmap.pm blib/lib/CHI/Driver/FastMmap.pm
cp lib/CHI/t/Driver/CacheCache.pm blib/lib/CHI/t/Driver/CacheCache.pm
cp lib/CHI/Driver/Base/CacheContainer.pm blib/lib/CHI/Driver/Base/CacheContainer.pm
cp lib/CHI/Constants.pm blib/lib/CHI/Constants.pm
cp lib/CHI/Driver/Null.pm blib/lib/CHI/Driver/Null.pm
cp lib/CHI/t/Config.pm blib/lib/CHI/t/Config.pm
cp lib/CHI/t/Driver.pm blib/lib/CHI/t/Driver.pm
cp lib/CHI/t/Driver/NonMoose.pm blib/lib/CHI/t/Driver/NonMoose.pm
cp lib/CHI/Driver/Development.pod blib/lib/CHI/Driver/Development.pod
cp lib/CHI/t/Driver/File.pm blib/lib/CHI/t/Driver/File.pm
cp lib/CHI/t/Driver/Memory.pm blib/lib/CHI/t/Driver/Memory.pm
cp lib/CHI/Test/Class.pm blib/lib/CHI/Test/Class.pm
cp lib/CHI/Serializer/Storable.pm blib/lib/CHI/Serializer/Storable.pm
cp lib/CHI/Driver/Role/IsSizeAware.pm blib/lib/CHI/Driver/Role/IsSizeAware.pm
cp lib/CHI/t/Bugs.pm blib/lib/CHI/t/Bugs.pm
cp lib/CHI/Driver/Role/IsSubcache.pm blib/lib/CHI/Driver/Role/IsSubcache.pm
cp lib/CHI/Driver.pm blib/lib/CHI/Driver.pm
cp lib/CHI/CacheObject.pm blib/lib/CHI/CacheObject.pm
cp lib/CHI/Test/Driver/Readonly.pm blib/lib/CHI/Test/Driver/Readonly.pm
cp lib/CHI/t/Driver/File/DepthZero.pm blib/lib/CHI/t/Driver/File/DepthZero.pm
cp lib/CHI/t/Subclass.pm blib/lib/CHI/t/Subclass.pm
cp lib/CHI/t/Initialize.pm blib/lib/CHI/t/Initialize.pm
cp lib/CHI/t/SetError.pm blib/lib/CHI/t/SetError.pm
cp lib/CHI/t/RequiredModules.pm blib/lib/CHI/t/RequiredModules.pm
cp lib/CHI/t/GetError.pm blib/lib/CHI/t/GetError.pm
cp lib/CHI/t/Driver/Subcache.pm blib/lib/CHI/t/Driver/Subcache.pm
cp lib/CHI/t/Util.pm blib/lib/CHI/t/Util.pm
cp lib/CHI/t/Null.pm blib/lib/CHI/t/Null.pm
cp lib/CHI/t/Driver/Subcache/l1_cache.pm blib/lib/CHI/t/Driver/Subcache/l1_cache.pm
cp lib/CHI/t/Sanity.pm blib/lib/CHI/t/Sanity.pm
cp lib/CHI/t/Driver/Subcache/mirror_cache.pm blib/lib/CHI/t/Driver/Subcache/mirror_cache.pm
cp lib/CHI/t/Subcache.pm blib/lib/CHI/t/Subcache.pm
PERL_DL_NONLAZY=1 "/home/ioan/.plenv/versions/mm-perl/bin/perl5.34.0" "-MExtUtils::Command::MM" "-MTest::Harness" "-e" "undef *Test::Harness::Switches; test_harness(0, 'blib/lib', 'blib/arch')" t/*.t
t/author-03-pod.t ....................... skipped: these tests are for testing by the author
t/author-file-driver.t .................. skipped: these tests are for testing by the author
t/author-no-data-serializer.t ........... skipped: these tests are for testing by the author
t/author-RequiredModules.t .............. skipped: these tests are for testing by the author
# Testing CHI 0.61, Perl 5.034000, /home/ioan/.plenv/versions/mm-perl/bin/perl5.34.0
t/00-load.t ............................. ok
t/release-dependent.t ................... skipped: these tests are for release candidate testing
t/Constants.t ........................... ok
t/Bugs.t ................................ ok
t/smoke-Driver-CacheCache.t ............. skipped: these tests are for "smoke bot" testing
t/smoke-Driver-FastMmap.t ............... skipped: these tests are for "smoke bot" testing
t/smoke-Driver-File-DepthZero.t ......... skipped: these tests are for "smoke bot" testing
t/smoke-Driver-File.t ................... skipped: these tests are for "smoke bot" testing
t/Config.t .............................. ok
t/GetError.t ............................ ok
t/smoke-Driver-NonMoose.t ............... skipped: these tests are for "smoke bot" testing
t/smoke-Driver-Subcache-l1_cache.t ...... skipped: these tests are for "smoke bot" testing
t/smoke-Driver-Subcache-mirror_cache.t .. skipped: these tests are for "smoke bot" testing
t/smoke-Null.t .......................... skipped: these tests are for "smoke bot" testing
t/Initialize.t .......................... ok
t/Sanity.t .............................. ok
t/SetError.t ............................ ok
t/Util.t ................................ ok
t/Subclass.t ............................ ok
t/Subcache.t ............................ ok
t/Driver-RawMemory.t .................... ok
t/Driver-Memory.t ....................... ok
All tests successful.
Files=26, Tests=1787, 1 wallclock secs ( 0.25 usr 0.03 sys + 4.12 cusr 0.59 csys = 4.99 CPU)
Result: PASS
------------------------------
PREREQUISITES
------------------------------
Prerequisite modules loaded:
No requirements found
------------------------------
ENVIRONMENT AND OTHER CONTEXT
------------------------------
Environment variables:
HARNESS_OPTIONS = j8
LANG = en_GB.UTF-8
LANGUAGE = en_GB:en_CA:en_US:en
LC_ADDRESS = en_GB.UTF-8
LC_ALL = en_GB.UTF-8
LC_IDENTIFICATION = en_GB.UTF-8
LC_MEASUREMENT = en_GB.UTF-8
LC_MONETARY = en_GB.UTF-8
LC_NAME = en_GB.UTF-8
LC_NUMERIC = en_GB.UTF-8
LC_PAPER = en_GB.UTF-8
LC_TELEPHONE = en_GB.UTF-8
LC_TIME = en_GB.UTF-8
PATH = /home/ioan/.plenv/versions/mm-perl/bin:/home/ioan/.plenv/libexec:/home/ioan/.plenv/plugins/perl-build/bin:/home/ioan/.plenv/bin:/home/ioan/Projects/github.maxmind.com/maxmind/mm_website/bin:/home/ioan/Projects/github.maxmind.com/maxmind/mm_website/dev/bin/containers:/home/ioan/Projects/github.maxmind.com/maxmind/mm_website/dev/bin/go:/home/ioan/Projects/github.maxmind.com/maxmind/mm_website/dev/bin/go/installed:/home/ioan/Projects/github.maxmind.com/maxmind/mm_website/ansible/bin:/home/ioan/Projects/github.maxmind.com/maxmind/mm_website/ansible/roles/server_management/files:/home/ioan/go/bin:/home/ioan/.raku/bin:/home/ioan/.plenv/shims:/snap/bin:/snap/google-cloud-sdk/current/bin:/home/ioan/.krew/bin::/home/ioan/.local/bin:/usr/local/bin:/usr/bin:/bin:/usr/local/sbin:/sbin:/usr/sbin:/usr/games
PERL5LIB = /home/ioan/Projects/github.maxmind.com/maxmind/mm_website/lib:/home/ioan/Projects/github.maxmind.com/maxmind/mm_website/t/lib:/home/ioan/Projects/github.maxmind.com/maxmind/mm_website/ansible/roles/server_management/files/perl_modules/
PERL_CPANM_OPT = --prompt --no-man-pages --verify --mirror https://cpan.metacpan.org
SHELL = /bin/zsh
TERM = xterm-256color
Perl special variables (and OS-specific diagnostics, for MSWin32):
EGID = 1001 4 20 24 27 30 46 119 130 131 134 138 1001
EUID = 1001
EXECUTABLE_NAME = /home/ioan/.plenv/versions/mm-perl/bin/perl5.34.0
GID = 1001 4 20 24 27 30 46 119 130 131 134 138 1001
UID = 1001
Perl module toolchain versions installed:
Module Have
------------------- --------
CPAN 2.29
CPAN::Meta 2.150010
Cwd 3.75
ExtUtils::CBuilder 0.280236
ExtUtils::Command 7.64
ExtUtils::Install 2.20
ExtUtils::MakeMaker 7.64
ExtUtils::Manifest 1.73
ExtUtils::ParseXS 3.43
File::Spec 3.75
JSON 4.04
JSON::PP 4.07
Module::Build 0.4231
Module::Signature 0.88
Parse::CPAN::Meta 2.150010
Test::Harness 3.42
Test::More 1.302188
YAML 1.30
YAML::Syck 1.34
version 0.9929
--
Summary of my perl5 (revision 5 version 34 subversion 0) configuration:
Platform:
osname=linux
osvers=5.13.0-25-generic
archname=x86_64-linux
uname='linux impatience 5.13.0-25-generic #26-ubuntu smp fri jan 7 15:48:31 utc 2022 x86_64 x86_64 x86_64 gnulinux '
config_args='-Dprefix=/home/ioan/.plenv/versions/mm-perl -de -Dversiononly -Dcc=clang -Doptimize=-O3 -Dccflags-march=native -Dman1dir=none -Dman3dir=none -A'eval:scriptdir=/home/ioan/.plenv/versions/mm-perl/bin''
hint=recommended
useposix=true
d_sigaction=define
useithreads=undef
usemultiplicity=undef
use64bitint=define
use64bitall=define
uselongdouble=undef
usemymalloc=n
default_inc_excludes_dot=define
Compiler:
cc='clang'
ccflags ='-fno-strict-aliasing -pipe -fstack-protector-strong -I/usr/local/include -D_LARGEFILE_SOURCE -D_FILE_OFFSET_BITS=64'
optimize='-O3'
cppflags='-fno-strict-aliasing -pipe -fstack-protector-strong -I/usr/local/include'
ccversion=''
gccversion='Ubuntu Clang 13.0.0'
gccosandvers=''
intsize=4
longsize=8
ptrsize=8
doublesize=8
byteorder=12345678
doublekind=3
d_longlong=define
longlongsize=8
d_longdbl=define
longdblsize=16
longdblkind=3
ivtype='long'
ivsize=8
nvtype='double'
nvsize=8
Off_t='off_t'
lseeksize=8
alignbytes=8
prototype=define
Linker and Libraries:
ld='clang'
ldflags =' -fstack-protector-strong -L/usr/local/lib'
libpth=/usr/lib/llvm-13/lib/clang/13.0.0/lib /usr/local/lib /usr/lib/x86_64-linux-gnu /usr/lib /usr/lib64
libs=-lpthread -lnsl -ldb -ldl -lm -lcrypt -lutil -lc
perllibs=-lpthread -lnsl -ldl -lm -lcrypt -lutil -lc
libc=/lib/x86_64-linux-gnu/libc.so.6
so=so
useshrplib=false
libperl=libperl.a
gnulibc_version='2.34'
Dynamic Linking:
dlsrc=dl_dlopen.xs
dlext=so
d_dlsymun=undef
ccdlflags='-Wl,-E'
cccdlflags='-fPIC'
lddlflags='-shared -O3 -L/usr/local/lib -fstack-protector-strong'
Characteristics of this binary (from libperl):
Compile-time options:
HAS_TIMES
PERLIO_LAYERS
PERL_COPY_ON_WRITE
PERL_DONT_CREATE_GVSV
PERL_MALLOC_WRAP
PERL_OP_PARENT
PERL_PRESERVE_IVUV
USE_64_BIT_ALL
USE_64_BIT_INT
USE_LARGE_FILES
USE_LOCALE
USE_LOCALE_COLLATE
USE_LOCALE_CTYPE
USE_LOCALE_NUMERIC
USE_LOCALE_TIME
USE_PERLIO
USE_PERL_ATOF
Built under linux
Compiled at Jan 18 2022 10:48:23
%ENV:
PERL5LIB="/home/ioan/Projects/github.maxmind.com/maxmind/mm_website/lib:/home/ioan/Projects/github.maxmind.com/maxmind/mm_website/t/lib:/home/ioan/Projects/github.maxmind.com/maxmind/mm_website/ansible/roles/server_management/files/perl_modules/"
PERL_CPANM_OPT="--prompt --no-man-pages --verify --mirror https://cpan.metacpan.org"
@INC:
/home/ioan/Projects/github.maxmind.com/maxmind/mm_website/lib
/home/ioan/Projects/github.maxmind.com/maxmind/mm_website/t/lib
/home/ioan/Projects/github.maxmind.com/maxmind/mm_website/ansible/roles/server_management/files/perl_modules/
/home/ioan/.plenv/versions/mm-perl/lib/site_perl/5.34.0/x86_64-linux
/home/ioan/.plenv/versions/mm-perl/lib/site_perl/5.34.0
/home/ioan/.plenv/versions/mm-perl/lib/5.34.0/x86_64-linux
/home/ioan/.plenv/versions/mm-perl/lib/5.34.0