FFI-Platypus v1.10 Perl 5 v5.8.9 x86_64-linux-thread-multi
- Status
- Pass
- From
- David Cantrell (DCANTRELL)
- Dist
-
FFI-Platypus v1.10
- Platform
- Perl 5 v5.8.9 x86_64-linux-thread-multi
- Date
- 2020-02-06 12:45:30
- ID
- 8eb685b8-48de-11ea-aebf-4e2f052d0de1
This distribution has been tested as part of the CPAN Testers
project, supporting the Perl programming language. See
http://wiki.cpantesters.org/ for more information or email
questions to cpan-testers-discuss@perl.org
--
Dear Graham Ollis,
This is a computer-generated report for FFI-Platypus-1.10
on perl 5.8.9, created by CPAN-Reporter-1.2018.
Thank you for uploading your work to CPAN. Congratulations!
All tests were successful.
Sections of this report:
* Tester comments
* Program output
* Prerequisites
* Environment and other context
------------------------------
TESTER COMMENTS
------------------------------
Additional comments from tester:
this report is from an automated smoke testing program
and was not reviewed by a human for accuracy
------------------------------
PROGRAM OUTPUT
------------------------------
Output from '/usr/bin/make test':
"/home/david/cpantesting/perl-5.8.9/bin/perl" -MExtUtils::Command::MM -e 'cp_nonempty' -- lib/FFI/Platypus.bs blib/arch/auto/FFI/Platypus/Platypus.bs 644
CC t/ffi/align.c
CC t/ffi/align_array.c
CC t/ffi/align_fixed.c
CC t/ffi/align_string.c
CC t/ffi/basic.c
CC t/ffi/closure.c
CC t/ffi/color.c
CC t/ffi/complex_double.c
CC t/ffi/complex_float.c
CC t/ffi/double.c
CC t/ffi/float.c
CC t/ffi/gh117.c
CC t/ffi/gh174.c
CC t/ffi/longdouble.c
CC t/ffi/memcmp4.c
CC t/ffi/meta.c
CC t/ffi/pointer.c
CC t/ffi/record.c
CC t/ffi/sint16.c
CC t/ffi/sint32.c
CC t/ffi/sint64.c
CC t/ffi/sint8.c
CC t/ffi/string.c
CC t/ffi/string_array.c
CC t/ffi/uint16.c
CC t/ffi/uint32.c
CC t/ffi/uint64.c
CC t/ffi/uint8.c
CC t/ffi/variadic.c
LD t/ffi/libtest.so
PERL_DL_NONLAZY=1 "/home/david/cpantesting/perl-5.8.9/bin/perl" "-MExtUtils::Command::MM" "-MTest::Harness" "-e" "undef *Test::Harness::Switches; test_harness(0, 'blib/lib', 'blib/arch')" t/*.t
#
#
#
# HARNESS_ACTIVE=1
# HARNESS_VERSION=3.42
# LANG=en_US.UTF-8
# PERL="/home/david/cpantesting/perl-5.8.9/bin/perl"
# PERL5LIB=/home/david/cpantesting/perl-5.8.9/.cpan/build/FFI-Platypus-1.10-0/blib/lib:/home/david/cpantesting/perl-5.8.9/.cpan/build/FFI-Platypus-1.10-0/blib/arch:
# PERL5OPT=
# PERL5_CPANPLUS_IS_RUNNING=11155
# PERL5_CPAN_IS_RUNNING=11155
# PERLVER=5.8.9
# PERL_DL_NONLAZY=1
# PERL_INLINE_DIRECTORY=/home/david/.Inline-5.8.9
# PERL_MM_USE_DEFAULT=1
# PERL_USE_UNSAFE_INC=0
# SHELL=/bin/bash
#
#
#
# PERL5LIB path
# /home/david/cpantesting/perl-5.8.9/.cpan/build/FFI-Platypus-1.10-0/blib/lib
# /home/david/cpantesting/perl-5.8.9/.cpan/build/FFI-Platypus-1.10-0/blib/arch
#
#
#
# perl 5.008009
# Alien::Base 2.0301
# Capture::Tiny 0.48
# Devel::Hide 0.0010
# ExtUtils::CBuilder 0.280234
# ExtUtils::MakeMaker 7.34
# ExtUtils::ParseXS 3.35
# FFI::CheckLib 0.26
# IPC::Cmd 1.02
# JSON::PP 4.02
# List::Util 1.54
# Math::LongDouble -
# PkgConfig 0.23026
# Test::More 1.302162
# constant 1.33
# forks -
#
#
#
# mode : fallback
# Alien::FFI->VERSION = 0.24
# Alien::FFI->install_type = share
# Alien::FFI->cflags = -I/home/david/cpantesting/perl-5.8.9/lib/site_perl/5.8.9/x86_64-linux-thread-multi/auto/share/dist/Alien-FFI/include
# Alien::FFI->libs = -L/home/david/cpantesting/perl-5.8.9/lib/site_perl/5.8.9/x86_64-linux-thread-multi/auto/share/dist/Alien-FFI/lib/../lib -lffi
# Alien::FFI->version = 3.3
# my_configure = %{configure} --disable-shared --enable-static --disable-builddir
#
#
#
# ffi.platypus.memory.strdup_impl =libc
# ffi.platypus.memory.strndup_impl=libc
#
#
#
# Types:
# double : double, float complex
# float : float
# longdouble : double complex, long double, long double complex
# sint16 : int16_t, short, signed short
# sint32 : int, int32_t, senum, signed int, wchar_t
# sint64 : blkcnt_t, blksize_t, int64_t, intptr_t, long, long long, off_t, ptrdiff_t, signed long, signed long long, ssize_t, time_t
# sint8 : char, int8_t, signed char
# uint16 : uint16_t, unsigned short, ushort
# uint32 : enum, gid_t, mode_t, uid_t, uint, uint32_t, unsigned int, wint_t
# uint64 : dev_t, ino_t, nlink_t, size_t, uint64_t, uintptr_t, ulong, unsigned long, unsigned long long
# uint8 : bool, uchar, uint8_t, unsigned char
#
#
#
# ABIs:
# default_abi 2
# efi64 3
# gnuw64 4
# unix64 2
# win64 3
#
#
#
# Probes:
# bigendian64 0
# recordvalue 1
# longdouble 1
# complex 1
# abi 1
# bigendian 0
# alloca 1
# variadic 1
#
#
#
# CPU Info:
# model name : Intel Xeon Processor (Skylake, IBRS)
# flags : fpu vme de pse tsc msr pae mce cx8 apic sep mtrr pge mca cmov pat pse36 clflush mmx fxsr sse sse2 ht syscall nx pdpe1gb rdtscp lm constant_tsc rep_good nopl xtopology pni pclmulqdq ssse3 fma cx16 pcid sse4_1 sse4_2 x2apic movbe popcnt tsc_deadline_timer aes xsave avx f16c rdrand hypervisor lahf_lm abm 3dnowprefetch invpcid_single ssbd ibrs ibpb kaiser fsgsbase bmi1 hle avx2 smep bmi2 erms invpcid rtm mpx avx512f avx512dq rdseed adx smap clwb avx512cd avx512bw avx512vl xsaveopt xsavec xgetbv1 arat
# address sizes : 40 bits physical, 48 bits virtual
#
#
#
# No LSB modules are available.
# Distributor ID: Debian
# Description: Debian GNU/Linux 9.8 (stretch)
# Release: 9.8
# Codename: stretch
#
#
#
# [PLATFORM]
# osname : linux
# cc : cc
# cxx : c++
# for : ---
# ld : cc
# ccflags : -fPIC -D_REENTRANT -D_GNU_SOURCE -fwrapv -fno-strict-aliasing -pipe -I/usr/local/include -D_LARGEFILE_SOURCE -D_FILE_OFFSET_BITS=64 -fwrapv -O2 -I/home/david/cpantesting/perl-5.8.9/.cpan/build/FFI-Platypus-1.10-0/blib/lib/auto/share/dist/FFI-Platypus/include
# ldflags : -shared -O2 -L/usr/local/lib
# object suffix : .o
# library prefix : lib
# library suffix : .so
# cc mm works : -MM
#
#
#
t/00_diag.t .............................. ok
t/01_use.t ............................... ok
t/ffi_build.t ............................ ok
t/ffi_build_file_base.t .................. ok
t/ffi_build_file_c.t ..................... ok
t/ffi_build_file_cxx.t ................... ok
t/ffi_build_file_library.t ............... ok
t/ffi_build_file_object.t ................ ok
t/ffi_build_mm.t ......................... ok
t/ffi_build_platform.t ................... ok
t/ffi_platypus.t ......................... ok
t/ffi_platypus_api.t ..................... ok
t/ffi_platypus_buffer.t .................. ok
t/ffi_platypus_bundle.t .................. ok
t/ffi_platypus_closure.t ................. ok
t/ffi_platypus_constant.t ................ ok
t/ffi_platypus_declare.t ................. ok
t/ffi_platypus_dl.t ...................... ok
t/ffi_platypus_function.t ................ ok
t/ffi_platypus_function_wrapper.t ........ ok
t/ffi_platypus_internal.t ................ ok
t/ffi_platypus_lang.t .................... ok
t/ffi_platypus_lang_asm.t ................ ok
t/ffi_platypus_lang_c.t .................. ok
t/ffi_platypus_lang_win32.t .............. ok
t/ffi_platypus_legacy.t .................. ok
t/ffi_platypus_memory.t .................. ok
t/ffi_platypus_record.t .................. ok
t/ffi_platypus_record_meta.t ............. ok
t/ffi_platypus_record_tiearray.t ......... ok
t/ffi_platypus_shareconfig.t ............. ok
t/ffi_platypus_type.t .................... ok
t/ffi_platypus_type_pointersizebuffer.t .. ok
t/ffi_platypus_type_stringarray.t ........ ok
t/ffi_platypus_type_stringpointer.t ...... ok
t/ffi_platypus_typeparser.t .............. ok
t/ffi_platypus_typeparser_version0.t ..... ok
t/ffi_platypus_typeparser_version1.t ..... ok
t/ffi_probe.t ............................ ok
t/ffi_probe_runner.t ..................... ok
t/ffi_probe_runner_builder.t ............. ok
t/ffi_probe_runner_result.t .............. ok
t/ffi_temp.t ............................. ok
t/forks.t ................................ skipped: Test requires forks
t/gh117.t ................................ ok
t/gh129.t ................................ ok
t/memory.t ............................... skipped: tested only in CI
t/threads.t .............................. ok
t/type_complex_double.t .................. ok
t/type_complex_float.t ................... ok
t/type_custom.t .......................... ok
t/type_double.t .......................... ok
t/type_float.t ........................... ok
t/type_longdouble.t ...................... ok
t/type_longdouble__array.t ............... ok
t/type_longdouble__hide.t ................ ok
t/type_longdouble__ptr.t ................. ok
t/type_opaque.t .......................... ok
t/type_record.t .......................... ok
t/type_record_value.t .................... ok
t/type_sint16.t .......................... ok
t/type_sint32.t .......................... ok
t/type_sint64.t .......................... ok
t/type_sint8.t ........................... ok
t/type_string.t .......................... ok
t/type_uint16.t .......................... ok
t/type_uint32.t .......................... ok
t/type_uint64.t .......................... ok
t/type_uint8.t ........................... ok
All tests successful.
Files=69, Tests=346, 85 wallclock secs ( 0.89 usr 0.28 sys + 9.46 cusr 1.79 csys = 12.42 CPU)
Result: PASS
------------------------------
PREREQUISITES
------------------------------
Prerequisite modules loaded:
requires:
Module Need Have
------------------- -------- --------
Capture::Tiny 0 0.48
constant 1.32 1.33
ExtUtils::MakeMaker 7.12 7.34
FFI::CheckLib 0.05 0.26
IPC::Cmd 0 1.02
JSON::PP 0 4.02
List::Util 1.45 1.54
perl 5.008001 5.008009
build_requires:
Module Need Have
------------------- -------- --------
Alien::FFI 0.20 0.24
Capture::Tiny 0 0.48
ExtUtils::CBuilder 0 0.280234
Test::More 0.98 1.302162
configure_requires:
Module Need Have
------------------- -------- --------
Capture::Tiny 0 0.48
ExtUtils::MakeMaker 7.12 7.34
ExtUtils::ParseXS 3.30 3.35
IPC::Cmd 0 1.02
perl 5.006 5.008009
------------------------------
ENVIRONMENT AND OTHER CONTEXT
------------------------------
Environment variables:
AUTOMATED_TESTING = 1
LANG = en_US.UTF-8
NONINTERACTIVE_TESTING = 1
PATH = /usr/local/bin:/usr/bin:/bin:/usr/local/games:/usr/games
PERL = 5.8.9
PERL5LIB =
PERL5OPT =
PERL5_CPANPLUS_IS_RUNNING = 11155
PERL5_CPAN_IS_RUNNING = 11155
PERLVER = 5.8.9
PERL_INLINE_DIRECTORY = /home/david/.Inline-5.8.9
PERL_MM_USE_DEFAULT = 1
PERL_USE_UNSAFE_INC = 0
SHELL = /bin/bash
TERM = screen
Perl special variables (and OS-specific diagnostics, for MSWin32):
$^X = /home/david/cpantesting/perl-5.8.9/bin/perl
$UID/$EUID = 1000 / 1000
$GID = 1000 27 1000
$EGID = 1000 27 1000
Perl module toolchain versions installed:
Module Have
------------------- --------
CPAN 2.26
CPAN::Meta 2.143240
Cwd 3.75
ExtUtils::CBuilder 0.280234
ExtUtils::Command 7.34
ExtUtils::Install 2.06
ExtUtils::MakeMaker 7.34
ExtUtils::Manifest 1.70
ExtUtils::ParseXS 3.35
File::Spec 3.75
JSON 4.02
JSON::PP 4.02
Module::Build 0.4231
Module::Signature n/a
Parse::CPAN::Meta 1.4414
Test::Harness 3.42
Test::More 1.302162
YAML n/a
YAML::Syck n/a
version 0.9924
--
Summary of my perl5 (revision 5 version 8 subversion 9) configuration:
Platform:
osname=linux, osvers=4.9.0-8-amd64, archname=x86_64-linux-thread-multi
uname='linux pigsty 4.9.0-8-amd64 #1 smp debian 4.9.144-3 (2019-02-02) x86_64 gnulinux '
config_args='-de -Duse64bitall -Dusethreads -Dprefix=/home/david/cpantesting/perl-5.8.9 -A ccflags=-fwrapv'
hint=previous, useposix=true, d_sigaction=define
usethreads=define use5005threads=undef useithreads=define usemultiplicity=define
useperlio=define d_sfio=undef uselargefiles=define usesocks=undef
use64bitint=define use64bitall=define uselongdouble=undef
usemymalloc=n, bincompat5005=undef
Compiler:
cc='cc', ccflags ='-D_REENTRANT -D_GNU_SOURCE -fwrapv -fno-strict-aliasing -pipe -I/usr/local/include -D_LARGEFILE_SOURCE -D_FILE_OFFSET_BITS=64 -fwrapv',
optimize='-O2',
cppflags='-D_REENTRANT -D_GNU_SOURCE -fwrapv -fno-strict-aliasing -pipe -I/usr/local/include -D_REENTRANT -D_GNU_SOURCE -fwrapv -fno-strict-aliasing -pipe -I/usr/local/include -D_LARGEFILE_SOURCE -D_FILE_OFFSET_BITS=64 -fwrapv'
ccversion='', gccversion='6.3.0 20170516', gccosandvers=''
intsize=4, longsize=8, ptrsize=8, doublesize=8, byteorder=12345678
d_longlong=define, longlongsize=8, d_longdbl=define, longdblsize=16
ivtype='long', ivsize=8, nvtype='double', nvsize=8, Off_t='off_t', lseeksize=8
alignbytes=8, prototype=define
Linker and Libraries:
ld='cc', ldflags =' -L/usr/local/lib'
libpth=/usr/local/lib /lib/x86_64-linux-gnu /lib/../lib /usr/lib/x86_64-linux-gnu /usr/lib/../lib /lib /usr/lib
libs=-lnsl -ldb -ldl -lm -lcrypt -lutil -lpthread -lc
perllibs=-lnsl -ldl -lm -lcrypt -lutil -lpthread -lc
libc=libc-2.24.so, so=so, useshrplib=false, libperl=libperl.a
gnulibc_version='2.24'
Dynamic Linking:
dlsrc=dl_dlopen.xs, dlext=so, d_dlsymun=undef, ccdlflags='-Wl,-E'
cccdlflags='-fPIC', lddlflags='-shared -O2 -L/usr/local/lib'
Characteristics of this binary (from libperl):
Compile-time options: MULTIPLICITY PERL_IMPLICIT_CONTEXT PERL_MALLOC_WRAP
USE_64_BIT_ALL USE_64_BIT_INT USE_FAST_STDIO
USE_ITHREADS USE_LARGE_FILES USE_PERLIO
USE_REENTRANT_API
Locally applied patches:
Devel::PatchPerl 1.56
Built under linux
Compiled at Apr 25 2019 16:01:13
%ENV:
PERL="5.8.9"
PERL5LIB=""
PERL5OPT=""
PERL5_CPANPLUS_IS_RUNNING="11155"
PERL5_CPAN_IS_RUNNING="11155"
PERLVER="5.8.9"
PERL_INLINE_DIRECTORY="/home/david/.Inline-5.8.9"
PERL_MM_USE_DEFAULT="1"
PERL_USE_UNSAFE_INC="0"
@INC:
/home/david/cpantesting/perl-5.8.9/lib/5.8.9/x86_64-linux-thread-multi
/home/david/cpantesting/perl-5.8.9/lib/5.8.9
/home/david/cpantesting/perl-5.8.9/lib/site_perl/5.8.9/x86_64-linux-thread-multi
/home/david/cpantesting/perl-5.8.9/lib/site_perl/5.8.9
.