App-Greple v9.23 Perl 5 v5.32.1 x86_64-linux
- Status
- Pass
- From
- David Solimano
- Dist
-
App-Greple v9.23
- Platform
- Perl 5 v5.32.1 x86_64-linux
- Date
- 2025-06-28 10:13:37
- ID
- 8ead7b90-5408-11f0-a4f4-c6739537984c
This distribution has been tested as part of the CPAN Testers
project, supporting the Perl programming language. See
http://wiki.cpantesters.org/ for more information or email
questions to cpan-testers-discuss@perl.org
--
Dear Kaz Utashiro,
This is a computer-generated report for App-Greple-9.23
on perl 5.32.1, created by CPAN-Reporter-1.2019.
Thank you for uploading your work to CPAN. Congratulations!
All tests were successful.
Sections of this report:
* Tester comments
* Program output
* Prerequisites
* Environment and other context
------------------------------
TESTER COMMENTS
------------------------------
Additional comments from tester:
this report is from an automated smoke testing program
and was not reviewed by a human for accuracy
------------------------------
PROGRAM OUTPUT
------------------------------
Output from './Build test':
# Testing App::Greple 9.23, Perl v5.32.1, /home/perluser/perl5/perlbrew/perls/perl-5.32.1/bin/perl
t/00_load.t ............. ok
t/01_run.t .............. ok
t/02_search.t ........... ok
t/03_ja.t ............... ok
t/05_reverse_regions.t .. ok
t/06_matchcount.t ....... ok
t/08_region.t ........... ok
t/09_filter.t ........... ok
t/10_select.t ........... ok
t/11_block.t ............ ok
utf8 "\xFE" does not map to Unicode at t/runner/Runner.pm line 53.
utf8 "\xFE" does not map to Unicode at t/runner/Runner.pm line 53.
utf8 "\xFE" does not map to Unicode at t/runner/Runner.pm line 53.
t/12_error.t ............ ok
t/13_max.t .............. ok
t/14_no_color.t ......... ok
t/15_encoding.t ......... ok
t/16_callback.t ......... ok
t/17_style.t ............ ok
t/line/00_load.t ........ ok
t/line/02_search.t ...... ok
t/select/00_load.t ...... ok
t/select/01_select.t .... ok
All tests successful.
Test Summary Report
-------------------
t/09_filter.t (Wstat: 0 Tests: 3 Failed: 0)
TODO passed: 1
Files=20, Tests=174, 33 wallclock secs ( 0.14 usr 0.12 sys + 24.31 cusr 8.39 csys = 32.96 CPU)
Result: PASS
------------------------------
PREREQUISITES
------------------------------
Prerequisite modules loaded:
requires:
Module Need Have
------------------------ ------- --------
Getopt::EX v2.2.1 2.2.2
Hash::Util 0 0.23
List::BinarySearch 0 0.25
List::Util 1.45 1.63
perl v5.18.2 5.032001
Term::ANSIColor::Concise 2.08 2.08
build_requires:
Module Need Have
------------------------ ------- --------
Test::More 0.98 1.302199
configure_requires:
Module Need Have
------------------------ ------- --------
Module::Build::Tiny 0.035 0.048
------------------------------
ENVIRONMENT AND OTHER CONTEXT
------------------------------
Environment variables:
AUTOMATED_TESTING = 1
LANG = en_US.UTF-8
PATH = /home/perluser/perl5/perlbrew/bin:/home/perluser/perl5/perlbrew/perls/perl-5.32.1/bin:/home/davidlou/.cargo/bin:/home/davidlou/perl5/perlbrew/bin:/usr/local/bin:/usr/bin:/bin:/usr/local/games:/usr/games
PERL5LIB = /home/perluser/.cpan/build/List-BinarySearch-0.25-0/blib/arch:/home/perluser/.cpan/build/List-BinarySearch-0.25-0/blib/lib:/home/perluser/.cpan/build/List-BinarySearch-XS-0.09-0/blib/arch:/home/perluser/.cpan/build/List-BinarySearch-XS-0.09-0/blib/lib:/home/perluser/.cpan/build/Getopt-EX-2.2.2-0/blib/arch:/home/perluser/.cpan/build/Getopt-EX-2.2.2-0/blib/lib:/home/perluser/.cpan/build/Term-ANSIColor-Concise-2.08-0/blib/arch:/home/perluser/.cpan/build/Term-ANSIColor-Concise-2.08-0/blib/lib:/home/perluser/.cpan/build/Graphics-ColorNames-v3.5.0-1/blib/arch:/home/perluser/.cpan/build/Graphics-ColorNames-v3.5.0-1/blib/lib:/home/perluser/.cpan/build/Test-Most-0.38-5/blib/arch:/home/perluser/.cpan/build/Test-Most-0.38-5/blib/lib
PERL5OPT =
PERL5_CPANPLUS_IS_RUNNING = 4078679
PERL5_CPAN_IS_RUNNING = 4078679
PERL5_CPAN_IS_RUNNING_IN_RECURSION = 2535542,4078679
PERLBREW_HOME = /home/davidlou/.perlbrew
PERLBREW_MANPATH = /home/perluser/perl5/perlbrew/perls/perl-5.32.1/man
PERLBREW_PATH = /home/perluser/perl5/perlbrew/bin:/home/perluser/perl5/perlbrew/perls/perl-5.32.1/bin
PERLBREW_PERL = perl-5.32.1
PERLBREW_ROOT = /home/perluser/perl5/perlbrew
PERLBREW_SHELLRC_VERSION = 0.98
PERLBREW_VERSION = 0.98
PERL_CR_SMOKER_CURRENT = App-Greple-under-1.00
PERL_EXTUTILS_AUTOINSTALL = --defaultdeps
PERL_MM_USE_DEFAULT = 1
PERL_USE_UNSAFE_INC = 1
SHELL = /bin/bash
TERM = xterm
Perl special variables (and OS-specific diagnostics, for MSWin32):
$^X = /home/perluser/perl5/perlbrew/perls/perl-5.32.1/bin/perl
$UID/$EUID = 1001 / 1001
$GID = 1001 1001
$EGID = 1001 1001
Perl module toolchain versions installed:
Module Have
------------------- --------
CPAN 2.27
CPAN::Meta 2.150010
Cwd 3.78
ExtUtils::CBuilder 0.280234
ExtUtils::Command 7.44
ExtUtils::Install 2.14
ExtUtils::MakeMaker 7.44
ExtUtils::Manifest 1.72
ExtUtils::ParseXS 3.40
File::Spec 3.78
JSON n/a
JSON::PP 4.04
Module::Build 0.4234
Module::Signature n/a
Parse::CPAN::Meta 2.150010
Test2 1.302199
Test::Harness 3.42
Test::More 1.302199
YAML 1.31
YAML::Syck n/a
version 0.9924
--
Summary of my perl5 (revision 5 version 32 subversion 1) configuration:
Platform:
osname=linux
osvers=5.10.0-23-amd64
archname=x86_64-linux
uname='linux csi-nyp-lensrv 5.10.0-23-amd64 #1 smp debian 5.10.179-1 (2023-05-12) x86_64 gnulinux '
config_args='-de -Dprefix=/home/perluser/perl5/perlbrew/perls/perl-5.32.1 -Aeval:scriptdir=/home/perluser/perl5/perlbrew/perls/perl-5.32.1/bin'
hint=recommended
useposix=true
d_sigaction=define
useithreads=undef
usemultiplicity=undef
use64bitint=define
use64bitall=define
uselongdouble=undef
usemymalloc=n
default_inc_excludes_dot=define
bincompat5005=undef
Compiler:
cc='cc'
ccflags ='-fwrapv -fno-strict-aliasing -pipe -fstack-protector-strong -I/usr/local/include -D_LARGEFILE_SOURCE -D_FILE_OFFSET_BITS=64 -D_FORTIFY_SOURCE=2'
optimize='-O2'
cppflags='-fwrapv -fno-strict-aliasing -pipe -fstack-protector-strong -I/usr/local/include'
ccversion=''
gccversion='10.2.1 20210110'
gccosandvers=''
intsize=4
longsize=8
ptrsize=8
doublesize=8
byteorder=12345678
doublekind=3
d_longlong=define
longlongsize=8
d_longdbl=define
longdblsize=16
longdblkind=3
ivtype='long'
ivsize=8
nvtype='double'
nvsize=8
Off_t='off_t'
lseeksize=8
alignbytes=8
prototype=define
Linker and Libraries:
ld='cc'
ldflags =' -fstack-protector-strong -L/usr/local/lib'
libpth=/usr/local/lib /usr/include/x86_64-linux-gnu /usr/lib /lib/x86_64-linux-gnu /lib/../lib /usr/lib/x86_64-linux-gnu /usr/lib/../lib /lib
libs=-lpthread -lnsl -ldb -ldl -lm -lcrypt -lutil -lc
perllibs=-lpthread -lnsl -ldl -lm -lcrypt -lutil -lc
libc=libc-2.31.so
so=so
useshrplib=false
libperl=libperl.a
gnulibc_version='2.31'
Dynamic Linking:
dlsrc=dl_dlopen.xs
dlext=so
d_dlsymun=undef
ccdlflags='-Wl,-E'
cccdlflags='-fPIC'
lddlflags='-shared -O2 -L/usr/local/lib -fstack-protector-strong'
Characteristics of this binary (from libperl):
Compile-time options:
HAS_TIMES
PERLIO_LAYERS
PERL_COPY_ON_WRITE
PERL_DONT_CREATE_GVSV
PERL_MALLOC_WRAP
PERL_OP_PARENT
PERL_PRESERVE_IVUV
USE_64_BIT_ALL
USE_64_BIT_INT
USE_LARGE_FILES
USE_LOCALE
USE_LOCALE_COLLATE
USE_LOCALE_CTYPE
USE_LOCALE_NUMERIC
USE_LOCALE_TIME
USE_PERLIO
USE_PERL_ATOF
Locally applied patches:
Devel::PatchPerl 2.08
Built under linux
Compiled at May 14 2024 20:12:59
%ENV:
PERL5LIB="/home/perluser/.cpan/build/List-BinarySearch-0.25-0/blib/arch:/home/perluser/.cpan/build/List-BinarySearch-0.25-0/blib/lib:/home/perluser/.cpan/build/List-BinarySearch-XS-0.09-0/blib/arch:/home/perluser/.cpan/build/List-BinarySearch-XS-0.09-0/blib/lib:/home/perluser/.cpan/build/Getopt-EX-2.2.2-0/blib/arch:/home/perluser/.cpan/build/Getopt-EX-2.2.2-0/blib/lib:/home/perluser/.cpan/build/Term-ANSIColor-Concise-2.08-0/blib/arch:/home/perluser/.cpan/build/Term-ANSIColor-Concise-2.08-0/blib/lib:/home/perluser/.cpan/build/Graphics-ColorNames-v3.5.0-1/blib/arch:/home/perluser/.cpan/build/Graphics-ColorNames-v3.5.0-1/blib/lib:/home/perluser/.cpan/build/Test-Most-0.38-5/blib/arch:/home/perluser/.cpan/build/Test-Most-0.38-5/blib/lib"
PERL5OPT=""
PERL5_CPANPLUS_IS_RUNNING="4078679"
PERL5_CPAN_IS_RUNNING="4078679"
PERL5_CPAN_IS_RUNNING_IN_RECURSION="2535542,4078679"
PERLBREW_HOME="/home/davidlou/.perlbrew"
PERLBREW_MANPATH="/home/perluser/perl5/perlbrew/perls/perl-5.32.1/man"
PERLBREW_PATH="/home/perluser/perl5/perlbrew/bin:/home/perluser/perl5/perlbrew/perls/perl-5.32.1/bin"
PERLBREW_PERL="perl-5.32.1"
PERLBREW_ROOT="/home/perluser/perl5/perlbrew"
PERLBREW_SHELLRC_VERSION="0.98"
PERLBREW_VERSION="0.98"
PERL_CR_SMOKER_CURRENT="App-Greple-under-1.00"
PERL_EXTUTILS_AUTOINSTALL="--defaultdeps"
PERL_MM_USE_DEFAULT="1"
PERL_USE_UNSAFE_INC="1"
@INC:
/home/perluser/.cpan/build/List-BinarySearch-0.25-0/blib/arch
/home/perluser/.cpan/build/List-BinarySearch-0.25-0/blib/lib
/home/perluser/.cpan/build/List-BinarySearch-XS-0.09-0/blib/arch
/home/perluser/.cpan/build/List-BinarySearch-XS-0.09-0/blib/lib
/home/perluser/.cpan/build/Getopt-EX-2.2.2-0/blib/arch
/home/perluser/.cpan/build/Getopt-EX-2.2.2-0/blib/lib
/home/perluser/.cpan/build/Term-ANSIColor-Concise-2.08-0/blib/arch
/home/perluser/.cpan/build/Term-ANSIColor-Concise-2.08-0/blib/lib
/home/perluser/.cpan/build/Graphics-ColorNames-v3.5.0-1/blib/arch
/home/perluser/.cpan/build/Graphics-ColorNames-v3.5.0-1/blib/lib
/home/perluser/.cpan/build/Test-Most-0.38-5/blib/arch
/home/perluser/.cpan/build/Test-Most-0.38-5/blib/lib
/home/perluser/perl5/perlbrew/perls/perl-5.32.1/lib/site_perl/5.32.1/x86_64-linux
/home/perluser/perl5/perlbrew/perls/perl-5.32.1/lib/site_perl/5.32.1
/home/perluser/perl5/perlbrew/perls/perl-5.32.1/lib/5.32.1/x86_64-linux
/home/perluser/perl5/perlbrew/perls/perl-5.32.1/lib/5.32.1
.