Perl-Critic v1.152 Perl 5 v5.32.0 i86pc-solaris-thread-multi-64
- Status
- Pass
- From
- Roland van Ipenburg (IPENBURG)
- Dist
-
Perl-Critic v1.152
- Platform
- Perl 5 v5.32.0 i86pc-solaris-thread-multi-64
- Date
- 2023-12-06 03:00:04
- ID
- 8e48fa3a-93e3-11ee-b153-6a57971ba64c
This distribution has been tested as part of the CPAN Testers
project, supporting the Perl programming language. See
http://wiki.cpantesters.org/ for more information or email
questions to cpan-testers-discuss@perl.org
--
Dear Andy Lester,
This is a computer-generated report for Perl-Critic-1.152
on perl 5.32.0, created by CPAN-Reporter-1.2019.
Thank you for uploading your work to CPAN. Congratulations!
All tests were successful.
Sections of this report:
* Tester comments
* Program output
* Prerequisites
* Environment and other context
------------------------------
TESTER COMMENTS
------------------------------
Additional comments from tester:
none provided
------------------------------
PROGRAM OUTPUT
------------------------------
Output from './Build test':
# Testing Perl::Critic 1.152 with PPI 1.277 under Perl 5.032000, /usr/perl5/5.32/bin/perl
t/00_modules.t ................................ ok
t/00_versions.t ............................... ok
t/01_config.t ................................. ok
t/01_config_bad_perlcriticrc.t ................ ok
t/01_policy_config.t .......................... ok
t/02_policy.t ................................. ok
t/03_annotations.t ............................ ok
t/03_pragmas.t ................................ ok
t/04_options_processor.t ...................... ok
t/05_utils.t .................................. ok
t/05_utils_perl.t ............................. ok
t/05_utils_pod.t .............................. ok
t/05_utils_ppi.t .............................. ok
t/06_violation.t .............................. ok
t/07_command.t ................................ ok
t/07_perlcritic.t ............................. ok
t/08_document.t ............................... ok
t/09_theme.t .................................. ok
t/10_user_profile.t ........................... ok
t/11_policy_factory.t ......................... ok
t/12_policy_listing.t ......................... ok
t/12_theme_listing.t .......................... ok
t/13_bundled_policies.t ....................... ok
t/14_policy_parameter_behavior_boolean.t ...... ok
t/14_policy_parameter_behavior_enumeration.t .. ok
t/14_policy_parameter_behavior_integer.t ...... ok
t/14_policy_parameter_behavior_list_string.t .. ok
t/14_policy_parameter_behavior_string.t ....... ok
t/14_policy_parameters.t ...................... ok
t/15_statistics.t ............................. ok
t/16_roundtrip_defaults.t ..................... ok
t/20_policies.t ............................... ok
t/20_policy_pod_spelling.t .................... ok
t/20_policy_prohibit_evil_modules.t ........... ok
t/20_policy_prohibit_hard_tabs.t .............. ok
t/20_policy_prohibit_trailing_whitespace.t .... ok
t/20_policy_require_consistent_newlines.t ..... ok
t/20_policy_require_tidy_code.t ............... ok
t/92_memory_leaks.t ........................... skipped: Test::Memory::Cycle required to test memory leaks
t/gh-734.t .................................... ok
All tests successful.
Files=40, Tests=8171, 37 wallclock secs ( 0.49 usr 0.18 sys + 31.30 cusr 6.05 csys = 38.02 CPU)
Result: PASS
------------------------------
PREREQUISITES
------------------------------
Prerequisite modules loaded:
requires:
Module Need Have
------------------------- -------- --------
B::Keywords 1.23 1.26
Carp 0 1.50
charnames 0 1.48
Config::Tiny 2 2.30
English 0 1.11
Exception::Class 1.23 1.45
Exporter 5.63 5.77
File::Basename 0 2.85
File::Find 0 1.37
File::Path 0 2.18
File::Spec 0 3.78
File::Spec::Unix 0 3.78
File::Temp 0 0.2311
File::Which 0 1.27
Getopt::Long 0 2.57
List::SomeUtils 0.55 0.59
List::Util 0 1.63
Module::Pluggable 3.1 5.2
overload 0 1.31
parent 0 0.241
perl 5.010001 5.032000
Perl::Tidy 0 20230701
Pod::PlainText 0 2.07
Pod::Select 0 1.66
Pod::Spell 1 1.26
Pod::Usage 0 2.03
PPI 1.277 1.277
PPI::Document 1.277 1.277
PPI::Document::File 1.277 1.277
PPI::Node 1.277 1.277
PPI::Token::Quote::Single 1.277 1.277
PPI::Token::Whitespace 1.277 1.277
PPIx::QuoteLike 0 0.023
PPIx::Regexp 0.027 0.088
PPIx::Regexp::Util 0.068 0.088
PPIx::Utils::Traversal 0.003 0.003
Readonly 2 2.05
Scalar::Util 0 1.63
strict 0 1.11
String::Format 1.18 1.18
Term::ANSIColor 2.02 5.01
Test::Builder 0.92 1.302195
Text::ParseWords 3 3.31
version 0.77 0.9929
warnings 0 1.47
build_requires:
Module Need Have
------------------------- -------- --------
lib 0 0.65
Test::More 0 1.302195
configure_requires:
Module Need Have
------------------------- -------- --------
B::Keywords 1.23 1.26
base 0 2.27
Carp 0 1.50
English 0 1.11
Exporter 5.63 5.77
lib 0 0.65
List::SomeUtils 0.55 0.59
Module::Build 0.4204 0.4234
------------------------------
ENVIRONMENT AND OTHER CONTEXT
------------------------------
Environment variables:
LANG = en_US.UTF-8
LC_ALL =
LC_COLLATE =
LC_CTYPE =
LC_MESSAGES =
NONINTERACTIVE_TESTING = 1
PATH = /usr/bin:/usr/bin:/usr/sbin
PERL5LIB = /export/home/roland/.cpan/build/PPI-1.277-0/blib/arch:/export/home/roland/.cpan/build/PPI-1.277-0/blib/lib:/export/home/roland/.cpan/build/POSIX-strftime-Compiler-0.45-0/blib/arch:/export/home/roland/.cpan/build/POSIX-strftime-Compiler-0.45-0/blib/lib:/export/home/roland/.cpan/build/Net-DNS-1.41-0/blib/arch:/export/home/roland/.cpan/build/Net-DNS-1.41-0/blib/lib:/export/home/roland/.cpan/build/Mozilla-CA-20230821-0/blib/arch:/export/home/roland/.cpan/build/Mozilla-CA-20230821-0/blib/lib:/export/home/roland/.cpan/build/Mojolicious-9.35-0/blib/arch:/export/home/roland/.cpan/build/Mojolicious-9.35-0/blib/lib:/export/home/roland/.cpan/build/Module-CoreList-5.20231129-0/blib/arch:/export/home/roland/.cpan/build/Module-CoreList-5.20231129-0/blib/lib
PERL5OPT =
PERL5_CPANPLUS_IS_RUNNING = 1402
PERL5_CPAN_IS_RUNNING = 1402
PERL_MM_USE_DEFAULT = 1
PERL_USE_UNSAFE_INC = 1
SHELL = /usr/bin/bash
TERM = xterm-256color
Perl special variables (and OS-specific diagnostics, for MSWin32):
$^X = /usr/perl5/5.32/bin/perl
$UID/$EUID = 100 / 100
$GID = 10 10
$EGID = 10 10
Perl module toolchain versions installed:
Module Have
------------------- --------
CPAN 2.36
CPAN::Meta 2.150010
Cwd 3.78
ExtUtils::CBuilder 0.280236
ExtUtils::Command 7.70
ExtUtils::Install 2.22
ExtUtils::MakeMaker 7.70
ExtUtils::Manifest 1.75
ExtUtils::ParseXS 3.51
File::Spec 3.78
JSON 4.10
JSON::PP 4.16
Module::Build 0.4234
Module::Signature 0.88
Parse::CPAN::Meta 2.150010
Test2 1.302195
Test::Harness 3.44
Test::More 1.302195
YAML 1.30
YAML::Syck n/a
version 0.9929
--
Summary of my perl5 (revision 5 version 32 subversion 0) configuration:
Platform:
osname=solaris
osvers=2.11
archname=i86pc-solaris-thread-multi-64
uname='sunos localhost 5.11 i86pc i386 i86pc'
config_args='-de -Dmksymlinks -Ulocincpth= -Dbin=/usr/perl5/5.32/bin -Dcc=gcc -Dcf_by=perl-bugs -Dcf_email=first.last@example.invalid -Dlibperl=libperl.so -Dmyhostname=localhost -Dmydomain=foobar.example.org -Dperl_static_inline=static -Dprefix=/usr/perl5/5.32 -Dprivlib=/usr/perl5/5.32/lib -Dsitelib=/usr/perl5/site_perl/5.32 -Dsiteprefix=/usr/perl5/5.32 -Dvendorlib=/usr/perl5/vendor_perl/5.32 -Dvendorprefix=/usr/perl5/5.32 -Duseshrplib -Dusedtrace -Duse64bitall -Dusethreads -Dlibpth=/lib/64 /usr/lib/64 -Doptimize=-O3 '
hint=recommended
useposix=true
d_sigaction=define
useithreads=define
usemultiplicity=define
use64bitint=define
use64bitall=define
uselongdouble=undef
usemymalloc=n
default_inc_excludes_dot=define
bincompat5005=undef
Compiler:
cc='gcc'
ccflags ='-D_REENTRANT -m64 -fwrapv -fno-strict-aliasing -pipe -fstack-protector-strong -D_LARGEFILE64_SOURCE -D_FORTIFY_SOURCE=2 -DPERL_USE_SAFE_PUTENV'
optimize='-O3 '
cppflags='-D_REENTRANT -m64 -fwrapv -fno-strict-aliasing -pipe -fstack-protector-strong'
ccversion=''
gccversion='10.3.0'
gccosandvers=''
intsize=4
longsize=8
ptrsize=8
doublesize=8
byteorder=12345678
doublekind=3
d_longlong=define
longlongsize=8
d_longdbl=define
longdblsize=16
longdblkind=3
ivtype='long'
ivsize=8
nvtype='double'
nvsize=8
Off_t='off_t'
lseeksize=8
alignbytes=8
prototype=define
Linker and Libraries:
ld='gcc'
ldflags =' -m64 -fstack-protector-strong -L/usr/gnu/lib '
libpth=/lib/64 /usr/lib/64 /usr/gcc/10/lib /usr/gcc/10/lib/gcc/x86_64-pc-solaris2.11/10.3.0/include-fixed /usr/lib /usr/gnu/lib /usr/ccs/lib
libs=-lpthread -lsocket -lnsl -lgdbm -ldb -ldl -lm -lc
perllibs=-lpthread -lsocket -lnsl -ldl -lm -lc
libc=/lib/libc.so
so=so
useshrplib=true
libperl=libperl.so
gnulibc_version=''
Dynamic Linking:
dlsrc=dl_dlopen.xs
dlext=so
d_dlsymun=undef
ccdlflags=' -R /usr/perl5/5.32/lib/i86pc-solaris-thread-multi-64/CORE'
cccdlflags='-fPIC'
lddlflags=' -shared -m64 -L/usr/gnu/lib -fstack-protector-strong'
Characteristics of this binary (from libperl):
Compile-time options:
HAS_TIMES
MULTIPLICITY
PERLIO_LAYERS
PERL_COPY_ON_WRITE
PERL_DONT_CREATE_GVSV
PERL_IMPLICIT_CONTEXT
PERL_MALLOC_WRAP
PERL_OP_PARENT
PERL_PRESERVE_IVUV
PERL_USE_SAFE_PUTENV
USE_64_BIT_ALL
USE_64_BIT_INT
USE_ITHREADS
USE_LARGE_FILES
USE_LOCALE
USE_LOCALE_COLLATE
USE_LOCALE_CTYPE
USE_LOCALE_NUMERIC
USE_LOCALE_TIME
USE_PERLIO
USE_PERL_ATOF
USE_REENTRANT_API
USE_THREAD_SAFE_LOCALE
Built under solaris
Compiled at Nov 19 2021 12:12:16
%ENV:
PERL5LIB="/export/home/roland/.cpan/build/PPI-1.277-0/blib/arch:/export/home/roland/.cpan/build/PPI-1.277-0/blib/lib:/export/home/roland/.cpan/build/POSIX-strftime-Compiler-0.45-0/blib/arch:/export/home/roland/.cpan/build/POSIX-strftime-Compiler-0.45-0/blib/lib:/export/home/roland/.cpan/build/Net-DNS-1.41-0/blib/arch:/export/home/roland/.cpan/build/Net-DNS-1.41-0/blib/lib:/export/home/roland/.cpan/build/Mozilla-CA-20230821-0/blib/arch:/export/home/roland/.cpan/build/Mozilla-CA-20230821-0/blib/lib:/export/home/roland/.cpan/build/Mojolicious-9.35-0/blib/arch:/export/home/roland/.cpan/build/Mojolicious-9.35-0/blib/lib:/export/home/roland/.cpan/build/Module-CoreList-5.20231129-0/blib/arch:/export/home/roland/.cpan/build/Module-CoreList-5.20231129-0/blib/lib"
PERL5OPT=""
PERL5_CPANPLUS_IS_RUNNING="1402"
PERL5_CPAN_IS_RUNNING="1402"
PERL_MM_USE_DEFAULT="1"
PERL_USE_UNSAFE_INC="1"
@INC:
/export/home/roland/.cpan/build/PPI-1.277-0/blib/arch
/export/home/roland/.cpan/build/PPI-1.277-0/blib/lib
/export/home/roland/.cpan/build/POSIX-strftime-Compiler-0.45-0/blib/arch
/export/home/roland/.cpan/build/POSIX-strftime-Compiler-0.45-0/blib/lib
/export/home/roland/.cpan/build/Net-DNS-1.41-0/blib/arch
/export/home/roland/.cpan/build/Net-DNS-1.41-0/blib/lib
/export/home/roland/.cpan/build/Mozilla-CA-20230821-0/blib/arch
/export/home/roland/.cpan/build/Mozilla-CA-20230821-0/blib/lib
/export/home/roland/.cpan/build/Mojolicious-9.35-0/blib/arch
/export/home/roland/.cpan/build/Mojolicious-9.35-0/blib/lib
/export/home/roland/.cpan/build/Module-CoreList-5.20231129-0/blib/arch
/export/home/roland/.cpan/build/Module-CoreList-5.20231129-0/blib/lib
/usr/perl5/site_perl/5.32/i86pc-solaris-thread-multi-64
/usr/perl5/site_perl/5.32
/usr/perl5/vendor_perl/5.32/i86pc-solaris-thread-multi-64
/usr/perl5/vendor_perl/5.32
/usr/perl5/5.32/lib/i86pc-solaris-thread-multi-64
/usr/perl5/5.32/lib
.