HTTP-OAI v4.10 Perl 5 v5.30.1 OpenBSD.amd64-openbsd-thread-multi

Status
Pass
From
Alceu Rodrigues de Freitas Junior
Dist
HTTP-OAI v4.10
Platform
Perl 5 v5.30.1 OpenBSD.amd64-openbsd-thread-multi
Date
2019-12-02 11:19:04
ID
8cc2c8f6-14f5-11ea-972b-ef706694f557
This distribution has been tested as part of the CPAN Testers
project, supporting the Perl programming language.  See
http://wiki.cpantesters.org/ for more information or email
questions to cpan-testers-discuss@perl.org


--
Dear Patrick Hochstenbach,

This is a computer-generated report for HTTP-OAI-4.10
on perl 5.30.1, created by CPAN-Reporter-1.2018.

Thank you for uploading your work to CPAN.  Congratulations!
All tests were successful.

Sections of this report:

    * Tester comments
    * Program output
    * Prerequisites
    * Environment and other context

------------------------------
TESTER COMMENTS
------------------------------

Additional comments from tester:

this report is from an automated smoke testing program
and was not reviewed by a human for accuracy

------------------------------
PROGRAM OUTPUT
------------------------------

Output from './Build test':

t/000xml_sax.t ........... ok
t/00static.t ............. ok
t/01parse.t .............. ok
t/02token.t .............. ok
t/03badbytes.t ........... ok
t/50mets.t ............... ok
t/80network.t ............ ok
t/author-pod-syntax.t .... skipped: these tests are for testing by the author
t/error.t ................ ok
t/getrecord.t ............ ok
t/identify.t ............. ok
t/listidentifiers.t ...... ok
t/listmetadataformats.t .. ok
All tests successful.
Files=13, Tests=80,  5 wallclock secs ( 0.06 usr  0.15 sys +  2.58 cusr  1.62 csys =  4.41 CPU)
Result: PASS

------------------------------
PREREQUISITES
------------------------------

Prerequisite modules loaded:

requires:

    Module                Need   Have    
    --------------------- ------ --------
    Encode                2.12   3.01    
    HTTP::Request         0      6.18    
    HTTP::Response        0      6.18    
    LWP::UserAgent        0      6.42    
    Module::Build         0.4229 0.4229  
    URI                   0      1.76    
    XML::LibXML           1.60   2.0201  
    XML::LibXML::SAX      0      2.0201  
    XML::NamespaceSupport 0      1.12    
    XML::SAX              0      1.02    
    XML::SAX::Base        1.04   1.09    

build_requires:

    Module                Need   Have    
    --------------------- ------ --------
    Test::Deep            0.112  1.128   
    Test::LWP::UserAgent  0      0.033   
    Test::More            0.99   1.302169
    Test::Pod             0      1.52    

configure_requires:

    Module                Need   Have    
    --------------------- ------ --------
    Module::Build::Tiny   0.034  0.039   


------------------------------
ENVIRONMENT AND OTHER CONTEXT
------------------------------

Environment variables:

    AUTOMATED_TESTING = 1
    DBD_MYSQL_TESTDB = test
    DBD_MYSQL_TESTHOST = localhost
    DBD_MYSQL_TESTPASSWORD = 
    DBD_MYSQL_TESTPORT = 3306
    DBD_MYSQL_TESTUSER = goku
    EXTENDED_TESTING = 1
    PATH = /home/goku/perl5/perlbrew/bin:/home/goku/perl5/perlbrew/perls/perl-5.30.1/bin:/home/goku/bin:/usr/bin:/bin:/usr/sbin:/sbin:/usr/X11R6/bin:/usr/local/bin:/usr/local/sbin
    PERL5LIB = 
    PERL5OPT = 
    PERL5_CPANPLUS_IS_RUNNING = 54645
    PERL5_CPAN_IS_RUNNING = 54645
    PERL5_CPAN_IS_RUNNING_IN_RECURSION = 26052,54645
    PERLBREW_HOME = /home/goku/.perlbrew
    PERLBREW_MANPATH = /home/goku/perl5/perlbrew/perls/perl-5.30.1/man
    PERLBREW_PATH = /home/goku/perl5/perlbrew/bin:/home/goku/perl5/perlbrew/perls/perl-5.30.1/bin
    PERLBREW_PERL = perl-5.30.1
    PERLBREW_ROOT = /home/goku/perl5/perlbrew
    PERLBREW_SHELLRC_VERSION = 0.87
    PERLBREW_VERSION = 0.87
    PERL_CR_SMOKER_CURRENT = HTTP-OAI-4.10
    PERL_EXTUTILS_AUTOINSTALL = --defaultdeps
    PERL_MM_USE_DEFAULT = 1
    PERL_USE_UNSAFE_INC = 1
    SHELL = /usr/local/bin/bash
    TERM = xterm-256color

Perl special variables (and OS-specific diagnostics, for MSWin32):

    $^X = /home/goku/perl5/perlbrew/perls/perl-5.30.1/bin/perl
    $UID/$EUID = 1001 / 1001
    $GID = 999 999 1001
    $EGID = 999 999 1001

Perl module toolchain versions installed:

    Module              Have    
    ------------------- --------
    CPAN                2.27    
    CPAN::Meta          2.150010
    Cwd                 3.78    
    ExtUtils::CBuilder  0.280231
    ExtUtils::Command   7.34    
    ExtUtils::Install   2.14    
    ExtUtils::MakeMaker 7.39_05 
    ExtUtils::Manifest  1.72    
    ExtUtils::ParseXS   3.40    
    File::Spec          3.78    
    JSON                4.02    
    JSON::PP            4.04    
    Module::Build       0.4229  
    Module::Signature   n/a     
    Parse::CPAN::Meta   2.150010
    Test::Harness       3.42    
    Test::More          1.302169
    YAML                1.29    
    YAML::Syck          n/a     
    version             0.9924  


--

Summary of my perl5 (revision 5 version 30 subversion 1) configuration:
   
  Platform:
    osname=openbsd
    osvers=6.6
    archname=OpenBSD.amd64-openbsd-thread-multi
    uname='openbsd cpan-smoker-openbsd 6.6 generic.mp#372 amd64 '
    config_args='-de -Dprefix=/home/goku/perl5/perlbrew/perls/perl-5.30.1 -Dman1dir=none -Dman3dir=none -Duse64bitint -Duse64bitall -Dusethreads -Dusemultiplicity -Aeval:scriptdir=/home/goku/perl5/perlbrew/perls/perl-5.30.1/bin'
    hint=recommended
    useposix=true
    d_sigaction=define
    useithreads=define
    usemultiplicity=define
    use64bitint=define
    use64bitall=define
    uselongdouble=undef
    usemymalloc=n
    default_inc_excludes_dot=define
    bincompat5005=undef
  Compiler:
    cc='cc'
    ccflags ='-pthread -fno-strict-aliasing -pipe -fstack-protector-strong -I/usr/local/include -D_FORTIFY_SOURCE=2'
    optimize='-O2'
    cppflags='-pthread -fno-strict-aliasing -pipe -fstack-protector-strong -I/usr/local/include'
    ccversion=''
    gccversion='4.2.1 Compatible OpenBSD Clang 8.0.1 (tags/RELEASE_801/final)'
    gccosandvers=''
    intsize=4
    longsize=8
    ptrsize=8
    doublesize=8
    byteorder=12345678
    doublekind=3
    d_longlong=define
    longlongsize=8
    d_longdbl=define
    longdblsize=16
    longdblkind=3
    ivtype='long'
    ivsize=8
    nvtype='double'
    nvsize=8
    Off_t='off_t'
    lseeksize=8
    alignbytes=8
    prototype=define
  Linker and Libraries:
    ld='cc'
    ldflags ='-pthread -Wl,-E  -fstack-protector-strong -L/usr/local/lib'
    libpth=/usr/lib /usr/local/lib
    libs=-lpthread -lm -lutil -lc
    perllibs=-lpthread -lm -lutil -lc
    libc=/usr/lib/libc.so.95.1
    so=so
    useshrplib=false
    libperl=libperl.a
    gnulibc_version=''
  Dynamic Linking:
    dlsrc=dl_dlopen.xs
    dlext=so
    d_dlsymun=undef
    ccdlflags=' '
    cccdlflags='-DPIC -fPIC '
    lddlflags='-shared -fPIC  -L/usr/local/lib -fstack-protector-strong'


Characteristics of this binary (from libperl): 
  Compile-time options:
    HAS_TIMES
    MULTIPLICITY
    PERLIO_LAYERS
    PERL_COPY_ON_WRITE
    PERL_DONT_CREATE_GVSV
    PERL_IMPLICIT_CONTEXT
    PERL_MALLOC_WRAP
    PERL_OP_PARENT
    PERL_PRESERVE_IVUV
    USE_64_BIT_ALL
    USE_64_BIT_INT
    USE_ITHREADS
    USE_LARGE_FILES
    USE_LOCALE
    USE_LOCALE_COLLATE
    USE_LOCALE_CTYPE
    USE_LOCALE_NUMERIC
    USE_LOCALE_TIME
    USE_PERLIO
    USE_PERL_ATOF
    USE_REENTRANT_API
  Locally applied patches:
    Devel::PatchPerl 1.80
  Built under openbsd
  Compiled at Nov 21 2019 11:57:41
  %ENV:
    PERL5LIB=""
    PERL5OPT=""
    PERL5_CPANPLUS_IS_RUNNING="54645"
    PERL5_CPAN_IS_RUNNING="54645"
    PERL5_CPAN_IS_RUNNING_IN_RECURSION="26052,54645"
    PERLBREW_HOME="/home/goku/.perlbrew"
    PERLBREW_MANPATH="/home/goku/perl5/perlbrew/perls/perl-5.30.1/man"
    PERLBREW_PATH="/home/goku/perl5/perlbrew/bin:/home/goku/perl5/perlbrew/perls/perl-5.30.1/bin"
    PERLBREW_PERL="perl-5.30.1"
    PERLBREW_ROOT="/home/goku/perl5/perlbrew"
    PERLBREW_SHELLRC_VERSION="0.87"
    PERLBREW_VERSION="0.87"
    PERL_CR_SMOKER_CURRENT="HTTP-OAI-4.10"
    PERL_EXTUTILS_AUTOINSTALL="--defaultdeps"
    PERL_MM_USE_DEFAULT="1"
    PERL_USE_UNSAFE_INC="1"
  @INC:
    /home/goku/perl5/perlbrew/perls/perl-5.30.1/lib/site_perl/5.30.1/OpenBSD.amd64-openbsd-thread-multi
    /home/goku/perl5/perlbrew/perls/perl-5.30.1/lib/site_perl/5.30.1
    /home/goku/perl5/perlbrew/perls/perl-5.30.1/lib/5.30.1/OpenBSD.amd64-openbsd-thread-multi
    /home/goku/perl5/perlbrew/perls/perl-5.30.1/lib/5.30.1
    .