FunctionalPerl v0.72.66 Perl 5 v5.22.2 amd64-freebsd-thread-multi

Status
Pass
From
Slaven Rezić
Dist
FunctionalPerl v0.72.66
Platform
Perl 5 v5.22.2 amd64-freebsd-thread-multi
Date
2021-05-26 04:12:13
ID
8c64f338-bdd8-11eb-a202-47141f24ea8f
This distribution has been tested as part of the CPAN Testers
project, supporting the Perl programming language.  See
http://wiki.cpantesters.org/ for more information or email
questions to cpan-testers-discuss@perl.org


--
Dear Christian Jaeger,

This is a computer-generated report for FunctionalPerl-0.72.66
on perl 5.22.2, created by CPAN-Reporter-1.2017.

Thank you for uploading your work to CPAN.  Congratulations!
All tests were successful.

Sections of this report:

    * Tester comments
    * Program output
    * Prerequisites
    * Environment and other context

------------------------------
TESTER COMMENTS
------------------------------

Additional comments from tester:

none provided

------------------------------
PROGRAM OUTPUT
------------------------------

Output from '/usr/bin/make test':

PERL_DL_NONLAZY=1 "/usr/perl5.22.2t/bin/perl" "-MExtUtils::Command::MM" "-MTest::Harness" "-e" "undef *Test::Harness::Switches; test_harness(0, 'blib/lib', 'blib/arch')" t/*.t
t/csv_to_xml.t ........................... ok
t/dbi.t .................................. ok
t/examples-csv-to-json.t ................. ok
times for fib: user = 0.0625, system = 0.0078125, cuser = 0, csystem = 0
times for fibonacci: user = 0.0390625, system = 0.0078125, cuser = 0, csystem = 0
t/examples-fibs.t ........................ ok
t/examples-functional-classes.t .......... ok
t/examples-hiring-without-whiteboards.t .. skipped: dependency Term::ReadLine::Gnu not present at lib/FP/Repl/Dependencies.pm line 44.
t/examples-logic.t ....................... skipped: could not use FP::Repl::Dependencies
t/examples-perlweekly-111-1.t ............ skipped: Perl v5.32.1 required--this is only v5.22.2, stopped at (eval 74) line 2.
times: user = 0.015625, system = 0, cuser = 0, csystem = 0
times: user = 0.0234375, system = 0, cuser = 0, csystem = 0
times: user = 0.03125, system = 0, cuser = 0, csystem = 0
t/examples-perlweekly-113-1.t ............ ok
t/examples-perlweekly-113-2.t ............ ok
t/examples-primes.t ...................... ok
t/functional_XML-t-div.t ................. ok
t/functional_XML-test.t .................. ok
t/htmlgen.t .............................. skipped: Test requires module 'Text::Markdown' but it's not found
t/intro-basics.t ......................... skipped: could not use FP::Repl::Dependencies
t/perl-goto-leak.t ....................... ok
t/perl-weaken-coderef-correctness.t ...... ok
t/perl-weaken-coderef.t .................. ok
Argument "2/8" isn't numeric in numeric eq (==) at lib/FP/Collection.pm line 104.
Argument "2/8" isn't numeric in numeric eq (==) at lib/FP/Collection.pm line 104.
Argument "3/8" isn't numeric in numeric eq (==) at lib/FP/Collection.pm line 104.
Argument "2/8" isn't numeric in numeric eq (==) at lib/FP/Collection.pm line 104.
Argument "3/8" isn't numeric in numeric eq (==) at lib/FP/Collection.pm line 104.
Argument "2/8" isn't numeric in numeric eq (==) at lib/FP/Collection.pm line 104.
NOTE: can't load FP::SortedPureArray: Can't locate List/BinarySearch.pm in @INC (you may need to install the List::BinarySearch module) (@INC contains: ./.htmlgen ./lib ./meta /home/cpansand/.cpan/build/2021052606/FunctionalPerl-0.72.66-cPcmi2/blib/lib /home/cpansand/.cpan/build/2021052606/FunctionalPerl-0.72.66-cPcmi2/blib/arch /home/cpansand/.cpan/build/2021052606/Test-Pod-Snippets-0.07-bPQU7S/blib/arch /home/cpansand/.cpan/build/2021052606/Test-Pod-Snippets-0.07-bPQU7S/blib/lib /home/cpansand/.cpan/build/2021052606/Module-Locate-1.80-aAIboo/blib/arch /home/cpansand/.cpan/build/2021052606/Module-Locate-1.80-aAIboo/blib/lib /home/cpansand/.cpan/build/2021052606/MooseX-SemiAffordanceAccessor-0.10-8fa6wZ/blib/arch /home/cpansand/.cpan/build/2021052606/MooseX-SemiAffordanceAccessor-0.10-8fa6wZ/blib/lib /usr/perl5.22.2t/lib/site_perl/5.22.2/amd64-freebsd-thread-multi /usr/perl5.22.2t/lib/site_perl/5.22.2 /usr/perl5.22.2t/lib/5.22.2/amd64-freebsd-thread-multi /usr/perl5.22.2t/lib/5.22.2 .) at lib/FP/SortedPureArray.pm line 57. at lib/FunctionalPerl.pm line 310.
t/pod_snippets.t ......................... ok
t/predicates.t ........................... ok
t/repl.t ................................. skipped: dependency Term::ReadLine::Gnu not present at lib/FP/Repl/Dependencies.pm line 44.
not activating since running in test mode at lib/FP/Repl/AutoTrap.pm line 64.
NOTE: can't load FP::SortedPureArray: Can't locate List/BinarySearch.pm in @INC (you may need to install the List::BinarySearch module) (@INC contains: ./.htmlgen ./lib ./meta /home/cpansand/.cpan/build/2021052606/FunctionalPerl-0.72.66-cPcmi2/blib/lib /home/cpansand/.cpan/build/2021052606/FunctionalPerl-0.72.66-cPcmi2/blib/arch /home/cpansand/.cpan/build/2021052606/Test-Pod-Snippets-0.07-bPQU7S/blib/arch /home/cpansand/.cpan/build/2021052606/Test-Pod-Snippets-0.07-bPQU7S/blib/lib /home/cpansand/.cpan/build/2021052606/Module-Locate-1.80-aAIboo/blib/arch /home/cpansand/.cpan/build/2021052606/Module-Locate-1.80-aAIboo/blib/lib /home/cpansand/.cpan/build/2021052606/MooseX-SemiAffordanceAccessor-0.10-8fa6wZ/blib/arch /home/cpansand/.cpan/build/2021052606/MooseX-SemiAffordanceAccessor-0.10-8fa6wZ/blib/lib /usr/perl5.22.2t/lib/site_perl/5.22.2/amd64-freebsd-thread-multi /usr/perl5.22.2t/lib/site_perl/5.22.2 /usr/perl5.22.2t/lib/5.22.2/amd64-freebsd-thread-multi /usr/perl5.22.2t/lib/5.22.2 .) at lib/FP/SortedPureArray.pm line 57. at lib/FunctionalPerl.pm line 310.
Reference is already weak at lib/FP/Stream.pm line 769.
t/require_and_run_tests.t ................ ok
t/skip-internal.t ........................ ok
t/skip-leak.t ............................ ok
t/skip.t ................................. ok
t/testlazy.t ............................. ok
t/testlazy10.t ........................... ok
times for T: user = 0.09375, system = 0.0078125, cuser = 0, csystem = 0
times for TC: user = 0.0703125, system = 0, cuser = 0, csystem = 0
t/trampoline-fix.t ....................... ok
All tests successful.
Files=28, Tests=164, 16 wallclock secs ( 0.00 usr  0.27 sys +  4.28 cusr 10.74 csys = 15.29 CPU)
Result: PASS

------------------------------
PREREQUISITES
------------------------------

Prerequisite modules loaded:

requires:

    Module              Need     Have    
    ------------------- -------- --------
    autobox             0        2.84    
    base                0        2.22    
    Digest              0        1.17    
    File::Path          0        2.09    
    Getopt::Long        0        2.45    
    Import::Into        0        1.002005
    Math::BigInt        0        1.9997  
    NEXT                0        0.65    
    overload            0        1.26    
    perl                5.016004 5.022002
    PerlIO::utf8_strict 0        0.006   
    Safe::Isa           0        1.000005
    Scalar::Util        0        1.45    
    Symbol              0        1.07    
    Test::More          0.96     1.302183
    utf8                0        1.17    
    warnings            0        1.34    

build_requires:

    Module              Need     Have    
    ------------------- -------- --------
    BSD::Resource       0        1.2910  
    Capture::Tiny       0        0.46    
    DBD::CSV            0        0.49    
    DBI                 0        1.636   
    ExtUtils::MakeMaker 0        7.58    
    Sub::Util           0        1.45    
    Test::Pod::Snippets 0        0.07    
    Test::Requires      0        0.10    
    Text::CSV           0        1.91    
    URI                 0        1.71    

configure_requires:

    Module              Need     Have    
    ------------------- -------- --------
    ExtUtils::MakeMaker 0        7.58    


------------------------------
ENVIRONMENT AND OTHER CONTEXT
------------------------------

Environment variables:

    LC_ALL = de_DE.ISO8859-1
    PATH = /usr/local/bin:/usr/bin:/bin:/usr/local/sbin:/usr/sbin:/sbin:/home/cpansand/bin/freebsd10.3:/home/cpansand/bin/sh:/home/cpansand/bin:/usr/games:/home/cpansand/devel:/home/eserte/src/srezic-misc/scripts
    PERL5LIB = /home/cpansand/.cpan/build/2021052606/Test-Pod-Snippets-0.07-bPQU7S/blib/arch:/home/cpansand/.cpan/build/2021052606/Test-Pod-Snippets-0.07-bPQU7S/blib/lib:/home/cpansand/.cpan/build/2021052606/Module-Locate-1.80-aAIboo/blib/arch:/home/cpansand/.cpan/build/2021052606/Module-Locate-1.80-aAIboo/blib/lib:/home/cpansand/.cpan/build/2021052606/MooseX-SemiAffordanceAccessor-0.10-8fa6wZ/blib/arch:/home/cpansand/.cpan/build/2021052606/MooseX-SemiAffordanceAccessor-0.10-8fa6wZ/blib/lib
    PERL5OPT = 
    PERL5_CPANPLUS_IS_RUNNING = 33415
    PERL5_CPAN_IS_RUNNING = 33415
    PERL5_CPAN_IS_RUNNING_IN_RECURSION = 25311,33415
    PERLDOC = -MPod::Perldoc::ToTextOverstrike
    PERL_BATCH = yes
    PERL_CANARY_STABILITY_NOPROMPT = 1
    PERL_CPAN_REPORTER_CONFIG = /var/tmp/cpansmoker-1023/2021052604/cpanreporter_000_config.ini
    PERL_EXTUTILS_AUTOINSTALL = --defaultdeps
    SHELL = /usr/local/bin/zsh
    TERM = screen
    TMPDIR = /var/tmp/cpansmoker-1023/2021052604

Perl special variables (and OS-specific diagnostics, for MSWin32):

    $^X = /usr/perl5.22.2t/bin/perl
    $UID/$EUID = 1023 / 1023
    $GID = 1023 1023
    $EGID = 1023 1023

Perl module toolchain versions installed:

    Module              Have    
    ------------------- --------
    CPAN                2.11    
    CPAN::Meta          2.150001
    Cwd                 3.62    
    ExtUtils::CBuilder  0.280221
    ExtUtils::Command   7.58    
    ExtUtils::Install   2.06    
    ExtUtils::MakeMaker 7.58    
    ExtUtils::Manifest  1.70    
    ExtUtils::ParseXS   3.35    
    File::Spec          3.62    
    JSON                2.90    
    JSON::PP            2.27300 
    Module::Build       0.4218  
    Module::Signature   0.80    
    Parse::CPAN::Meta   1.4422  
    Test::Harness       3.35    
    Test::More          1.302183
    YAML                1.15    
    YAML::Syck          1.29    
    version             0.9917  


--

Summary of my perl5 (revision 5 version 22 subversion 2) configuration:
   
  Platform:
    osname=freebsd, osvers=10.1-release, archname=amd64-freebsd-thread-multi
    uname='freebsd cvrsnica-freebsd-101.herceg.de 10.1-release freebsd 10.1-release #0 r274401: tue nov 11 21:02:49 utc 2014 root@releng1.nyi.freebsd.org:usrobjusrsrcsysgeneric amd64 '
    config_args='-ds -e -Dprefix=/usr/perl5.22.2t -Dusethreads -Dcf_email=srezic@cpan.org -Doptimize=-O2 -pipe'
    hint=recommended, useposix=true, d_sigaction=define
    useithreads=define, usemultiplicity=define
    use64bitint=define, use64bitall=define, uselongdouble=undef
    usemymalloc=n, bincompat5005=undef
  Compiler:
    cc='cc', ccflags ='-DHAS_FPSETMASK -DHAS_FLOATINGPOINT_H -fno-strict-aliasing -pipe -fstack-protector -I/usr/local/include -D_FORTIFY_SOURCE=2',
    optimize='-O2 -pipe',
    cppflags='-DHAS_FPSETMASK -DHAS_FLOATINGPOINT_H -fno-strict-aliasing -pipe -fstack-protector -I/usr/local/include'
    ccversion='', gccversion='4.2.1 Compatible FreeBSD Clang 3.4.1 (tags/RELEASE_34/dot1-final 208032)', gccosandvers=''
    intsize=4, longsize=8, ptrsize=8, doublesize=8, byteorder=12345678, doublekind=3
    d_longlong=define, longlongsize=8, d_longdbl=define, longdblsize=16, longdblkind=3
    ivtype='long', ivsize=8, nvtype='double', nvsize=8, Off_t='off_t', lseeksize=8
    alignbytes=8, prototype=define
  Linker and Libraries:
    ld='cc', ldflags ='-pthread -Wl,-E  -fstack-protector -L/usr/local/lib'
    libpth=/usr/lib /usr/local/lib /usr/include/clang/3.4.1 /usr/lib
    libs=-lpthread -lgdbm -lm -lcrypt -lutil
    perllibs=-lpthread -lm -lcrypt -lutil
    libc=, so=so, useshrplib=false, libperl=libperl.a
    gnulibc_version=''
  Dynamic Linking:
    dlsrc=dl_dlopen.xs, dlext=so, d_dlsymun=undef, ccdlflags=' '
    cccdlflags='-DPIC -fPIC', lddlflags='-shared  -L/usr/local/lib -fstack-protector'


Characteristics of this binary (from libperl): 
  Compile-time options: HAS_TIMES MULTIPLICITY PERLIO_LAYERS
                        PERL_DONT_CREATE_GVSV
                        PERL_HASH_FUNC_ONE_AT_A_TIME_HARD
                        PERL_IMPLICIT_CONTEXT PERL_MALLOC_WRAP
                        PERL_NEW_COPY_ON_WRITE PERL_PRESERVE_IVUV
                        USE_64_BIT_ALL USE_64_BIT_INT USE_ITHREADS
                        USE_LARGE_FILES USE_LOCALE USE_LOCALE_COLLATE
                        USE_LOCALE_CTYPE USE_LOCALE_NUMERIC USE_LOCALE_TIME
                        USE_PERLIO USE_PERL_ATOF USE_REENTRANT_API
  Built under freebsd
  Compiled at Jun 18 2016 12:32:50
  %ENV:
    PERL5LIB="/home/cpansand/.cpan/build/2021052606/Test-Pod-Snippets-0.07-bPQU7S/blib/arch:/home/cpansand/.cpan/build/2021052606/Test-Pod-Snippets-0.07-bPQU7S/blib/lib:/home/cpansand/.cpan/build/2021052606/Module-Locate-1.80-aAIboo/blib/arch:/home/cpansand/.cpan/build/2021052606/Module-Locate-1.80-aAIboo/blib/lib:/home/cpansand/.cpan/build/2021052606/MooseX-SemiAffordanceAccessor-0.10-8fa6wZ/blib/arch:/home/cpansand/.cpan/build/2021052606/MooseX-SemiAffordanceAccessor-0.10-8fa6wZ/blib/lib"
    PERL5OPT=""
    PERL5_CPANPLUS_IS_RUNNING="33415"
    PERL5_CPAN_IS_RUNNING="33415"
    PERL5_CPAN_IS_RUNNING_IN_RECURSION="25311,33415"
    PERLDOC="-MPod::Perldoc::ToTextOverstrike"
    PERL_BATCH="yes"
    PERL_CANARY_STABILITY_NOPROMPT="1"
    PERL_CPAN_REPORTER_CONFIG="/var/tmp/cpansmoker-1023/2021052604/cpanreporter_000_config.ini"
    PERL_EXTUTILS_AUTOINSTALL="--defaultdeps"
  @INC:
    /home/cpansand/.cpan/build/2021052606/Test-Pod-Snippets-0.07-bPQU7S/blib/arch
    /home/cpansand/.cpan/build/2021052606/Test-Pod-Snippets-0.07-bPQU7S/blib/lib
    /home/cpansand/.cpan/build/2021052606/Module-Locate-1.80-aAIboo/blib/arch
    /home/cpansand/.cpan/build/2021052606/Module-Locate-1.80-aAIboo/blib/lib
    /home/cpansand/.cpan/build/2021052606/MooseX-SemiAffordanceAccessor-0.10-8fa6wZ/blib/arch
    /home/cpansand/.cpan/build/2021052606/MooseX-SemiAffordanceAccessor-0.10-8fa6wZ/blib/lib
    /usr/perl5.22.2t/lib/site_perl/5.22.2/amd64-freebsd-thread-multi
    /usr/perl5.22.2t/lib/site_perl/5.22.2
    /usr/perl5.22.2t/lib/5.22.2/amd64-freebsd-thread-multi
    /usr/perl5.22.2t/lib/5.22.2
    .