Statocles v0.094 Perl 5 v5.14.4 x86_64-linux-ld

Status
Pass
From
Andreas J. König (ANDK)
Dist
Statocles v0.094
Platform
Perl 5 v5.14.4 x86_64-linux-ld
Date
2019-08-14 04:32:37
ID
8b4430dc-be4c-11e9-b4ff-0f97d78ef81d
This distribution has been tested as part of the CPAN Testers
project, supporting the Perl programming language.  See
http://wiki.cpantesters.org/ for more information or email
questions to cpan-testers-discuss@perl.org


--
Dear Doug Bell,

This is a computer-generated report for Statocles-0.094
on perl 5.14.4, created by CPAN-Reporter-1.2018.

Thank you for uploading your work to CPAN.  Congratulations!
All tests were successful.

Sections of this report:

    * Tester comments
    * Program output
    * Prerequisites
    * Environment and other context

------------------------------
TESTER COMMENTS
------------------------------

Additional comments from tester:

this report is from an automated smoke testing program
and was not reviewed by a human for accuracy

------------------------------
PROGRAM OUTPUT
------------------------------

Output from '/usr/bin/make test':

Skip blib/lib/auto/share/dist/Statocles/theme/bootstrap/blog/index.html.ep (unchanged)
Skip blib/lib/auto/share/dist/Statocles/create/script.yml (unchanged)
Skip blib/lib/auto/share/dist/Statocles/create/blog/post.markdown (unchanged)
Skip blib/lib/auto/share/dist/Statocles/theme/bootstrap/layout/full-width.html.ep (unchanged)
Skip blib/lib/auto/share/dist/Statocles/theme/bootstrap/site/navbar_extra.html.ep (unchanged)
Skip blib/lib/auto/share/dist/Statocles/theme/bootstrap/site/head_after.html.ep (unchanged)
Skip blib/lib/auto/share/dist/Statocles/theme/bootstrap/site/header_after.html.ep (unchanged)
Skip blib/lib/auto/share/dist/Statocles/theme/bootstrap/plugin/highlight/default.css (unchanged)
Skip blib/lib/auto/share/dist/Statocles/theme/bootstrap/plugin/highlight/solarized-light.css (unchanged)
Skip blib/lib/auto/share/dist/Statocles/theme/bootstrap/site/footer.html.ep (unchanged)
Skip blib/lib/auto/share/dist/Statocles/create/page/index.markdown (unchanged)
Skip blib/lib/auto/share/dist/Statocles/theme/bootstrap/layout/default.html.ep (unchanged)
Skip blib/lib/auto/share/dist/Statocles/theme/bootstrap/blog/index.atom.ep (unchanged)
Skip blib/lib/auto/share/dist/Statocles/theme/bootstrap/layout/blank.html.ep (unchanged)
Skip blib/lib/auto/share/dist/Statocles/create/site.yml (unchanged)
Skip blib/lib/auto/share/dist/Statocles/theme/bootstrap/blog/index.rss.ep (unchanged)
Skip blib/lib/auto/share/dist/Statocles/theme/bootstrap/perldoc/source.html.ep (unchanged)
Skip blib/lib/auto/share/dist/Statocles/theme/bootstrap/plugin/highlight/solarized-dark.css (unchanged)
Skip blib/lib/auto/share/dist/Statocles/theme/bootstrap/blog/post.html.ep (unchanged)
Skip blib/lib/auto/share/dist/Statocles/theme/bootstrap/css/statocles-bootstrap.css (unchanged)
Skip blib/lib/auto/share/dist/Statocles/theme/bootstrap/perldoc/pod.html.ep (unchanged)
Skip blib/lib/auto/share/dist/Statocles/theme/default/perldoc/source.html.ep (unchanged)
Skip blib/lib/auto/share/dist/Statocles/theme/default/blog/index.rss.ep (unchanged)
Skip blib/lib/auto/share/dist/Statocles/theme/default/blog/index.atom.ep (unchanged)
Skip blib/lib/auto/share/dist/Statocles/theme/bootstrap/site/sidebar_before.html.ep (unchanged)
Skip blib/lib/auto/share/dist/Statocles/theme/default/css/skeleton.css (unchanged)
Skip blib/lib/auto/share/dist/Statocles/theme/bootstrap/site/style.html (unchanged)
Skip blib/lib/auto/share/dist/Statocles/theme/default/site/footer.html.ep (unchanged)
Skip blib/lib/auto/share/dist/Statocles/theme/default/plugin/highlight/solarized-light.css (unchanged)
Skip blib/lib/auto/share/dist/Statocles/theme/default/blog/post.html.ep (unchanged)
Skip blib/lib/auto/share/dist/Statocles/theme/default/plugin/highlight/default.css (unchanged)
Skip blib/lib/auto/share/dist/Statocles/theme/bootstrap/site/robots.txt.ep (unchanged)
Skip blib/lib/auto/share/dist/Statocles/theme/default/blog/index.html.ep (unchanged)
Skip blib/lib/auto/share/dist/Statocles/theme/default/layout/full-width.html.ep (unchanged)
Skip blib/lib/auto/share/dist/Statocles/theme/default/layout/blank.html.ep (unchanged)
Skip blib/lib/auto/share/dist/Statocles/theme/default/plugin/highlight/solarized-dark.css (unchanged)
Skip blib/lib/auto/share/dist/Statocles/theme/default/css/normalize.css (unchanged)
Skip blib/lib/auto/share/dist/Statocles/theme/bootstrap/site/sitemap.xml.ep (unchanged)
Skip blib/lib/auto/share/dist/Statocles/theme/default/perldoc/pod.html.ep (unchanged)
Skip blib/lib/auto/share/dist/Statocles/theme/default/site/head_after.html.ep (unchanged)
Skip blib/lib/auto/share/dist/Statocles/theme/default/css/statocles-default.css (unchanged)
Skip blib/lib/auto/share/dist/Statocles/theme/default/layout/default.html.ep (unchanged)
Skip blib/lib/auto/share/dist/Statocles/theme/default/site/sidebar_before.html.ep (unchanged)
Skip blib/lib/auto/share/dist/Statocles/theme/default/site/style.html (unchanged)
Skip blib/lib/auto/share/dist/Statocles/theme/default/site/robots.txt.ep (unchanged)
Skip blib/lib/auto/share/dist/Statocles/zsh/_statocles (unchanged)
Skip blib/lib/auto/share/dist/Statocles/theme/default/site/sitemap.xml.ep (unchanged)
Skip blib/lib/auto/share/dist/Statocles/theme/default/site/navbar_extra.html.ep (unchanged)
Skip blib/lib/auto/share/dist/Statocles/theme/default/site/header_after.html.ep (unchanged)
PERL_DL_NONLAZY=1 "/home/sand/src/perl/repoperls/installed-perls/host/k93msid/v5.14.4/fc43/bin/perl" "-MExtUtils::Command::MM" "-MTest::Harness" "-e" "undef *Test::Harness::Switches; test_harness(0, 'blib/lib', 'blib/arch')" t/*.t t/app/*.t t/app/basic/*.t t/app/blog/*.t t/app/perldoc/*.t t/app/role/*.t t/command/*.t t/deploy/*.t t/link/*.t t/page/*.t t/plugin/*.t t/template/*.t t/theme/*.t
t/00-compile.t ................ ok
# 
# Versions for all modules listed in MYMETA.json (including optional ones):
# 
# === Configure Requires ===
# 
#     Module                  Want Have
#     ----------------------- ---- ----
#     ExtUtils::MakeMaker      any 7.36
#     File::ShareDir::Install 0.06 0.13
# 
# === Build Requires ===
# 
#     Module              Want Have
#     ------------------- ---- ----
#     ExtUtils::MakeMaker  any 7.36
# 
# === Test Requires ===
# 
#     Module                  Want     Have
#     ------------------- -------- --------
#     Capture::Tiny            any     0.48
#     Dir::Self                any     0.11
#     ExtUtils::MakeMaker      any     7.36
#     File::Spec               any     3.75
#     IO::Handle               any     1.39
#     IPC::Open3               any   1.0901
#     Storable                 any  3.15_04
#     Test::Deep               any    1.128
#     Test::Differences       0.64     0.67
#     Test::Exception         0.42     0.43
#     Test::Lib                any    0.002
#     Test::More          1.001005 1.302164
# 
# === Test Recommends ===
# 
#     Module         Want     Have
#     ---------- -------- --------
#     CPAN::Meta 2.120900 2.150010
# 
# === Runtime Requires ===
# 
#     Module                 Want      Have
#     ------------------ -------- ---------
#     Beam::Emitter         0.007     1.007
#     Beam::Wire            1.018     1.023
#     DateTime::Moonpig       any      1.03
#     Encode                  any      3.01
#     Encode::Locale          any      1.05
#     File::Share             any      0.25
#     Git::Repository         any     1.323
#     I18N::Langinfo          any      0.08
#     IPC::Open3              any    1.0901
#     Import::Base          0.012     1.004
#     JSON::PP                any      4.04
#     List::UtilsBy          0.09      0.11
#     Mojolicious            6.54      8.22
#     Moo                2.000001  2.003004
#     Path::Tiny            0.084     0.108
#     Pod::Simple            3.31      3.36
#     Pod::Usage::Return      any     0.003
#     Role::Tiny         2.000008  2.000008
#     Text::Markdown          any  1.000031
#     Text::Unidecode         any      1.30
#     Type::Tiny              any 1.005_003
#     Types::Path::Tiny       any     0.006
#     YAML                    any  1.27_001
#     strict                  any      1.04
#     warnings                any      1.12
# 
# === Runtime Recommends ===
# 
#     Module                           Want     Have
#     ------------------------------- ----- --------
#     HTML::Lint::Pluggable            0.06     0.10
#     PPI                               any    1.270
#     Pod::Elemental                    any 0.103004
#     Pod::Weaver                     4.015    4.015
#     Syntax::Highlight::Engine::Kate   any     0.14
# 
t/00-report-prereqs.t ......... ok
t/app/basic/command.t ......... ok
t/app/basic/constructor.t ..... ok
t/app/basic/pages.t ........... ok
t/app/blog/command.t .......... ok
t/app/blog/constructor.t ...... ok
    # Current LC_TIME locale: en_US.UTF-8
    # Could not set locale to ru_RU. Still 
t/app/blog/pages.t ............ ok
t/app/blog/post_date.t ........ ok
t/app/blog/recent_posts.t ..... ok
t/app/blog/slugs.t ............ ok
t/app/events.t ................ ok
t/app/perldoc/constructor.t ... ok
# /tmp/loop_over_bdir-26911-U9OgzU/Statocles-0.094-0/t/share
t/app/perldoc/highlight.t ..... ok
t/app/perldoc/pages.t ......... ok
t/app/role/store.t ............ ok
t/app/template.t .............. ok
t/app/url.t ................... ok
t/command/apps.t .............. ok
t/command/build.t ............. ok
t/command/bundle.t ............ ok
    # Git version: 2.019001
t/command/create.t ............ ok
t/command/daemon.t ............ ok
t/command/deploy.t ............ ok
t/command/error.t ............. ok
t/command/help_and_version.t .. ok
t/command/mojo_app.t .......... ok
t/deploy/file.t ............... ok
# Git version: 2.019001
[2019-08-14 04:31:23.22901] [1745] [warn] No files changed
[2019-08-14 04:31:24.23522] [1745] [warn] No files changed
[2019-08-14 04:31:37.47202] [1745] [warn] Git remote "origin" does not exist. Not pushing.
[2019-08-14 04:31:39.19181] [1745] [warn] Git remote "nondefault" does not exist. Not pushing.
t/deploy/git.t ................ ok
t/deprecated.t ................ ok
t/document.t .................. ok
t/image.t ..................... ok
t/link.t ...................... ok
t/link/tree.t ................. ok
t/page/basename.t ............. ok
t/page/content_sections.t ..... ok
Invalid data attribute in document "/required.markdown". Data attributes that are not hashes are deprecated and will be removed in v2.0. Please use a hash instead. See Statocles::Help::Upgrading
Invalid data attribute in document "/links/alternate_single.markdown". Data attributes that are not hashes are deprecated and will be removed in v2.0. Please use a hash instead. See Statocles::Help::Upgrading
t/page/document.t ............. ok
t/page/file.t ................. ok
t/page/images.t ............... ok
t/page/links.t ................ ok
t/page/list.t ................. ok
t/page/list_item.t ............ ok
[2019-08-14 04:31:59.48509] [3573] [debug] Render page: /path/to/page.html
t/page/plain.t ................ ok
t/page/type.t ................. ok
t/person.t .................... ok
t/plugin.t .................... ok
t/plugin/highlight.t .......... ok
t/plugin/html_lint.t .......... ok
t/plugin/link_check.t ......... ok
t/plugin/mermaid.t ............ ok
t/site.t ...................... ok
    # Current locale: LC_CTYPE=en_US.UTF-8;LC_NUMERIC=C;LC_TIME=en_US.UTF-8;LC_COLLATE=en_US.UTF-8;LC_MONETARY=en_US.UTF-8;LC_MESSAGES=en_US.UTF-8;LC_PAPER=en_US.UTF-8;LC_NAME=en_US.UTF-8;LC_ADDRESS=en_US.UTF-8;LC_TELEPHONE=en_US.UTF-8;LC_MEASUREMENT=en_US.UTF-8;LC_IDENTIFICATION=en_US.UTF-8
t/statocles.t ................. ok
t/store.t ..................... ok
t/template/basic.t ............ ok
t/template/content.t .......... ok
t/template/include.t .......... ok
t/template/markdown.t ......... ok
Odd number of elements in hash assignment at /home/sand/src/perl/repoperls/installed-perls/host/k93msid/v5.14.4/fc43/lib/site_perl/5.14.4/Mojo/DOM/CSS.pm line 77.
Odd number of elements in hash assignment at /home/sand/src/perl/repoperls/installed-perls/host/k93msid/v5.14.4/fc43/lib/site_perl/5.14.4/Mojo/DOM/CSS.pm line 77.
Odd number of elements in hash assignment at /home/sand/src/perl/repoperls/installed-perls/host/k93msid/v5.14.4/fc43/lib/site_perl/5.14.4/Mojo/DOM/CSS.pm line 77.
Odd number of elements in hash assignment at /home/sand/src/perl/repoperls/installed-perls/host/k93msid/v5.14.4/fc43/lib/site_perl/5.14.4/Mojo/DOM/CSS.pm line 77.
Odd number of elements in hash assignment at /home/sand/src/perl/repoperls/installed-perls/host/k93msid/v5.14.4/fc43/lib/site_perl/5.14.4/Mojo/DOM/CSS.pm line 77.
Odd number of elements in hash assignment at /home/sand/src/perl/repoperls/installed-perls/host/k93msid/v5.14.4/fc43/lib/site_perl/5.14.4/Mojo/DOM/CSS.pm line 77.
Odd number of elements in hash assignment at /home/sand/src/perl/repoperls/installed-perls/host/k93msid/v5.14.4/fc43/lib/site_perl/5.14.4/Mojo/DOM/CSS.pm line 77.
Odd number of elements in hash assignment at /home/sand/src/perl/repoperls/installed-perls/host/k93msid/v5.14.4/fc43/lib/site_perl/5.14.4/Mojo/DOM/CSS.pm line 77.
Odd number of elements in hash assignment at /home/sand/src/perl/repoperls/installed-perls/host/k93msid/v5.14.4/fc43/lib/site_perl/5.14.4/Mojo/DOM/CSS.pm line 77.
Odd number of elements in hash assignment at /home/sand/src/perl/repoperls/installed-perls/host/k93msid/v5.14.4/fc43/lib/site_perl/5.14.4/Mojo/DOM/CSS.pm line 77.
Odd number of elements in hash assignment at /home/sand/src/perl/repoperls/installed-perls/host/k93msid/v5.14.4/fc43/lib/site_perl/5.14.4/Mojo/DOM/CSS.pm line 77.
Odd number of elements in hash assignment at /home/sand/src/perl/repoperls/installed-perls/host/k93msid/v5.14.4/fc43/lib/site_perl/5.14.4/Mojo/DOM/CSS.pm line 77.
Odd number of elements in hash assignment at /home/sand/src/perl/repoperls/installed-perls/host/k93msid/v5.14.4/fc43/lib/site_perl/5.14.4/Mojo/DOM/CSS.pm line 77.
Odd number of elements in hash assignment at /home/sand/src/perl/repoperls/installed-perls/host/k93msid/v5.14.4/fc43/lib/site_perl/5.14.4/Mojo/DOM/CSS.pm line 77.
Odd number of elements in hash assignment at /home/sand/src/perl/repoperls/installed-perls/host/k93msid/v5.14.4/fc43/lib/site_perl/5.14.4/Mojo/DOM/CSS.pm line 77.
Odd number of elements in hash assignment at /home/sand/src/perl/repoperls/installed-perls/host/k93msid/v5.14.4/fc43/lib/site_perl/5.14.4/Mojo/DOM/CSS.pm line 77.
Odd number of elements in hash assignment at /home/sand/src/perl/repoperls/installed-perls/host/k93msid/v5.14.4/fc43/lib/site_perl/5.14.4/Mojo/DOM/CSS.pm line 77.
Odd number of elements in hash assignment at /home/sand/src/perl/repoperls/installed-perls/host/k93msid/v5.14.4/fc43/lib/site_perl/5.14.4/Mojo/DOM/CSS.pm line 77.
Odd number of elements in hash assignment at /home/sand/src/perl/repoperls/installed-perls/host/k93msid/v5.14.4/fc43/lib/site_perl/5.14.4/Mojo/DOM/CSS.pm line 77.
Odd number of elements in hash assignment at /home/sand/src/perl/repoperls/installed-perls/host/k93msid/v5.14.4/fc43/lib/site_perl/5.14.4/Mojo/DOM/CSS.pm line 77.
Odd number of elements in hash assignment at /home/sand/src/perl/repoperls/installed-perls/host/k93msid/v5.14.4/fc43/lib/site_perl/5.14.4/Mojo/DOM/CSS.pm line 77.
Odd number of elements in hash assignment at /home/sand/src/perl/repoperls/installed-perls/host/k93msid/v5.14.4/fc43/lib/site_perl/5.14.4/Mojo/DOM/CSS.pm line 77.
Odd number of elements in hash assignment at /home/sand/src/perl/repoperls/installed-perls/host/k93msid/v5.14.4/fc43/lib/site_perl/5.14.4/Mojo/DOM/CSS.pm line 77.
Odd number of elements in hash assignment at /home/sand/src/perl/repoperls/installed-perls/host/k93msid/v5.14.4/fc43/lib/site_perl/5.14.4/Mojo/DOM/CSS.pm line 77.
Odd number of elements in hash assignment at /home/sand/src/perl/repoperls/installed-perls/host/k93msid/v5.14.4/fc43/lib/site_perl/5.14.4/Mojo/DOM/CSS.pm line 77.
Odd number of elements in hash assignment at /home/sand/src/perl/repoperls/installed-perls/host/k93msid/v5.14.4/fc43/lib/site_perl/5.14.4/Mojo/DOM/CSS.pm line 77.
Odd number of elements in hash assignment at /home/sand/src/perl/repoperls/installed-perls/host/k93msid/v5.14.4/fc43/lib/site_perl/5.14.4/Mojo/DOM/CSS.pm line 77.
Odd number of elements in hash assignment at /home/sand/src/perl/repoperls/installed-perls/host/k93msid/v5.14.4/fc43/lib/site_perl/5.14.4/Mojo/DOM/CSS.pm line 77.
Odd number of elements in hash assignment at /home/sand/src/perl/repoperls/installed-perls/host/k93msid/v5.14.4/fc43/lib/site_perl/5.14.4/Mojo/DOM/CSS.pm line 77.
Odd number of elements in hash assignment at /home/sand/src/perl/repoperls/installed-perls/host/k93msid/v5.14.4/fc43/lib/site_perl/5.14.4/Mojo/DOM/CSS.pm line 77.
Odd number of elements in hash assignment at /home/sand/src/perl/repoperls/installed-perls/host/k93msid/v5.14.4/fc43/lib/site_perl/5.14.4/Mojo/DOM/CSS.pm line 77.
Odd number of elements in hash assignment at /home/sand/src/perl/repoperls/installed-perls/host/k93msid/v5.14.4/fc43/lib/site_perl/5.14.4/Mojo/DOM/CSS.pm line 77.
Odd number of elements in hash assignment at /home/sand/src/perl/repoperls/installed-perls/host/k93msid/v5.14.4/fc43/lib/site_perl/5.14.4/Mojo/DOM/CSS.pm line 77.
Odd number of elements in hash assignment at /home/sand/src/perl/repoperls/installed-perls/host/k93msid/v5.14.4/fc43/lib/site_perl/5.14.4/Mojo/DOM/CSS.pm line 77.
Odd number of elements in hash assignment at /home/sand/src/perl/repoperls/installed-perls/host/k93msid/v5.14.4/fc43/lib/site_perl/5.14.4/Mojo/DOM/CSS.pm line 77.
Odd number of elements in hash assignment at /home/sand/src/perl/repoperls/installed-perls/host/k93msid/v5.14.4/fc43/lib/site_perl/5.14.4/Mojo/DOM/CSS.pm line 77.
Odd number of elements in hash assignment at /home/sand/src/perl/repoperls/installed-perls/host/k93msid/v5.14.4/fc43/lib/site_perl/5.14.4/Mojo/DOM/CSS.pm line 77.
Odd number of elements in hash assignment at /home/sand/src/perl/repoperls/installed-perls/host/k93msid/v5.14.4/fc43/lib/site_perl/5.14.4/Mojo/DOM/CSS.pm line 77.
Odd number of elements in hash assignment at /home/sand/src/perl/repoperls/installed-perls/host/k93msid/v5.14.4/fc43/lib/site_perl/5.14.4/Mojo/DOM/CSS.pm line 77.
Odd number of elements in hash assignment at /home/sand/src/perl/repoperls/installed-perls/host/k93msid/v5.14.4/fc43/lib/site_perl/5.14.4/Mojo/DOM/CSS.pm line 77.
Odd number of elements in hash assignment at /home/sand/src/perl/repoperls/installed-perls/host/k93msid/v5.14.4/fc43/lib/site_perl/5.14.4/Mojo/DOM/CSS.pm line 77.
Odd number of elements in hash assignment at /home/sand/src/perl/repoperls/installed-perls/host/k93msid/v5.14.4/fc43/lib/site_perl/5.14.4/Mojo/DOM/CSS.pm line 77.
Odd number of elements in hash assignment at /home/sand/src/perl/repoperls/installed-perls/host/k93msid/v5.14.4/fc43/lib/site_perl/5.14.4/Mojo/DOM/CSS.pm line 77.
Odd number of elements in hash assignment at /home/sand/src/perl/repoperls/installed-perls/host/k93msid/v5.14.4/fc43/lib/site_perl/5.14.4/Mojo/DOM/CSS.pm line 77.
Odd number of elements in hash assignment at /home/sand/src/perl/repoperls/installed-perls/host/k93msid/v5.14.4/fc43/lib/site_perl/5.14.4/Mojo/DOM/CSS.pm line 77.
Odd number of elements in hash assignment at /home/sand/src/perl/repoperls/installed-perls/host/k93msid/v5.14.4/fc43/lib/site_perl/5.14.4/Mojo/DOM/CSS.pm line 77.
Odd number of elements in hash assignment at /home/sand/src/perl/repoperls/installed-perls/host/k93msid/v5.14.4/fc43/lib/site_perl/5.14.4/Mojo/DOM/CSS.pm line 77.
Odd number of elements in hash assignment at /home/sand/src/perl/repoperls/installed-perls/host/k93msid/v5.14.4/fc43/lib/site_perl/5.14.4/Mojo/DOM/CSS.pm line 77.
Odd number of elements in hash assignment at /home/sand/src/perl/repoperls/installed-perls/host/k93msid/v5.14.4/fc43/lib/site_perl/5.14.4/Mojo/DOM/CSS.pm line 77.
Odd number of elements in hash assignment at /home/sand/src/perl/repoperls/installed-perls/host/k93msid/v5.14.4/fc43/lib/site_perl/5.14.4/Mojo/DOM/CSS.pm line 77.
Odd number of elements in hash assignment at /home/sand/src/perl/repoperls/installed-perls/host/k93msid/v5.14.4/fc43/lib/site_perl/5.14.4/Mojo/DOM/CSS.pm line 77.
Odd number of elements in hash assignment at /home/sand/src/perl/repoperls/installed-perls/host/k93msid/v5.14.4/fc43/lib/site_perl/5.14.4/Mojo/DOM/CSS.pm line 77.
Odd number of elements in hash assignment at /home/sand/src/perl/repoperls/installed-perls/host/k93msid/v5.14.4/fc43/lib/site_perl/5.14.4/Mojo/DOM/CSS.pm line 77.
Odd number of elements in hash assignment at /home/sand/src/perl/repoperls/installed-perls/host/k93msid/v5.14.4/fc43/lib/site_perl/5.14.4/Mojo/DOM/CSS.pm line 77.
Odd number of elements in hash assignment at /home/sand/src/perl/repoperls/installed-perls/host/k93msid/v5.14.4/fc43/lib/site_perl/5.14.4/Mojo/DOM/CSS.pm line 77.
Odd number of elements in hash assignment at /home/sand/src/perl/repoperls/installed-perls/host/k93msid/v5.14.4/fc43/lib/site_perl/5.14.4/Mojo/DOM/CSS.pm line 77.
Odd number of elements in hash assignment at /home/sand/src/perl/repoperls/installed-perls/host/k93msid/v5.14.4/fc43/lib/site_perl/5.14.4/Mojo/DOM/CSS.pm line 77.
Odd number of elements in hash assignment at /home/sand/src/perl/repoperls/installed-perls/host/k93msid/v5.14.4/fc43/lib/site_perl/5.14.4/Mojo/DOM/CSS.pm line 77.
Odd number of elements in hash assignment at /home/sand/src/perl/repoperls/installed-perls/host/k93msid/v5.14.4/fc43/lib/site_perl/5.14.4/Mojo/DOM/CSS.pm line 77.
Odd number of elements in hash assignment at /home/sand/src/perl/repoperls/installed-perls/host/k93msid/v5.14.4/fc43/lib/site_perl/5.14.4/Mojo/DOM/CSS.pm line 77.
Odd number of elements in hash assignment at /home/sand/src/perl/repoperls/installed-perls/host/k93msid/v5.14.4/fc43/lib/site_perl/5.14.4/Mojo/DOM/CSS.pm line 77.
Odd number of elements in hash assignment at /home/sand/src/perl/repoperls/installed-perls/host/k93msid/v5.14.4/fc43/lib/site_perl/5.14.4/Mojo/DOM/CSS.pm line 77.
Odd number of elements in hash assignment at /home/sand/src/perl/repoperls/installed-perls/host/k93msid/v5.14.4/fc43/lib/site_perl/5.14.4/Mojo/DOM/CSS.pm line 77.
Odd number of elements in hash assignment at /home/sand/src/perl/repoperls/installed-perls/host/k93msid/v5.14.4/fc43/lib/site_perl/5.14.4/Mojo/DOM/CSS.pm line 77.
Odd number of elements in hash assignment at /home/sand/src/perl/repoperls/installed-perls/host/k93msid/v5.14.4/fc43/lib/site_perl/5.14.4/Mojo/DOM/CSS.pm line 77.
Odd number of elements in hash assignment at /home/sand/src/perl/repoperls/installed-perls/host/k93msid/v5.14.4/fc43/lib/site_perl/5.14.4/Mojo/DOM/CSS.pm line 77.
Odd number of elements in hash assignment at /home/sand/src/perl/repoperls/installed-perls/host/k93msid/v5.14.4/fc43/lib/site_perl/5.14.4/Mojo/DOM/CSS.pm line 77.
Odd number of elements in hash assignment at /home/sand/src/perl/repoperls/installed-perls/host/k93msid/v5.14.4/fc43/lib/site_perl/5.14.4/Mojo/DOM/CSS.pm line 77.
Odd number of elements in hash assignment at /home/sand/src/perl/repoperls/installed-perls/host/k93msid/v5.14.4/fc43/lib/site_perl/5.14.4/Mojo/DOM/CSS.pm line 77.
Odd number of elements in hash assignment at /home/sand/src/perl/repoperls/installed-perls/host/k93msid/v5.14.4/fc43/lib/site_perl/5.14.4/Mojo/DOM/CSS.pm line 77.
Odd number of elements in hash assignment at /home/sand/src/perl/repoperls/installed-perls/host/k93msid/v5.14.4/fc43/lib/site_perl/5.14.4/Mojo/DOM/CSS.pm line 77.
Odd number of elements in hash assignment at /home/sand/src/perl/repoperls/installed-perls/host/k93msid/v5.14.4/fc43/lib/site_perl/5.14.4/Mojo/DOM/CSS.pm line 77.
Odd number of elements in hash assignment at /home/sand/src/perl/repoperls/installed-perls/host/k93msid/v5.14.4/fc43/lib/site_perl/5.14.4/Mojo/DOM/CSS.pm line 77.
Odd number of elements in hash assignment at /home/sand/src/perl/repoperls/installed-perls/host/k93msid/v5.14.4/fc43/lib/site_perl/5.14.4/Mojo/DOM/CSS.pm line 77.
Odd number of elements in hash assignment at /home/sand/src/perl/repoperls/installed-perls/host/k93msid/v5.14.4/fc43/lib/site_perl/5.14.4/Mojo/DOM/CSS.pm line 77.
Odd number of elements in hash assignment at /home/sand/src/perl/repoperls/installed-perls/host/k93msid/v5.14.4/fc43/lib/site_perl/5.14.4/Mojo/DOM/CSS.pm line 77.
Odd number of elements in hash assignment at /home/sand/src/perl/repoperls/installed-perls/host/k93msid/v5.14.4/fc43/lib/site_perl/5.14.4/Mojo/DOM/CSS.pm line 77.
Odd number of elements in hash assignment at /home/sand/src/perl/repoperls/installed-perls/host/k93msid/v5.14.4/fc43/lib/site_perl/5.14.4/Mojo/DOM/CSS.pm line 77.
Odd number of elements in hash assignment at /home/sand/src/perl/repoperls/installed-perls/host/k93msid/v5.14.4/fc43/lib/site_perl/5.14.4/Mojo/DOM/CSS.pm line 77.
Odd number of elements in hash assignment at /home/sand/src/perl/repoperls/installed-perls/host/k93msid/v5.14.4/fc43/lib/site_perl/5.14.4/Mojo/DOM/CSS.pm line 77.
Odd number of elements in hash assignment at /home/sand/src/perl/repoperls/installed-perls/host/k93msid/v5.14.4/fc43/lib/site_perl/5.14.4/Mojo/DOM/CSS.pm line 77.
Odd number of elements in hash assignment at /home/sand/src/perl/repoperls/installed-perls/host/k93msid/v5.14.4/fc43/lib/site_perl/5.14.4/Mojo/DOM/CSS.pm line 77.
Odd number of elements in hash assignment at /home/sand/src/perl/repoperls/installed-perls/host/k93msid/v5.14.4/fc43/lib/site_perl/5.14.4/Mojo/DOM/CSS.pm line 77.
Odd number of elements in hash assignment at /home/sand/src/perl/repoperls/installed-perls/host/k93msid/v5.14.4/fc43/lib/site_perl/5.14.4/Mojo/DOM/CSS.pm line 77.
Odd number of elements in hash assignment at /home/sand/src/perl/repoperls/installed-perls/host/k93msid/v5.14.4/fc43/lib/site_perl/5.14.4/Mojo/DOM/CSS.pm line 77.
Odd number of elements in hash assignment at /home/sand/src/perl/repoperls/installed-perls/host/k93msid/v5.14.4/fc43/lib/site_perl/5.14.4/Mojo/DOM/CSS.pm line 77.
Odd number of elements in hash assignment at /home/sand/src/perl/repoperls/installed-perls/host/k93msid/v5.14.4/fc43/lib/site_perl/5.14.4/Mojo/DOM/CSS.pm line 77.
Odd number of elements in hash assignment at /home/sand/src/perl/repoperls/installed-perls/host/k93msid/v5.14.4/fc43/lib/site_perl/5.14.4/Mojo/DOM/CSS.pm line 77.
Odd number of elements in hash assignment at /home/sand/src/perl/repoperls/installed-perls/host/k93msid/v5.14.4/fc43/lib/site_perl/5.14.4/Mojo/DOM/CSS.pm line 77.
Odd number of elements in hash assignment at /home/sand/src/perl/repoperls/installed-perls/host/k93msid/v5.14.4/fc43/lib/site_perl/5.14.4/Mojo/DOM/CSS.pm line 77.
t/theme/check.t ............... ok
t/theme/helper.t .............. ok
t/theme/pages.t ............... ok
t/theme/template.t ............ ok
t/types.t ..................... ok
sh: 1: HOPEFULLY_DOES_NOT_EXIST: not found
Terminated
t/util.t ...................... ok
All tests successful.
Files=63, Tests=319, 164 wallclock secs ( 0.30 usr  0.33 sys + 75.09 cusr 30.36 csys = 106.08 CPU)
Result: PASS

------------------------------
PREREQUISITES
------------------------------

Prerequisite modules loaded:

requires:

    Module                          Need     Have     
    ------------------------------- -------- ---------
    Beam::Emitter                   0.007    1.007    
    Beam::Wire                      1.018    1.023    
    DateTime::Moonpig               0        1.03     
    Encode                          0        3.01     
    Encode::Locale                  0        1.05     
    File::Share                     0        0.25     
    Git::Repository                 0        1.323    
    I18N::Langinfo                  0        0.08     
    Import::Base                    0.012    1.004    
    IPC::Open3                      0        1.0901   
    JSON::PP                        0        4.04     
    List::UtilsBy                   0.09     0.11     
    Mojolicious                     6.54     8.22     
    Moo                             2.000001 2.003004 
    Path::Tiny                      0.084    0.108    
    perl                            5.014    5.014004 
    Pod::Simple                     3.31     3.36     
    Pod::Usage::Return              0        0.003    
    Role::Tiny                      2.000008 2.000008 
    strict                          0        1.04     
    Text::Markdown                  0        1.000031 
    Text::Unidecode                 0        1.30     
    Type::Tiny                      0        1.005_003
    Types::Path::Tiny               0        0.006    
    warnings                        0        1.12     
    YAML                            0        1.27_001 

build_requires:

    Module                          Need     Have     
    ------------------------------- -------- ---------
    Capture::Tiny                   0        0.48     
    Dir::Self                       0        0.11     
    ExtUtils::MakeMaker             0        7.36     
    File::Spec                      0        3.75     
    IO::Handle                      0        1.39     
    IPC::Open3                      0        1.0901   
    Storable                        0        3.15_04  
    Test::Deep                      0        1.128    
    Test::Differences               0.64     0.67     
    Test::Exception                 0.42     0.43     
    Test::Lib                       0        0.002    
    Test::More                      1.001005 1.302164 

configure_requires:

    Module                          Need     Have     
    ------------------------------- -------- ---------
    ExtUtils::MakeMaker             0        7.36     
    File::ShareDir::Install         0.06     0.13     

opt_requires:

    Module                          Need     Have     
    ------------------------------- -------- ---------
    HTML::Lint::Pluggable           0.06     0.10     
    Pod::Elemental                  0        0.103004 
    Pod::Weaver                     4.015    4.015    
    PPI                             0        1.270    
    Syntax::Highlight::Engine::Kate 0        0.14     


------------------------------
ENVIRONMENT AND OTHER CONTEXT
------------------------------

Environment variables:

    AUTOMATED_TESTING = 1
    LANG = en_US.UTF-8
    PATH = /home/sand/bin:/usr/local/bin:/usr/bin:/bin:/usr/games:/usr/local/perl/bin:/usr/X11/bin:/sbin:/usr/sbin
    PERL5LIB = 
    PERL5OPT = 
    PERL5_CPANPLUS_IS_RUNNING = 26916
    PERL5_CPAN_IS_RUNNING = 26916
    PERL_CANARY_STABILITY_NOPROMPT = 1
    PERL_MM_USE_DEFAULT = 1
    PERL_USE_UNSAFE_INC = 1
    SHELL = /usr/bin/zsh
    TERM = screen

Perl special variables (and OS-specific diagnostics, for MSWin32):

    $^X = /home/sand/src/perl/repoperls/installed-perls/host/k93msid/v5.14.4/fc43/bin/perl
    $UID/$EUID = 1005 / 1005
    $GID = 1005 1005
    $EGID = 1005 1005

Perl module toolchain versions installed:

    Module              Have    
    ------------------- --------
    CPAN                2.27    
    CPAN::Meta          2.150010
    Cwd                 3.75    
    ExtUtils::CBuilder  0.280231
    ExtUtils::Command   7.36    
    ExtUtils::Install   2.06    
    ExtUtils::MakeMaker 7.36    
    ExtUtils::Manifest  1.72    
    ExtUtils::ParseXS   3.35    
    File::Spec          3.75    
    JSON                4.02    
    JSON::PP            4.04    
    Module::Build       0.42_30 
    Module::Signature   0.83    
    Parse::CPAN::Meta   2.150010
    Test::Harness       3.42    
    Test::More          1.302164
    YAML                1.27_001
    YAML::Syck          1.31    
    version             0.9924  


--

Summary of my perl5 (revision 5 version 14 subversion 4) configuration:
  Derived from: 26c5c13a4ece9084f310610bb17fb2f24c72a73e
  Platform:
    osname=linux, osvers=4.18.0-2-amd64, archname=x86_64-linux-ld
    uname='linux k93msid 4.18.0-2-amd64 #1 smp debian 4.18.10-2 (2018-10-07) x86_64 gnulinux '
    config_args='-Dprefix=/home/sand/src/perl/repoperls/installed-perls/host/k93msid/v5.14.4/fc43 -Dmyhostname=k93msid -Dinstallusrbinperl=n -Uversiononly -Dusedevel -des -Ui_db -Dlibswanted=cl pthread socket inet nsl gdbm dbm malloc dl ld sun m crypt sec util c cposix posix ucb BSD gdbm_compat -Uuseithreads -Duselongdouble -DEBUGGING=both'
    hint=recommended, useposix=true, d_sigaction=define
    useithreads=undef, usemultiplicity=undef
    useperlio=define, d_sfio=undef, uselargefiles=define, usesocks=undef
    use64bitint=define, use64bitall=define, uselongdouble=define
    usemymalloc=n, bincompat5005=undef
  Compiler:
    cc='cc', ccflags ='-DDEBUGGING -fno-strict-aliasing -pipe -fstack-protector -I/usr/local/include -D_LARGEFILE_SOURCE -D_FILE_OFFSET_BITS=64',
    optimize='-O2 -g',
    cppflags='-DDEBUGGING -fno-strict-aliasing -pipe -fstack-protector -I/usr/local/include'
    ccversion='', gccversion='8.2.0', gccosandvers=''
    intsize=4, longsize=8, ptrsize=8, doublesize=8, byteorder=12345678
    d_longlong=define, longlongsize=8, d_longdbl=define, longdblsize=16
    ivtype='long', ivsize=8, nvtype='long double', nvsize=16, Off_t='off_t', lseeksize=8
    alignbytes=16, prototype=define
  Linker and Libraries:
    ld='cc', ldflags =' -fstack-protector -L/usr/local/lib'
    libpth=/usr/local/lib /lib/x86_64-linux-gnu /lib/../lib /usr/lib/x86_64-linux-gnu /usr/lib/../lib /lib /usr/lib
    libs=-lpthread -lnsl -ldl -lm -lcrypt -lutil -lc
    perllibs=-lpthread -lnsl -ldl -lm -lcrypt -lutil -lc
    libc=libc-2.27.so, so=so, useshrplib=false, libperl=libperl.a
    gnulibc_version='2.27'
  Dynamic Linking:
    dlsrc=dl_dlopen.xs, dlext=so, d_dlsymun=undef, ccdlflags='-Wl,-E'
    cccdlflags='-fPIC', lddlflags='-shared -O2 -g -L/usr/local/lib -fstack-protector'


Characteristics of this binary (from libperl): 
  Compile-time options: DEBUGGING PERL_DONT_CREATE_GVSV PERL_MALLOC_WRAP
                        PERL_PRESERVE_IVUV PERL_USE_DEVEL USE_64_BIT_ALL
                        USE_64_BIT_INT USE_LARGE_FILES USE_LONG_DOUBLE
                        USE_PERLIO USE_PERL_ATOF
  Locally applied patches:
	uncommitted-changes
  Built under linux
  Compiled at Oct 29 2018 00:53:53
  %ENV:
    PERL5LIB=""
    PERL5OPT=""
    PERL5_CPANPLUS_IS_RUNNING="26916"
    PERL5_CPAN_IS_RUNNING="26916"
    PERL_CANARY_STABILITY_NOPROMPT="1"
    PERL_MM_USE_DEFAULT="1"
    PERL_USE_UNSAFE_INC="1"
  @INC:
    /home/sand/src/perl/repoperls/installed-perls/host/k93msid/v5.14.4/fc43/lib/site_perl/5.14.4/x86_64-linux-ld
    /home/sand/src/perl/repoperls/installed-perls/host/k93msid/v5.14.4/fc43/lib/site_perl/5.14.4
    /home/sand/src/perl/repoperls/installed-perls/host/k93msid/v5.14.4/fc43/lib/5.14.4/x86_64-linux-ld
    /home/sand/src/perl/repoperls/installed-perls/host/k93msid/v5.14.4/fc43/lib/5.14.4
    .