FFI-Platypus v2.08 Perl 5 v5.22.1 OpenBSD.amd64-openbsd-thread-multi
- Status
- Pass
- From
- Chris Williams (BINGOS)
- Dist
-
FFI-Platypus v2.08
- Platform
- Perl 5 v5.22.1 OpenBSD.amd64-openbsd-thread-multi
- Date
- 2023-09-24 00:37:29
- ID
- 8af506c6-5a72-11ee-98b0-b3c3213a625c
This distribution has been tested as part of the CPAN Testers
project, supporting the Perl programming language. See
http://wiki.cpantesters.org/ for more information or email
questions to cpan-testers-discuss@perl.org
--
Dear Graham Ollis,
This is a computer-generated error report created automatically by
CPANPLUS, version 0.9914. Testers personal comments may appear
at the end of this report.
Thank you for uploading your work to CPAN. Congratulations!
All tests were successful.
TEST RESULTS:
Below is the error stack from stage 'make test':
"/home/cpan/pit/thr/perl-5.22.1/bin/perl" -MExtUtils::Command::MM -e 'cp_nonempty' -- lib/FFI/Platypus.bs blib/arch/auto/FFI/Platypus/Platypus.bs 644
CC t/ffi/align.c
CC t/ffi/align_array.c
CC t/ffi/align_fixed.c
CC t/ffi/align_string.c
CC t/ffi/basic.c
CC t/ffi/closure.c
CC t/ffi/color.c
CC t/ffi/complex_double.c
CC t/ffi/complex_float.c
CC t/ffi/double.c
CC t/ffi/float.c
CC t/ffi/gh117.c
CC t/ffi/gh174.c
CC t/ffi/longdouble.c
CC t/ffi/memcmp4.c
CC t/ffi/meta.c
CC t/ffi/pointer.c
CC t/ffi/record.c
CC t/ffi/sint16.c
CC t/ffi/sint32.c
CC t/ffi/sint64.c
CC t/ffi/sint8.c
CC t/ffi/string.c
CC t/ffi/string_array.c
CC t/ffi/uint16.c
CC t/ffi/uint32.c
CC t/ffi/uint64.c
CC t/ffi/uint8.c
CC t/ffi/variadic.c
LD t/ffi/libtest.so
PERL_DL_NONLAZY=1 "/home/cpan/pit/thr/perl-5.22.1/bin/perl" "-MExtUtils::Command::MM" "-MTest::Harness" "-e" "undef *Test::Harness::Switches; test_harness(0, 'blib/lib', 'blib/arch')" t/*.t
#
#
#
# HARNESS_ACTIVE=1
# HARNESS_VERSION=3.44
# PERL5LIB=/home/cpan/pit/thr/conf/perl-5.22.1/.cpanplus/5.22.1/build/pW3DSAFUN6/FFI-Platypus-2.08/blib/lib:/home/cpan/pit/thr/conf/perl-5.22.1/.cpanplus/5.22.1/build/pW3DSAFUN6/FFI-Platypus-2.08/blib/arch:/home/cpan/pit/jail/FQqJTwBiwh/lib/perl5/5.22.1/OpenBSD.amd64-openbsd-thread-multi:/home/cpan/pit/jail/FQqJTwBiwh/lib/perl5/5.22.1:/home/cpan/pit/jail/FQqJTwBiwh/lib/perl5/OpenBSD.amd64-openbsd-thread-multi:/home/cpan/pit/jail/FQqJTwBiwh/lib/perl5:/home/cpan/pit/jail/FQqJTwBiwh/lib/perl5:/home/cpan/pit/thr/conf/perl-5.22.1/.cpanplus/5.22.1/build/pW3DSAFUN6/FFI-Platypus-2.08/blib/lib:/home/cpan/pit/thr/conf/perl-5.22.1/.cpanplus/5.22.1/build/pW3DSAFUN6/FFI-Platypus-2.08/blib/arch
# PERL5_CPANPLUS_IS_RUNNING=11164
# PERL5_CPANPLUS_IS_VERSION=0.9914
# PERL5_MINISMOKEBOX=0.68
# PERL5_YACSMOKE_BASE=/home/cpan/pit/thr/conf/perl-5.22.1
# PERL_DL_NONLAZY=1
# PERL_EXTUTILS_AUTOINSTALL=--defaultdeps
# PERL_LOCAL_LIB_ROOT=/home/cpan/pit/jail/FQqJTwBiwh
# PERL_MB_OPT=--install_base "/home/cpan/pit/jail/FQqJTwBiwh"
# PERL_MM_OPT=INSTALL_BASE=/home/cpan/pit/jail/FQqJTwBiwh
# PERL_MM_USE_DEFAULT=1
# PERL_USE_UNSAFE_INC=1
# SHELL=/usr/local/bin/bash
#
#
#
# PERL5LIB path
# /home/cpan/pit/thr/conf/perl-5.22.1/.cpanplus/5.22.1/build/pW3DSAFUN6/FFI-Platypus-2.08/blib/lib
# /home/cpan/pit/thr/conf/perl-5.22.1/.cpanplus/5.22.1/build/pW3DSAFUN6/FFI-Platypus-2.08/blib/arch
# /home/cpan/pit/jail/FQqJTwBiwh/lib/perl5/5.22.1/OpenBSD.amd64-openbsd-thread-multi
# /home/cpan/pit/jail/FQqJTwBiwh/lib/perl5/5.22.1
# /home/cpan/pit/jail/FQqJTwBiwh/lib/perl5/OpenBSD.amd64-openbsd-thread-multi
# /home/cpan/pit/jail/FQqJTwBiwh/lib/perl5
# /home/cpan/pit/jail/FQqJTwBiwh/lib/perl5
# /home/cpan/pit/thr/conf/perl-5.22.1/.cpanplus/5.22.1/build/pW3DSAFUN6/FFI-Platypus-2.08/blib/lib
# /home/cpan/pit/thr/conf/perl-5.22.1/.cpanplus/5.22.1/build/pW3DSAFUN6/FFI-Platypus-2.08/blib/arch
#
#
#
# perl 5.022001 openbsd OpenBSD.amd64-openbsd-thread-multi
# Alien::Base 2.80
# Alien::FFI -
# Capture::Tiny 0.48
# Devel::Hide -
# ExtUtils::CBuilder 0.280236
# ExtUtils::MakeMaker 7.70
# ExtUtils::ParseXS 3.44
# FFI::CheckLib 0.31
# File::Spec::Functions 3.75
# IPC::Cmd 1.04
# JSON::PP 2.27300
# List::Util 1.63
# Math::LongDouble -
# PkgConfig -
# Test2::API 1.302195
# Test2::V0 0.000156
# autodie 2.26
# constant 1.33
# forks -
# parent 0.232
#
#
#
# mode : system
# Alien::FFI::pkgconfig->VERSION =
# Alien::FFI::pkgconfig->install_type = system
# Alien::FFI::pkgconfig->cflags = -I/usr/local/include
# Alien::FFI::pkgconfig->libs = -L/usr/local/lib -lffi
# Alien::FFI::pkgconfig->version = 3.2.1
#
#
#
# ffi.platypus.memory.strdup_impl =libc
# ffi.platypus.memory.strndup_impl=libc
#
#
#
# Types:
# double : double, float complex
# float : float
# longdouble : double complex, long double, long double complex
# sint16 : int16_t, short, signed short
# sint32 : blksize_t, dev_t, int, int32_t, senum, signed int, wchar_t, wint_t
# sint64 : blkcnt_t, int64_t, intmax_t, intptr_t, long, long long, off_t, ptrdiff_t, signed long, signed long long, ssize_t, time_t
# sint8 : char, int8_t, signed char
# uint16 : uint16_t, unsigned short, ushort
# uint32 : enum, gid_t, mode_t, nlink_t, uid_t, uint, uint32_t, unsigned int
# uint64 : ino_t, size_t, uint64_t, uintmax_t, uintptr_t, ulong, unsigned long, unsigned long long
# uint8 : bool, uchar, uint8_t, unsigned char
#
#
#
# ABIs:
# default_abi 2
# fastcall 4
# pascal 6
# register 7
# stdcall 5
# sysv 1
# thiscall 3
# unix64 2
#
#
#
# Probes:
# variadic 1
# abi 1
# recordvalue 1
# bigendian 0
# longdouble 1
# bigendian64 0
# strnlen 1
# alloca 1
#
#
#
# [PLATFORM]
# osname : openbsd
# cc : cc
# cxx : c++
# cxxld : c++
# for : ---
# ld : cc
# ccflags : -DPIC -fPIC -pthread -fno-strict-aliasing -pipe -fstack-protector-strong -I/usr/local/include -D_FORTIFY_SOURCE=2 -O2 -I/home/cpan/pit/thr/conf/perl-5.22.1/.cpanplus/5.22.1/build/pW3DSAFUN6/FFI-Platypus-2.08/blib/lib/auto/share/dist/FFI-Platypus/include
# ldflags : -shared -fPIC -L/usr/local/lib -fstack-protector-strong
# object suffix : .o
# library prefix : lib
# library suffix : .so
# cc mm works : -MM
#
#
#
t/00_diag.t .............................. ok
t/ffi_build.t ............................ ok
t/ffi_build_file_base.t .................. ok
t/ffi_build_file_c.t ..................... ok
t/ffi_build_file_cxx.t ................... ok
t/ffi_build_file_library.t ............... ok
t/ffi_build_file_object.t ................ ok
t/ffi_build_mm.t ......................... ok
t/ffi_build_platform.t ................... ok
t/ffi_build_plugin.t ..................... ok
t/ffi_build_plugindata.t ................. ok
t/ffi_platypus.t ......................... ok
t/ffi_platypus_api.t ..................... ok
t/ffi_platypus_buffer.t .................. ok
t/ffi_platypus_bundle.t .................. ok
t/ffi_platypus_closure.t ................. ok
t/ffi_platypus_constant.t ................ ok
t/ffi_platypus_dl.t ...................... ok
t/ffi_platypus_function.t ................ ok
t/ffi_platypus_function_wrapper.t ........ ok
t/ffi_platypus_internal.t ................ ok
t/ffi_platypus_lang.t .................... ok
t/ffi_platypus_lang_asm.t ................ ok
t/ffi_platypus_lang_c.t .................. ok
t/ffi_platypus_lang_win32.t .............. skipped: Unable to detect wide string details: This type plugin needs wcsnlen from libc, and cannot find it
t/ffi_platypus_legacy.t .................. ok
t/ffi_platypus_memory.t .................. ok
t/ffi_platypus_record.t .................. ok
t/ffi_platypus_record_meta.t ............. ok
t/ffi_platypus_record_tiearray.t ......... ok
t/ffi_platypus_shareconfig.t ............. ok
t/ffi_platypus_type.t .................... ok
t/ffi_platypus_type_pointersizebuffer.t .. ok
t/ffi_platypus_type_stringarray.t ........ ok
t/ffi_platypus_type_stringpointer.t ...... ok
t/ffi_platypus_type_widestring.t ......... skipped: Unable to detect wide string details: This type plugin needs wcsnlen from libc, and cannot find it
t/ffi_platypus_typeparser.t .............. ok
t/ffi_platypus_typeparser_version0.t ..... ok
t/ffi_platypus_typeparser_version1.t ..... ok
t/ffi_platypus_typeparser_version2.t ..... ok
t/ffi_probe.t ............................ ok
t/ffi_probe_runner.t ..................... ok
t/ffi_probe_runner_builder.t ............. ok
t/ffi_probe_runner_result.t .............. ok
t/ffi_temp.t ............................. ok
t/forks.t ................................ skipped: Test requires forks
t/gh117.t ................................ ok
t/gh129.t ................................ ok
t/gh323.t ................................ ok
t/memory.t ............................... skipped: tested only in CI
t/threads.t .............................. ok
t/type_complex_double.t .................. skipped: Test requires support for double complex
t/type_complex_float.t ................... skipped: Test requires support for float complex
t/type_custom.t .......................... ok
t/type_double.t .......................... ok
t/type_float.t ........................... ok
t/type_longdouble.t ...................... ok
t/type_longdouble__array.t ............... ok
t/type_longdouble__hide.t ................ skipped: test requires Devel::Hide 0.0010
t/type_longdouble__ptr.t ................. ok
t/type_opaque.t .......................... ok
t/type_record.t .......................... ok
t/type_record_value.t .................... ok
t/type_sint16.t .......................... ok
t/type_sint32.t .......................... ok
t/type_sint64.t .......................... ok
t/type_sint8.t ........................... ok
t/type_string.t .......................... ok
t/type_uint16.t .......................... ok
t/type_uint32.t .......................... ok
t/type_uint64.t .......................... ok
t/type_uint8.t ........................... ok
All tests successful.
Files=72, Tests=305, 162 wallclock secs ( 2.75 usr 1.23 sys + 64.88 cusr 28.05 csys = 96.91 CPU)
Result: PASS
PREREQUISITES:
Here is a list of prerequisites you specified and versions we
managed to load:
Module Name Have Want
Capture::Tiny 0.48 0
ExtUtils::CBuilder 0.280236 0
ExtUtils::MakeMaker 7.70 7.12
FFI::CheckLib 0.31 0.05
File::Spec::Functions 3.75 0
IPC::Cmd 1.04 0
JSON::PP 2.27300 0
List::Util 1.63 1.45
Test2::API 1.302195 1.302015
Test2::V0 0.000156 0.000121
autodie 2.26 0
constant 1.33 1.32
parent 0.232 0
Perl module toolchain versions installed:
Module Name Have
CPANPLUS 0.9914
CPANPLUS::Dist::Build 0.90
Cwd 3.75
ExtUtils::CBuilder 0.280236
ExtUtils::Command 7.70
ExtUtils::Install 2.22
ExtUtils::MakeMaker 7.70
ExtUtils::Manifest 1.75
ExtUtils::ParseXS 3.44
File::Spec 3.75
Module::Build 0.4234
Pod::Parser 1.63
Pod::Simple 3.29
Test2 1.302195
Test::Harness 3.44
Test::More 1.302195
version 0.9929
******************************** NOTE ********************************
The comments above are created mechanically, possibly without manual
checking by the sender. As there are many people performing automatic
tests on each upload to CPAN, it is likely that you will receive
identical messages about the same problem.
If you believe that the message is mistaken, please reply to the first
one with correction and/or additional informations, and do not take
it personally. We appreciate your patience. :)
**********************************************************************
Additional comments:
This report was machine-generated by CPANPLUS::Dist::YACSmoke 1.08.
Powered by minismokebox version 0.68
CPANPLUS is prefering Build.PL
------------------------------
ENVIRONMENT AND OTHER CONTEXT
------------------------------
Environment variables:
AUTOMATED_TESTING = 1
NONINTERACTIVE_TESTING = 1
PATH = /home/cpan/bin:/bin:/sbin:/usr/bin:/usr/sbin:/usr/X11R6/bin:/usr/local/bin:/usr/local/sbin:/usr/games
PERL5LIB = /home/cpan/pit/jail/FQqJTwBiwh/lib/perl5:/home/cpan/pit/thr/conf/perl-5.22.1/.cpanplus/5.22.1/build/pW3DSAFUN6/FFI-Platypus-2.08/blib/lib:/home/cpan/pit/thr/conf/perl-5.22.1/.cpanplus/5.22.1/build/pW3DSAFUN6/FFI-Platypus-2.08/blib/arch
PERL5_CPANPLUS_IS_RUNNING = 11164
PERL5_CPANPLUS_IS_VERSION = 0.9914
PERL5_MINISMOKEBOX = 0.68
PERL5_YACSMOKE_BASE = /home/cpan/pit/thr/conf/perl-5.22.1
PERL_EXTUTILS_AUTOINSTALL = --defaultdeps
PERL_LOCAL_LIB_ROOT = /home/cpan/pit/jail/FQqJTwBiwh
PERL_MB_OPT = --install_base "/home/cpan/pit/jail/FQqJTwBiwh"
PERL_MM_OPT = INSTALL_BASE=/home/cpan/pit/jail/FQqJTwBiwh
PERL_MM_USE_DEFAULT = 1
PERL_USE_UNSAFE_INC = 1
SHELL = /usr/local/bin/bash
TERM = screen.xterm-256color
Perl special variables (and OS-specific diagnostics, for MSWin32):
Perl: $^X = /home/cpan/pit/thr/perl-5.22.1/bin/perl
UID: $< = 1001
EUID: $> = 1001
GID: $( = 1001 1001
EGID: $) = 1001 1001
-------------------------------
--
Summary of my perl5 (revision 5 version 22 subversion 1) configuration:
Platform:
osname=openbsd, osvers=6.6, archname=OpenBSD.amd64-openbsd-thread-multi
uname='openbsd outrage.bingosnet.co.uk 6.6 generic#4 amd64 '
config_args='-des -Dprefix=/home/cpan/pit/thr/perl-5.22.1 -Dusethreads'
hint=recommended, useposix=true, d_sigaction=define
useithreads=define, usemultiplicity=define
use64bitint=define, use64bitall=define, uselongdouble=undef
usemymalloc=n, bincompat5005=undef
Compiler:
cc='cc', ccflags ='-pthread -fno-strict-aliasing -pipe -fstack-protector-strong -I/usr/local/include -D_FORTIFY_SOURCE=2',
optimize='-O2',
cppflags='-pthread -fno-strict-aliasing -pipe -fstack-protector-strong -I/usr/local/include'
ccversion='', gccversion='4.2.1 Compatible OpenBSD Clang 8.0.1 (tags/RELEASE_801/final)', gccosandvers=''
intsize=4, longsize=8, ptrsize=8, doublesize=8, byteorder=12345678, doublekind=3
d_longlong=define, longlongsize=8, d_longdbl=define, longdblsize=16, longdblkind=3
ivtype='long', ivsize=8, nvtype='double', nvsize=8, Off_t='off_t', lseeksize=8
alignbytes=8, prototype=define
Linker and Libraries:
ld='cc', ldflags ='-pthread -Wl,-E -fstack-protector-strong -L/usr/local/lib'
libpth=/usr/lib /usr/local/lib
libs=-lpthread -lgdbm -lm -lutil -lc
perllibs=-lpthread -lm -lutil -lc
libc=/usr/lib/libc.so.95.1, so=so, useshrplib=false, libperl=libperl.a
gnulibc_version=''
Dynamic Linking:
dlsrc=dl_dlopen.xs, dlext=so, d_dlsymun=undef, ccdlflags=' '
cccdlflags='-DPIC -fPIC ', lddlflags='-shared -fPIC -L/usr/local/lib -fstack-protector-strong'
Characteristics of this binary (from libperl):
Compile-time options: HAS_TIMES MULTIPLICITY PERLIO_LAYERS
PERL_DONT_CREATE_GVSV
PERL_HASH_FUNC_ONE_AT_A_TIME_HARD
PERL_IMPLICIT_CONTEXT PERL_MALLOC_WRAP
PERL_NEW_COPY_ON_WRITE PERL_PRESERVE_IVUV
USE_64_BIT_ALL USE_64_BIT_INT USE_ITHREADS
USE_LARGE_FILES USE_LOCALE USE_LOCALE_COLLATE
USE_LOCALE_CTYPE USE_LOCALE_NUMERIC USE_LOCALE_TIME
USE_PERLIO USE_PERL_ATOF USE_REENTRANT_API
Locally applied patches:
Devel::PatchPerl 1.80
Built under openbsd
Compiled at Jan 24 2020 05:12:19
%ENV:
PERL5LIB="/home/cpan/pit/jail/FQqJTwBiwh/lib/perl5:/home/cpan/pit/thr/conf/perl-5.22.1/.cpanplus/5.22.1/build/pW3DSAFUN6/FFI-Platypus-2.08/blib/lib:/home/cpan/pit/thr/conf/perl-5.22.1/.cpanplus/5.22.1/build/pW3DSAFUN6/FFI-Platypus-2.08/blib/arch"
PERL5_CPANPLUS_IS_RUNNING="11164"
PERL5_CPANPLUS_IS_VERSION="0.9914"
PERL5_MINISMOKEBOX="0.68"
PERL5_YACSMOKE_BASE="/home/cpan/pit/thr/conf/perl-5.22.1"
PERL_EXTUTILS_AUTOINSTALL="--defaultdeps"
PERL_LOCAL_LIB_ROOT="/home/cpan/pit/jail/FQqJTwBiwh"
PERL_MB_OPT="--install_base "/home/cpan/pit/jail/FQqJTwBiwh""
PERL_MM_OPT="INSTALL_BASE=/home/cpan/pit/jail/FQqJTwBiwh"
PERL_MM_USE_DEFAULT="1"
PERL_USE_UNSAFE_INC="1"
@INC:
/home/cpan/pit/jail/FQqJTwBiwh/lib/perl5/5.22.1/OpenBSD.amd64-openbsd-thread-multi
/home/cpan/pit/jail/FQqJTwBiwh/lib/perl5/5.22.1
/home/cpan/pit/jail/FQqJTwBiwh/lib/perl5/OpenBSD.amd64-openbsd-thread-multi
/home/cpan/pit/jail/FQqJTwBiwh/lib/perl5
/home/cpan/pit/thr/conf/perl-5.22.1/.cpanplus/5.22.1/build/pW3DSAFUN6/FFI-Platypus-2.08/blib/lib
/home/cpan/pit/thr/conf/perl-5.22.1/.cpanplus/5.22.1/build/pW3DSAFUN6/FFI-Platypus-2.08/blib/arch
/home/cpan/pit/thr/perl-5.22.1/lib/site_perl/5.22.1/OpenBSD.amd64-openbsd-thread-multi
/home/cpan/pit/thr/perl-5.22.1/lib/site_perl/5.22.1
/home/cpan/pit/thr/perl-5.22.1/lib/5.22.1/OpenBSD.amd64-openbsd-thread-multi
/home/cpan/pit/thr/perl-5.22.1/lib/5.22.1
.