PPI v1.278 Perl 5 v5.38.0 x86_64-linux-thread-multi
- Status
- Pass
- From
- Arpad Szasz
- Dist
-
PPI v1.278
- Platform
- Perl 5 v5.38.0 x86_64-linux-thread-multi
- Date
- 2024-03-11 14:56:29
- ID
- 8abdc6fa-dfb7-11ee-a8ea-91eaeed25279
This distribution has been tested as part of the CPAN Testers
project, supporting the Perl programming language. See
http://wiki.cpantesters.org/ for more information or email
questions to cpan-testers-discuss@perl.org
--
Dear OALDERS,
This is a computer-generated report for PPI-1.278
on perl 5.38.0, created by App::cpanminus::reporter 0.21 (1.7046).
Thank you for uploading your work to CPAN. Congratulations!
All tests were successful.
Sections of this report:
* Tester comments
* Program output
* Prerequisites
* Environment and other context
------------------------------
TESTER COMMENTS
------------------------------
Additional comments from tester:
none provided
------------------------------
PROGRAM OUTPUT
------------------------------
Output from '':
Building and testing PPI-1.278
cp lib/PPI/Structure/Condition.pm blib/lib/PPI/Structure/Condition.pm
cp lib/PPI/Structure/For.pm blib/lib/PPI/Structure/For.pm
cp lib/PPI/Statement.pm blib/lib/PPI/Statement.pm
cp lib/PPI/Document/Fragment.pm blib/lib/PPI/Document/Fragment.pm
cp lib/PPI/Statement/Package.pm blib/lib/PPI/Statement/Package.pm
cp lib/PPI/Node.pm blib/lib/PPI/Node.pm
cp lib/PPI/Statement/Given.pm blib/lib/PPI/Statement/Given.pm
cp lib/PPI/Statement/Sub.pm blib/lib/PPI/Statement/Sub.pm
cp lib/PPI/Document.pm blib/lib/PPI/Document.pm
cp lib/PPI/Statement/Null.pm blib/lib/PPI/Statement/Null.pm
cp lib/PPI/Statement/When.pm blib/lib/PPI/Statement/When.pm
cp lib/PPI/Statement/Expression.pm blib/lib/PPI/Statement/Expression.pm
cp lib/PPI/Structure/Given.pm blib/lib/PPI/Structure/Given.pm
cp lib/PPI/Statement/Data.pm blib/lib/PPI/Statement/Data.pm
cp lib/PPI/Dumper.pm blib/lib/PPI/Dumper.pm
cp lib/PPI.pm blib/lib/PPI.pm
cp lib/PPI/Structure/Unknown.pm blib/lib/PPI/Structure/Unknown.pm
cp lib/PPI/Find.pm blib/lib/PPI/Find.pm
cp lib/PPI/Document/File.pm blib/lib/PPI/Document/File.pm
cp lib/PPI/Statement/Break.pm blib/lib/PPI/Statement/Break.pm
cp lib/PPI/Statement/Compound.pm blib/lib/PPI/Statement/Compound.pm
cp lib/PPI/Normal/Standard.pm blib/lib/PPI/Normal/Standard.pm
cp lib/PPI/Cache.pm blib/lib/PPI/Cache.pm
cp lib/PPI/Structure/Block.pm blib/lib/PPI/Structure/Block.pm
cp lib/PPI/Statement/Unknown.pm blib/lib/PPI/Statement/Unknown.pm
cp lib/PPI/Element.pm blib/lib/PPI/Element.pm
cp lib/PPI/Structure.pm blib/lib/PPI/Structure.pm
cp lib/PPI/Statement/Include/Perl6.pm blib/lib/PPI/Statement/Include/Perl6.pm
cp lib/PPI/Structure/List.pm blib/lib/PPI/Structure/List.pm
cp lib/PPI/Statement/End.pm blib/lib/PPI/Statement/End.pm
cp lib/PPI/Exception/ParserRejection.pm blib/lib/PPI/Exception/ParserRejection.pm
cp lib/PPI/Document/Normalized.pm blib/lib/PPI/Document/Normalized.pm
cp lib/PPI/Statement/UnmatchedBrace.pm blib/lib/PPI/Statement/UnmatchedBrace.pm
cp lib/PPI/Singletons.pm blib/lib/PPI/Singletons.pm
cp lib/PPI/Structure/Constructor.pm blib/lib/PPI/Structure/Constructor.pm
cp lib/PPI/Structure/Subscript.pm blib/lib/PPI/Structure/Subscript.pm
cp lib/PPI/Statement/Include.pm blib/lib/PPI/Statement/Include.pm
cp lib/PPI/Normal.pm blib/lib/PPI/Normal.pm
cp lib/PPI/Lexer.pm blib/lib/PPI/Lexer.pm
cp lib/PPI/Statement/Scheduled.pm blib/lib/PPI/Statement/Scheduled.pm
cp lib/PPI/Exception.pm blib/lib/PPI/Exception.pm
cp lib/PPI/Statement/Variable.pm blib/lib/PPI/Statement/Variable.pm
cp lib/PPI/Token/QuoteLike/Backtick.pm blib/lib/PPI/Token/QuoteLike/Backtick.pm
cp lib/PPI/Token/Quote/Single.pm blib/lib/PPI/Token/Quote/Single.pm
cp lib/PPI/Token/Pod.pm blib/lib/PPI/Token/Pod.pm
cp lib/PPI/Token/Number/Octal.pm blib/lib/PPI/Token/Number/Octal.pm
cp lib/PPI/Token/Operator.pm blib/lib/PPI/Token/Operator.pm
cp lib/PPI/Token/Number/Float.pm blib/lib/PPI/Token/Number/Float.pm
cp lib/PPI/Token/Regexp/Substitute.pm blib/lib/PPI/Token/Regexp/Substitute.pm
cp lib/PPI/Token/Quote/Literal.pm blib/lib/PPI/Token/Quote/Literal.pm
cp lib/PPI/Token/Data.pm blib/lib/PPI/Token/Data.pm
cp lib/PPI/Token.pm blib/lib/PPI/Token.pm
cp lib/PPI/Token/HereDoc.pm blib/lib/PPI/Token/HereDoc.pm
cp lib/PPI/Token/DashedWord.pm blib/lib/PPI/Token/DashedWord.pm
cp lib/PPI/Token/Quote/Double.pm blib/lib/PPI/Token/Quote/Double.pm
cp lib/PPI/Token/Label.pm blib/lib/PPI/Token/Label.pm
cp lib/PPI/Token/QuoteLike/Words.pm blib/lib/PPI/Token/QuoteLike/Words.pm
cp lib/PPI/Token/QuoteLike/Regexp.pm blib/lib/PPI/Token/QuoteLike/Regexp.pm
cp lib/PPI/Token/Attribute.pm blib/lib/PPI/Token/Attribute.pm
cp lib/PPI/Token/Cast.pm blib/lib/PPI/Token/Cast.pm
cp lib/PPI/Structure/When.pm blib/lib/PPI/Structure/When.pm
cp lib/PPI/Token/QuoteLike/Command.pm blib/lib/PPI/Token/QuoteLike/Command.pm
cp lib/PPI/Token/Prototype.pm blib/lib/PPI/Token/Prototype.pm
cp lib/PPI/Token/Number/Binary.pm blib/lib/PPI/Token/Number/Binary.pm
cp lib/PPI/Token/Number/Hex.pm blib/lib/PPI/Token/Number/Hex.pm
cp lib/PPI/Token/QuoteLike/Readline.pm blib/lib/PPI/Token/QuoteLike/Readline.pm
cp lib/PPI/Token/Number/Exp.pm blib/lib/PPI/Token/Number/Exp.pm
cp lib/PPI/Token/Comment.pm blib/lib/PPI/Token/Comment.pm
cp lib/PPI/Token/BOM.pm blib/lib/PPI/Token/BOM.pm
cp lib/PPI/Token/ArrayIndex.pm blib/lib/PPI/Token/ArrayIndex.pm
cp lib/PPI/Token/Number.pm blib/lib/PPI/Token/Number.pm
cp lib/PPI/Token/End.pm blib/lib/PPI/Token/End.pm
cp lib/PPI/Token/Separator.pm blib/lib/PPI/Token/Separator.pm
cp lib/PPI/Token/Quote.pm blib/lib/PPI/Token/Quote.pm
cp lib/PPI/Token/QuoteLike.pm blib/lib/PPI/Token/QuoteLike.pm
cp lib/PPI/Token/Quote/Interpolate.pm blib/lib/PPI/Token/Quote/Interpolate.pm
cp lib/PPI/Token/Regexp/Match.pm blib/lib/PPI/Token/Regexp/Match.pm
cp lib/PPI/Token/Number/Version.pm blib/lib/PPI/Token/Number/Version.pm
cp lib/PPI/Token/Regexp/Transliterate.pm blib/lib/PPI/Token/Regexp/Transliterate.pm
cp lib/PPI/Token/Regexp.pm blib/lib/PPI/Token/Regexp.pm
cp lib/PPI/Token/Magic.pm blib/lib/PPI/Token/Magic.pm
cp lib/PPI/Transform.pm blib/lib/PPI/Transform.pm
cp lib/PPI/Transform/UpdateCopyright.pm blib/lib/PPI/Transform/UpdateCopyright.pm
cp lib/PPI/XSAccessor.pm blib/lib/PPI/XSAccessor.pm
cp lib/PPI/Token/Structure.pm blib/lib/PPI/Token/Structure.pm
cp lib/PPI/Token/_QuoteEngine/Simple.pm blib/lib/PPI/Token/_QuoteEngine/Simple.pm
cp lib/PPI/Token/Symbol.pm blib/lib/PPI/Token/Symbol.pm
cp lib/PPI/Util.pm blib/lib/PPI/Util.pm
cp lib/PPI/Token/Whitespace.pm blib/lib/PPI/Token/Whitespace.pm
cp lib/PPI/Token/Unknown.pm blib/lib/PPI/Token/Unknown.pm
cp lib/PPI/Token/_QuoteEngine/Full.pm blib/lib/PPI/Token/_QuoteEngine/Full.pm
cp lib/PPI/Token/Word.pm blib/lib/PPI/Token/Word.pm
cp lib/PPI/Tokenizer.pm blib/lib/PPI/Tokenizer.pm
cp lib/PPI/Token/_QuoteEngine.pm blib/lib/PPI/Token/_QuoteEngine.pm
Manifying 36 pod documents
Manifying 34 pod documents
Manifying 20 pod documents
PERL_DL_NONLAZY=1 "/home/arpi/opt/perl5/perls/perl-5.38.0/bin/perl" "-MExtUtils::Command::MM" "-MTest::Harness" "-e" "undef *Test::Harness::Switches; test_harness(0, 'blib/lib', 'blib/arch')" t/*.t
#
# Versions for all modules listed in MYMETA.json (including optional ones):
#
# === Configure Requires ===
#
# Module Want Have
# ------------------- ---- ----
# ExtUtils::MakeMaker any 7.70
#
# === Build Requires ===
#
# Module Want Have
# ------------------- ---- ----
# ExtUtils::MakeMaker any 7.70
#
# === Test Requires ===
#
# Module Want Have
# --------------------- ---- --------
# B any 1.88
# Class::Inspector 1.22 1.36
# Encode any 3.21
# ExtUtils::MakeMaker any 7.70
# File::Copy any 2.41
# File::Spec any 3.88
# File::Spec::Functions any 3.88
# File::Temp any 0.2311
# Test::More 0.96 1.302198
# Test::NoWarnings any 1.06
# Test::Object 0.07 0.08
# Test::SubCalls 1.07 1.10
# lib any 0.65
# parent any 0.241
# utf8 any 1.25
# warnings any 1.65
#
# === Test Recommends ===
#
# Module Want Have
# ---------- -------- --------
# CPAN::Meta 2.120900 2.150010
#
# === Runtime Requires ===
#
# Module Want Have
# ------------ ----- --------
# Carp any 1.54
# Clone 0.30 0.46
# Digest::MD5 2.35 2.59
# Exporter any 5.78
# File::Path any 2.18
# File::Spec 0.84 3.88
# List::Util 1.33 1.63
# Params::Util 1.00 1.102
# Scalar::Util any 1.63
# Storable 2.17 3.32
# Task::Weaken any 1.06
# constant any 1.33
# if any 0.0610
# overload any 1.37
# perl 5.006 5.038000
# strict any 1.12
#
t/00-report-prereqs.t ............ ok
t/01_compile.t ................... ok
t/03_document.t .................. ok
t/04_element.t ................... ok
t/05_lexer.t ..................... ok
t/06_round_trip.t ................ ok
t/07_token.t ..................... ok
t/08_regression.t ................ ok
t/09_normal.t .................... ok
t/10_statement.t ................. ok
t/11_util.t ...................... ok
t/12_location.t .................. ok
t/13_data.t ...................... ok
t/14_charsets.t .................. ok
t/15_transform.t ................. ok
t/16_xml.t ....................... ok
t/17_storable.t .................. ok
t/18_cache.t ..................... ok
t/19_selftesting.t ............... ok
t/21_exhaustive.t ................ ok
t/22_readonly.t .................. ok
t/23_file.t ...................... ok
t/24_v6.t ........................ ok
t/25_increment.t ................. ok
t/26_bom.t ....................... ok
t/27_complete.t .................. ok
t/28_foreach_qw.t ................ ok
t/29_logical_filename.t .......... ok
t/interactive.t .................. ok
t/marpa.t ........................ ok
t/ppi_element.t .................. ok
t/ppi_element_replace.t .......... ok
t/ppi_lexer.t .................... ok
t/ppi_node.t ..................... ok
t/ppi_normal.t ................... ok
t/ppi_statement.t ................ ok
t/ppi_statement_compound.t ....... ok
t/ppi_statement_include.t ........ ok
t/ppi_statement_package.t ........ ok
t/ppi_statement_scheduled.t ...... ok
t/ppi_statement_sub.t ............ ok
t/ppi_statement_variable.t ....... ok
t/ppi_token.t .................... ok
t/ppi_token__quoteengine_full.t .. ok
t/ppi_token_attribute.t .......... ok
t/ppi_token_dashedword.t ......... ok
t/ppi_token_heredoc.t ............ ok
t/ppi_token_magic.t .............. ok
t/ppi_token_number_version.t ..... ok
t/ppi_token_operator.t ........... ok
t/ppi_token_pod.t ................ ok
t/ppi_token_prototype.t .......... ok
t/ppi_token_quote.t .............. ok
t/ppi_token_quote_double.t ....... ok
t/ppi_token_quote_interpolate.t .. ok
t/ppi_token_quote_literal.t ...... ok
t/ppi_token_quote_single.t ....... ok
t/ppi_token_quotelike_regexp.t ... ok
t/ppi_token_quotelike_words.t .... ok
t/ppi_token_regexp.t ............. ok
t/ppi_token_structure.t .......... ok
t/ppi_token_symbol.t ............. ok
t/ppi_token_unknown.t ............ ok
t/ppi_token_whitespace.t ......... ok
t/ppi_token_word.t ............... ok
t/signatures.t ................... ok
All tests successful.
Files=66, Tests=52775, 22 wallclock secs ( 3.22 usr 0.27 sys + 20.65 cusr 0.68 csys = 24.82 CPU)
Result: PASS
------------------------------
PREREQUISITES
------------------------------
Prerequisite modules loaded:
runtime:
Module Need Have
------------------- ----- --------
Carp 0 1.54
Clone 0.30 0.46
constant 0 1.33
Digest::MD5 2.35 2.59
Exporter 0 5.78
File::Path 0 2.18
File::Spec 0.84 3.88
if 0 0.0610
List::Util 1.33 1.63
overload 0 1.37
Params::Util 1.00 1.102
perl 5.006 5.038000
Scalar::Util 0 1.63
Storable 2.17 3.32
strict 0 1.12
Task::Weaken 0 1.06
build:
Module Need Have
------------------- ----- --------
ExtUtils::MakeMaker 0 7.70
configure:
Module Need Have
------------------- ----- --------
ExtUtils::MakeMaker 0 7.70
------------------------------
ENVIRONMENT AND OTHER CONTEXT
------------------------------
Environment variables:
LANG = en_US.UTF-8
LC_ADDRESS = ro_RO.UTF-8
LC_IDENTIFICATION = ro_RO.UTF-8
LC_MEASUREMENT = ro_RO.UTF-8
LC_MONETARY = ro_RO.UTF-8
LC_NAME = ro_RO.UTF-8
LC_NUMERIC = ro_RO.UTF-8
LC_PAPER = ro_RO.UTF-8
LC_TELEPHONE = ro_RO.UTF-8
LC_TIME = ro_RO.UTF-8
PATH = /home/arpi/.local/bin:/home/arpi/.rakudobrew/bin:/home/arpi/opt/perl5/bin:/home/arpi/opt/perl5/perls/stable/bin:/home/arpi/.nvm/versions/node/v20.11.0/bin:/home/arpi/.cargo/bin:/home/arpi/.local/share/umake/bin:/home/arpi/.rakudobrew/bin:/media/arpi/XTEND/programs/adt-bundle-linux-x86_64-20140702/sdk/tools:/media/arpi/XTEND/programs/adt-bundle-linux-x86_64-20140702/sdk/platform-tools:/home/arpi/bin:/home/arpi/opt/PDK/bin:/home/arpi/.rvm/gems/ruby-3.2.2/bin:/home/arpi/.rvm/gems/ruby-3.2.2@global/bin:/home/arpi/.rvm/rubies/ruby-3.2.2/bin:/home/arpi/.nvm/versions/node/v14.12.0/bin:/home/arpi/.cargo/bin:/home/arpi/.local/share/umake/bin:/home/arpi/.rakudobrew/bin:/media/arpi/XTEND/programs/adt-bundle-linux-x86_64-20140702/sdk/tools:/media/arpi/XTEND/programs/adt-bundle-linux-x86_64-20140702/sdk/platform-tools:/home/arpi/bin:/home/arpi/opt/PDK/bin:/usr/local/sbin:/usr/local/bin:/usr/sbin:/usr/bin:/sbin:/bin:/usr/games:/usr/local/games:/snap/bin:/snap/bin:/usr/lib/jvm/java-8-oracle/bin:/usr/lib/jvm/java-8-oracle/db/bin:/usr/lib/jvm/java-8-oracle/jre/bin:/home/arpi/go/bin:/home/arpi/.rvm/bin:/usr/lib/jvm/java-8-oracle/bin:/usr/lib/jvm/java-8-oracle/db/bin:/usr/lib/jvm/java-8-oracle/jre/bin:/home/arpi/go/bin:/home/arpi/.rvm/bin:/home/arpi/.fzf/bin:/home/arpi/go/bin:/home/arpi/.rvm/bin
PERLBREW_HOME = /home/arpi/.perlbrew
PERLBREW_MANPATH = /home/arpi/opt/perl5/perls/stable/man
PERLBREW_PATH = /home/arpi/opt/perl5/bin:/home/arpi/opt/perl5/perls/stable/bin
PERLBREW_PERL = stable
PERLBREW_ROOT = /home/arpi/opt/perl5
PERLBREW_SHELLRC_VERSION = 0.95
PERLBREW_VERSION = 0.95
SHELL = /bin/bash
TERM = xterm-256color
Perl special variables (and OS-specific diagnostics, for MSWin32):
EGID = 1000 4 6 24 27 29 30 46 109 124 125 132 133 138 139 1000
EUID = 1000
EXECUTABLE_NAME = /home/arpi/opt/perl5/perls/perl-5.38.0/bin/perl
GID = 1000 4 6 24 27 29 30 46 109 124 125 132 133 138 139 1000
UID = 1000
Perl module toolchain versions installed:
Module Have
------------------- --------
CPAN 2.36
CPAN::Meta 2.150010
Cwd 3.89
ExtUtils::CBuilder 0.280238
ExtUtils::Command 7.70
ExtUtils::Install 2.22
ExtUtils::MakeMaker 7.70
ExtUtils::Manifest 1.75
ExtUtils::ParseXS 3.51
File::Spec 3.88
JSON 4.10
JSON::PP 4.16
Module::Build 0.4234
Module::Signature n/a
Parse::CPAN::Meta 2.150010
Test::Harness 3.48
Test::More 1.302198
YAML 1.31
YAML::Syck n/a
version 0.9930
--
Summary of my perl5 (revision 5 version 38 subversion 0) configuration:
Platform:
osname=linux
osvers=6.2.0-24-generic
archname=x86_64-linux-thread-multi
uname='linux orca 6.2.0-24-generic #24-ubuntu smp preempt_dynamic fri jun 16 12:03:50 utc 2023 x86_64 x86_64 x86_64 gnulinux '
config_args='-de -Dprefix=/home/arpi/opt/perl5/perls/perl-5.38.0 -Dusethreads -Duselargefiles -Duse64bitall -Dusesitecustomize -Duseshrplib -Dinc_version_list=none -Dpager=/bin/less -Doptimize=-O2 -Dcf_by=Plenum.ro -Dcf_email=arpad.szasz@plenum.ro -Uuserelocatableinc -UDEBUGGING -Aeval:scriptdir=/home/arpi/opt/perl5/perls/perl-5.38.0/bin'
hint=recommended
useposix=true
d_sigaction=define
useithreads=define
usemultiplicity=define
use64bitint=define
use64bitall=define
uselongdouble=undef
usemymalloc=n
default_inc_excludes_dot=define
Compiler:
cc='cc'
ccflags ='-D_REENTRANT -D_GNU_SOURCE -fwrapv -fno-strict-aliasing -pipe -fstack-protector-strong -I/usr/local/include -D_LARGEFILE_SOURCE -D_FILE_OFFSET_BITS=64'
optimize='-O2'
cppflags='-D_REENTRANT -D_GNU_SOURCE -fwrapv -fno-strict-aliasing -pipe -fstack-protector-strong -I/usr/local/include'
ccversion=''
gccversion='12.2.0'
gccosandvers=''
intsize=4
longsize=8
ptrsize=8
doublesize=8
byteorder=12345678
doublekind=3
d_longlong=define
longlongsize=8
d_longdbl=define
longdblsize=16
longdblkind=3
ivtype='long'
ivsize=8
nvtype='double'
nvsize=8
Off_t='off_t'
lseeksize=8
alignbytes=8
prototype=define
Linker and Libraries:
ld='cc'
ldflags =' -fstack-protector-strong -L/usr/local/lib'
libpth=/usr/local/lib /usr/lib/x86_64-linux-gnu /usr/lib /usr/lib64
libs=-lpthread -ldl -lm -lcrypt -lutil -lc
perllibs=-lpthread -ldl -lm -lcrypt -lutil -lc
libc=/lib/x86_64-linux-gnu/libc.so.6
so=so
useshrplib=true
libperl=libperl.so
gnulibc_version='2.37'
Dynamic Linking:
dlsrc=dl_dlopen.xs
dlext=so
d_dlsymun=undef
ccdlflags='-Wl,-E -Wl,-rpath,/home/arpi/opt/perl5/perls/perl-5.38.0/lib/5.38.0/x86_64-linux-thread-multi/CORE'
cccdlflags='-fPIC'
lddlflags='-shared -O2 -L/usr/local/lib -fstack-protector-strong'
Characteristics of this binary (from libperl):
Compile-time options:
HAS_LONG_DOUBLE
HAS_STRTOLD
HAS_TIMES
MULTIPLICITY
PERLIO_LAYERS
PERL_COPY_ON_WRITE
PERL_DONT_CREATE_GVSV
PERL_HASH_FUNC_SIPHASH13
PERL_HASH_USE_SBOX32
PERL_MALLOC_WRAP
PERL_OP_PARENT
PERL_PRESERVE_IVUV
PERL_USE_SAFE_PUTENV
USE_64_BIT_ALL
USE_64_BIT_INT
USE_ITHREADS
USE_LARGE_FILES
USE_LOCALE
USE_LOCALE_COLLATE
USE_LOCALE_CTYPE
USE_LOCALE_NUMERIC
USE_LOCALE_TIME
USE_PERLIO
USE_PERL_ATOF
USE_REENTRANT_API
USE_SITECUSTOMIZE
USE_THREAD_SAFE_LOCALE
Built under linux
Compiled at Jul 4 2023 10:41:15
%ENV:
PERLBREW_HOME="/home/arpi/.perlbrew"
PERLBREW_MANPATH="/home/arpi/opt/perl5/perls/stable/man"
PERLBREW_PATH="/home/arpi/opt/perl5/bin:/home/arpi/opt/perl5/perls/stable/bin"
PERLBREW_PERL="stable"
PERLBREW_ROOT="/home/arpi/opt/perl5"
PERLBREW_SHELLRC_VERSION="0.95"
PERLBREW_VERSION="0.95"
@INC:
/home/arpi/opt/perl5/perls/perl-5.38.0/lib/site_perl/5.38.0/x86_64-linux-thread-multi
/home/arpi/opt/perl5/perls/perl-5.38.0/lib/site_perl/5.38.0
/home/arpi/opt/perl5/perls/perl-5.38.0/lib/5.38.0/x86_64-linux-thread-multi
/home/arpi/opt/perl5/perls/perl-5.38.0/lib/5.38.0