CryptX v0.063_003 Perl 5 v5.22.1 x86_64-linux-gnu-thread-multi
- Status
- Pass
- From
- Slaven Rezić (SREZIC)
- Dist
-
CryptX v0.063_003
- Platform
- Perl 5 v5.22.1 x86_64-linux-gnu-thread-multi
- Date
- 2019-06-10 17:59:46
- ID
- 88798760-8ba9-11e9-992d-42601f24ea8f
This distribution has been tested as part of the CPAN Testers
project, supporting the Perl programming language. See
http://wiki.cpantesters.org/ for more information or email
questions to cpan-testers-discuss@perl.org
--
Dear Karel Miko,
This is a computer-generated report for CryptX-0.063_003
on perl 5.22.1, created by CPAN-Reporter-1.2015.
Thank you for uploading your work to CPAN. Congratulations!
All tests were successful.
Sections of this report:
* Tester comments
* Program output
* Prerequisites
* Environment and other context
------------------------------
TESTER COMMENTS
------------------------------
Additional comments from tester:
none provided
------------------------------
PROGRAM OUTPUT
------------------------------
Output from '/usr/bin/make test':
Running Mkbootstrap for CryptX ()
chmod 644 "CryptX.bs"
PERL_DL_NONLAZY=1 "/usr/bin/perl" "-MExtUtils::Command::MM" "-MTest::Harness" "-e" "undef *Test::Harness::Switches; test_harness(0, 'blib/lib', 'blib/arch')" t/*.t
# Testing CryptX 0.063_003, Perl 5.022001 linux /usr/bin/perl
# osname = linux
# myarchname = x86_64-linux
# myuname = linux localhost 3.16.0 #1 smp debian 3.16.0 x86_64 gnulinux
# intsize = 4
# longsize = 8
# longlongsize = 8
# ptrsize = 8
# byteorder = 12345678
#
# LibTomCrypt 1.18.2-develop (www.libtom.net)
# LibTomCrypt is public domain software.
#
#
# Endianness: little (64-bit words)
# Clean stack: disabled
#
# Ciphers built-in:
# Blowfish
# RC2
# RC5
# RC6
# Safer+
# Safer
# Rijndael
# XTEA
# Twofish (tables)
# DES
# CAST5
# Noekeon
# Skipjack
# Khazad
# Anubis (tweaked)
# KSEED
# KASUMI
# MULTI2
# Camellia
# IDEA
# Serpent
# Stream ciphers built-in:
# ChaCha
# Salsa20
# XSalsa20
# Sosemanuk
# Rabbit
# RC4
# SOBER128
#
# Hashes built-in:
# SHA3
# KECCAK
# SHA-512
# SHA-384
# SHA-512/256
# SHA-256
# SHA-512/224
# SHA-224
# TIGER
# SHA1
# MD5
# MD4
# MD2
# RIPEMD128
# RIPEMD160
# RIPEMD256
# RIPEMD320
# WHIRLPOOL
# BLAKE2S
# BLAKE2B
# CHC_HASH
#
# Block Chaining Modes:
# CFB
# OFB
# ECB
# CBC
# CTR
# LRW (tables)
# F8
# XTS
#
# MACs:
# HMAC
# OMAC
# PMAC
# PELICAN
# XCBC
# F9
# POLY1305
# BLAKE2S MAC
# BLAKE2B MAC
#
# ENC + AUTH modes:
# EAX
# OCB
# OCB3
# CCM
# GCM (tables)
# CHACHA20POLY1305
#
# PRNG:
# Yarrow (LTC_YARROW_AES=2)
# SPRNG
# RC4
# ChaCha20
# Fortuna (LTC_FORTUNA_POOLS=32, LTC_FORTUNA_RESEED_RATELIMIT_TIMED, )
# SOBER128
#
# PK Crypto:
# RSA (with blinding and CRT hardening)
# DH
# ECC (with blinding)
# DSA
# LTC_PK_MAX_RETRIES=20
#
# MPI (Math):
# LTC_MPI
# LTM_DESC
# LTC_MILLER_RABIN_REPS=40
#
# Compiler:
# GCC compiler 5.4.0 20160609.
# x86-64 detected.
#
# Various others: ARGTYPE=4 ADLER32 BASE64 BASE64-URL-SAFE BASE32 BASE16 CRC32 DER LTC_DER_MAX_RECURSION=30 PKCS#1 PKCS#5 PKCS#8 PKCS#12 PADDING HKDF PBES1 PBES2 SSH LTC_DEVRANDOM LTC_TRY_URANDOM_FIRST LTC_RNG_GET_BYTES LTC_RNG_MAKE_PRNG LTC_HASH_HELPERS LTC_FILE_READ_BUFSIZE=8192 LTC_FAST LTC_ROx_ASM LTC_NO_TEST LTC_ECC_SHAMIR LTC_CLOCK_GETTIME
#
# MP_PROVIDER = LibTomMath
# MP_DIGIT_BIT = 60
#
t/001_compile.t ..................... ok
t/002_all_pm.t ...................... skipped: set AUTHOR_MODE to enable this test (developer only!)
t/003_all_pm_pod.t .................. skipped: set AUTHOR_MODE to enable this test (developer only!)
t/004_all_pm_pod_spelling.t ......... skipped: set AUTHOR_MODE to enable this test (developer only!)
t/005_all_pm_pod_coverage.t ......... skipped: set AUTHOR_MODE to enable this test (developer only!)
t/auth_enc_ccm.t .................... ok
t/auth_enc_ccm_test_vector_ltc.t .... ok
t/auth_enc_chacha20poly1305.t ....... ok
t/auth_enc_eax.t .................... ok
t/auth_enc_eax_test_vector_ltc.t .... ok
t/auth_enc_gcm.t .................... ok
t/auth_enc_gcm_test_vector_ltc.t .... ok
t/auth_enc_ocb.t .................... ok
t/auth_enc_ocb_test_vectors_ietf.t .. ok
t/checksum.t ........................ ok
t/cipher_aes.t ...................... ok
t/cipher_aes_test_vectors_bc.t ...... ok
t/cipher_anubis.t ................... ok
t/cipher_blowfish.t ................. ok
t/cipher_camellia.t ................. ok
t/cipher_cast5.t .................... ok
t/cipher_des.t ...................... ok
t/cipher_des_ede.t .................. ok
t/cipher_idea.t ..................... ok
t/cipher_idea_compat.t .............. ok
t/cipher_kasumi.t ................... ok
t/cipher_khazad.t ................... ok
t/cipher_multi2.t ................... ok
t/cipher_multi2_rounds.t ............ ok
t/cipher_noekeon.t .................. ok
t/cipher_rc2.t ...................... ok
t/cipher_rc5.t ...................... ok
t/cipher_rc6.t ...................... ok
t/cipher_safer_k128.t ............... ok
t/cipher_safer_k64.t ................ ok
t/cipher_safer_sk128.t .............. ok
t/cipher_safer_sk64.t ............... ok
t/cipher_saferp.t ................... ok
t/cipher_seed.t ..................... ok
t/cipher_seed_test_vectors_bc.t ..... ok
t/cipher_serpent.t .................. ok
t/cipher_serpent_compat.t ........... ok
t/cipher_skipjack.t ................. ok
t/cipher_stream.t ................... ok
t/cipher_stream_rabbit.t ............ ok
t/cipher_stream_salsa20.t ........... ok
t/cipher_test_vectors_ltc.t ......... ok
t/cipher_test_vectors_openssl.t ..... ok
t/cipher_twofish.t .................. ok
t/cipher_twofish_test_vectors_bc.t .. ok
t/cipher_xtea.t ..................... ok
t/cipher_xtea_test_vectors_bc.t ..... ok
t/crypt-misc.t ...................... ok
t/digest_blake2b_160.t .............. ok
t/digest_blake2b_256.t .............. ok
t/digest_blake2b_384.t .............. ok
t/digest_blake2b_512.t .............. ok
t/digest_blake2s_128.t .............. ok
t/digest_blake2s_160.t .............. ok
t/digest_blake2s_224.t .............. ok
t/digest_blake2s_256.t .............. ok
t/digest_chaes.t .................... ok
t/digest_keccak224.t ................ ok
t/digest_keccak256.t ................ ok
t/digest_keccak384.t ................ ok
t/digest_keccak512.t ................ ok
t/digest_md2.t ...................... ok
t/digest_md4.t ...................... ok
t/digest_md5.t ...................... ok
t/digest_ripemd128.t ................ ok
t/digest_ripemd160.t ................ ok
t/digest_ripemd256.t ................ ok
t/digest_ripemd320.t ................ ok
t/digest_sha1.t ..................... ok
t/digest_sha224.t ................... ok
t/digest_sha256.t ................... ok
t/digest_sha384.t ................... ok
t/digest_sha3_224.t ................. ok
t/digest_sha3_256.t ................. ok
t/digest_sha3_384.t ................. ok
t/digest_sha3_512.t ................. ok
t/digest_sha512.t ................... ok
t/digest_sha512_224.t ............... ok
t/digest_sha512_256.t ............... ok
t/digest_shake.t .................... ok
t/digest_test_vectors_ltc.t ......... ok
t/digest_tiger192.t ................. ok
t/digest_whirlpool.t ................ ok
t/jwk.t ............................. ok
t/key_derivation.t .................. ok
t/mac_blake2b.t ..................... ok
t/mac_blake2s.t ..................... ok
t/mac_f9.t .......................... ok
t/mac_hmac.t ........................ ok
t/mac_hmac_nist.t ................... ok
t/mac_hmac_test_vectors_ltc.t ....... ok
t/mac_omac.t ........................ ok
t/mac_omac_test_vectors_ltc.t ....... ok
t/mac_pelican.t ..................... ok
t/mac_pmac.t ........................ ok
t/mac_pmac_test_vectors_ltc.t ....... ok
t/mac_poly1305.t .................... ok
t/mac_xcbc.t ........................ ok
# Math::BigInt VERSION=1.9997
t/mbi_ltm_01load.t .................. ok
t/mbi_ltm_bigfltpm.t ................ skipped: requires Math::BigFloat 1.999715+
t/mbi_ltm_bigintg.t ................. ok
t/mbi_ltm_bigintpm.t ................ skipped: requires Math::BigInt 1.999712+
t/mbi_ltm_biglog.t .................. ok
t/mbi_ltm_bigroot.t ................. ok
t/mbi_ltm_bugs.t .................... skipped: requires Math::BigInt 1.999712+
t/mbi_ltm_mbi-from-big-scalar.t ..... skipped: requires Math::BigInt 1.999712+
t/mbi_ltm_storable.t ................ ok
t/mode_cbc.t ........................ ok
t/mode_cfb.t ........................ ok
t/mode_ctr.t ........................ ok
t/mode_ecb.t ........................ ok
t/mode_ofb.t ........................ ok
t/pk_dh.t ........................... ok
t/pk_dsa.t .......................... ok
t/pk_dsa_test_vectors_openssl.t ..... ok
t/pk_ecc.t .......................... ok
t/pk_ecc_test_vectors_openssl.t ..... ok
t/pk_enc_pem.t ...................... ok
t/pk_rsa.t .......................... ok
t/pk_rsa_test_vectors_openssl.t ..... ok
t/pkcs8.t ........................... ok
t/prng.t ............................ ok
t/prng_chacha20.t ................... ok
t/prng_fortuna.t .................... ok
t/prng_rc4.t ........................ ok
t/prng_sober128.t ................... ok
t/prng_yarrow.t ..................... ok
t/sshkey.t .......................... ok
All tests successful.
Files=133, Tests=18374, 8 wallclock secs ( 0.87 usr 0.86 sys + 6.39 cusr 0.72 csys = 8.84 CPU)
Result: PASS
------------------------------
PREREQUISITES
------------------------------
Prerequisite modules loaded:
requires:
Module Need Have
------------------- ----- --------
perl 5.006 5.022001
build_requires:
Module Need Have
------------------- ----- --------
ExtUtils::MakeMaker 0 7.04_01
configure_requires:
Module Need Have
------------------- ----- --------
ExtUtils::MakeMaker 0 7.04_01
------------------------------
ENVIRONMENT AND OTHER CONTEXT
------------------------------
Environment variables:
LANG = en_US.UTF-8
LC_ALL = de_DE.UTF-8
PATH = /usr/local/bin:/usr/bin:/bin:/usr/local/sbin:/usr/sbin:/sbin:/home/cpansand/bin/linux-gnu:/home/cpansand/bin/sh:/home/cpansand/bin:/usr/games:/home/cpansand/devel:/home/eserte/src/srezic-misc/scripts
PERL5LIB =
PERL5OPT =
PERL5_CPANPLUS_IS_RUNNING = 28159
PERL5_CPAN_IS_RUNNING = 28159
PERL5_CPAN_IS_RUNNING_IN_RECURSION = 27948,28159
PERLDOC = -MPod::Perldoc::ToTextOverstrike
PERL_BATCH = yes
PERL_CANARY_STABILITY_NOPROMPT = 1
PERL_CPAN_REPORTER_CONFIG = /var/tmp/cpansmoker-1023/2019061017/cpanreporter_000_config.ini
PERL_EXTUTILS_AUTOINSTALL = --defaultdeps
SHELL = /usr/bin/zsh
TERM = screen
TMPDIR = /var/tmp/cpansmoker-1023/2019061017
Perl special variables (and OS-specific diagnostics, for MSWin32):
$^X = /usr/bin/perl
$UID/$EUID = 1023 / 1023
$GID = 1023 1023
$EGID = 1023 1023
Perl module toolchain versions installed:
Module Have
------------------- --------
CPAN 2.11
CPAN::Meta 2.150001
Cwd 3.56
ExtUtils::CBuilder 0.280221
ExtUtils::Command 1.20
ExtUtils::Install 2.04
ExtUtils::MakeMaker 7.04_01
ExtUtils::Manifest 1.70
ExtUtils::ParseXS 3.28
File::Spec 3.56
JSON 2.90
JSON::PP 2.27300
Module::Build 0.4216
Module::Signature 0.79
Parse::CPAN::Meta 1.4414
Test::Harness 3.35
Test::More 1.001014
YAML 1.15
YAML::Syck 1.29
version 0.9909
--
Summary of my perl5 (revision 5 version 22 subversion 1) configuration:
Platform:
osname=linux, osvers=3.16.0, archname=x86_64-linux-gnu-thread-multi
uname='linux localhost 3.16.0 #1 smp debian 3.16.0 x86_64 gnulinux '
config_args='-Dusethreads -Duselargefiles -Dcc=x86_64-linux-gnu-gcc -Dcpp=x86_64-linux-gnu-cpp -Dld=x86_64-linux-gnu-gcc -Dccflags=-DDEBIAN -Wdate-time -D_FORTIFY_SOURCE=2 -g -O2 -fstack-protector-strong -Wformat -Werror=format-security -Dldflags= -Wl,-Bsymbolic-functions -Wl,-z,relro -Dlddlflags=-shared -Wl,-Bsymbolic-functions -Wl,-z,relro -Dcccdlflags=-fPIC -Darchname=x86_64-linux-gnu -Dprefix=/usr -Dprivlib=/usr/share/perl/5.22 -Darchlib=/usr/lib/x86_64-linux-gnu/perl/5.22 -Dvendorprefix=/usr -Dvendorlib=/usr/share/perl5 -Dvendorarch=/usr/lib/x86_64-linux-gnu/perl5/5.22 -Dsiteprefix=/usr/local -Dsitelib=/usr/local/share/perl/5.22.1 -Dsitearch=/usr/local/lib/x86_64-linux-gnu/perl/5.22.1 -Dman1dir=/usr/share/man/man1 -Dman3dir=/usr/share/man/man3 -Dsiteman1dir=/usr/local/man/man1 -Dsiteman3dir=/usr/local/man/man3 -Duse64bitint -Dman1ext=1 -Dman3ext=3perl -Dpager=/usr/bin/sensible-pager -Uafs -Ud_csh -Ud_ualarm -Uusesfio -Uusenm -Ui_libutil -Uversiononly -DDEBUGGING=-g -Doptimize=-O2 -dEs -Duseshrplib -Dlibperl=libperl.so.5.22.1'
hint=recommended, useposix=true, d_sigaction=define
useithreads=define, usemultiplicity=define
use64bitint=define, use64bitall=define, uselongdouble=undef
usemymalloc=n, bincompat5005=undef
Compiler:
cc='x86_64-linux-gnu-gcc', ccflags ='-D_REENTRANT -D_GNU_SOURCE -DDEBIAN -fwrapv -fno-strict-aliasing -pipe -I/usr/local/include -D_LARGEFILE_SOURCE -D_FILE_OFFSET_BITS=64',
optimize='-O2 -g',
cppflags='-D_REENTRANT -D_GNU_SOURCE -DDEBIAN -fwrapv -fno-strict-aliasing -pipe -I/usr/local/include'
ccversion='', gccversion='5.4.0 20160609', gccosandvers=''
intsize=4, longsize=8, ptrsize=8, doublesize=8, byteorder=12345678, doublekind=3
d_longlong=define, longlongsize=8, d_longdbl=define, longdblsize=16, longdblkind=3
ivtype='long', ivsize=8, nvtype='double', nvsize=8, Off_t='off_t', lseeksize=8
alignbytes=8, prototype=define
Linker and Libraries:
ld='x86_64-linux-gnu-gcc', ldflags =' -fstack-protector-strong -L/usr/local/lib'
libpth=/usr/local/lib /usr/lib/gcc/x86_64-linux-gnu/5/include-fixed /usr/include/x86_64-linux-gnu /usr/lib /lib/x86_64-linux-gnu /lib/../lib /usr/lib/x86_64-linux-gnu /usr/lib/../lib /lib
libs=-lgdbm -lgdbm_compat -ldb -ldl -lm -lpthread -lc -lcrypt
perllibs=-ldl -lm -lpthread -lc -lcrypt
libc=libc-2.23.so, so=so, useshrplib=true, libperl=libperl.so.5.22
gnulibc_version='2.23'
Dynamic Linking:
dlsrc=dl_dlopen.xs, dlext=so, d_dlsymun=undef, ccdlflags='-Wl,-E'
cccdlflags='-fPIC', lddlflags='-shared -L/usr/local/lib -fstack-protector-strong'
Characteristics of this binary (from libperl):
Compile-time options: HAS_TIMES MULTIPLICITY PERLIO_LAYERS
PERL_DONT_CREATE_GVSV
PERL_HASH_FUNC_ONE_AT_A_TIME_HARD
PERL_IMPLICIT_CONTEXT PERL_MALLOC_WRAP
PERL_NEW_COPY_ON_WRITE PERL_PRESERVE_IVUV
USE_64_BIT_ALL USE_64_BIT_INT USE_ITHREADS
USE_LARGE_FILES USE_LOCALE USE_LOCALE_COLLATE
USE_LOCALE_CTYPE USE_LOCALE_NUMERIC USE_LOCALE_TIME
USE_PERLIO USE_PERL_ATOF USE_REENTRANT_API
Locally applied patches:
DEBPKG:debian/cpan_definstalldirs - Provide a sensible INSTALLDIRS default for modules installed from CPAN.
DEBPKG:debian/db_file_ver - http://bugs.debian.org/340047 Remove overly restrictive DB_File version check.
DEBPKG:debian/doc_info - Replace generic man(1) instructions with Debian-specific information.
DEBPKG:debian/enc2xs_inc - http://bugs.debian.org/290336 Tweak enc2xs to follow symlinks and ignore missing @INC directories.
DEBPKG:debian/errno_ver - http://bugs.debian.org/343351 Remove Errno version check due to upgrade problems with long-running processes.
DEBPKG:debian/libperl_embed_doc - http://bugs.debian.org/186778 Note that libperl-dev package is required for embedded linking
DEBPKG:fixes/respect_umask - Respect umask during installation
DEBPKG:debian/writable_site_dirs - Set umask approproately for site install directories
DEBPKG:debian/extutils_set_libperl_path - EU:MM: set location of libperl.a under /usr/lib
DEBPKG:debian/no_packlist_perllocal - Don't install .packlist or perllocal.pod for perl or vendor
DEBPKG:debian/fakeroot - Postpone LD_LIBRARY_PATH evaluation to the binary targets.
DEBPKG:debian/instmodsh_doc - Debian policy doesn't install .packlist files for core or vendor.
DEBPKG:debian/ld_run_path - Remove standard libs from LD_RUN_PATH as per Debian policy.
DEBPKG:debian/libnet_config_path - Set location of libnet.cfg to /etc/perl/Net as /usr may not be writable.
DEBPKG:debian/mod_paths - Tweak @INC ordering for Debian
DEBPKG:debian/prune_libs - http://bugs.debian.org/128355 Prune the list of libraries wanted to what we actually need.
DEBPKG:fixes/net_smtp_docs - [rt.cpan.org #36038] http://bugs.debian.org/100195 Document the Net::SMTP 'Port' option
DEBPKG:debian/perlivp - http://bugs.debian.org/510895 Make perlivp skip include directories in /usr/local
DEBPKG:debian/deprecate-with-apt - http://bugs.debian.org/747628 Point users to Debian packages of deprecated core modules
DEBPKG:debian/squelch-locale-warnings - http://bugs.debian.org/508764 Squelch locale warnings in Debian package maintainer scripts
DEBPKG:debian/skip-upstream-git-tests - Skip tests specific to the upstream Git repository
DEBPKG:debian/patchlevel - http://bugs.debian.org/567489 List packaged patches for 5.22.1-9ubuntu0.6 in patchlevel.h
DEBPKG:debian/skip-kfreebsd-crash - http://bugs.debian.org/628493 [perl #96272] Skip a crashing test case in t/op/threads.t on GNU/kFreeBSD
DEBPKG:fixes/document_makemaker_ccflags - http://bugs.debian.org/628522 [rt.cpan.org #68613] Document that CCFLAGS should include $Config{ccflags}
DEBPKG:debian/find_html2text - http://bugs.debian.org/640479 Configure CPAN::Distribution with correct name of html2text
DEBPKG:debian/perl5db-x-terminal-emulator.patch - http://bugs.debian.org/668490 Invoke x-terminal-emulator rather than xterm in perl5db.pl
DEBPKG:debian/cpan-missing-site-dirs - http://bugs.debian.org/688842 Fix CPAN::FirstTime defaults with nonexisting site dirs if a parent is writable
DEBPKG:fixes/memoize_storable_nstore - [rt.cpan.org #77790] http://bugs.debian.org/587650 Memoize::Storable: respect 'nstore' option not respected
DEBPKG:debian/regen-skip - Skip a regeneration check in unrelated git repositories
DEBPKG:debian/makemaker-pasthru - http://bugs.debian.org/758471 Pass LD settings through to subdirectories
DEBPKG:fixes/pod_man_reproducible_date - http://bugs.debian.org/759405 Support POD_MAN_DATE in Pod::Man for the left-hand footer
DEBPKG:debian/locale-robustness - http://bugs.debian.org/782068 [perl #124310] Make t/run/locale.t survive missing locales masked by LC_ALL
DEBPKG:fixes/podman-utc - http://bugs.debian.org/780259 Make the embedded date from Pod::Man reproducible
DEBPKG:fixes/podman-utc-docs - http://bugs.debian.org/780259 Documentation and test suite updates for UTC fix
DEBPKG:fixes/podman-empty-date - http://bugs.debian.org/780259 Support an empty POD_MAN_DATE environment variable
DEBPKG:fixes/podman-pipe - http://bugs.debian.org/777405 Better errors for man pages from standard input
DEBPKG:debian/pod2man-customized - Update porting/customized.dat for pod2man modifications
DEBPKG:debian/makemaker-manext - http://bugs.debian.org/247370 Make EU::MakeMaker honour MANnEXT settings in generated manpage headers
DEBPKG:debian/makemaker_customized - Update t/porting/customized.dat for files patched in Debian
DEBPKG:debian/do-not-record-build-date - [6baa8db] http://bugs.debian.org/774422 [perl #125830] Allow overriding the compile time in "perl -V" output
DEBPKG:fixes/podman-source-date-epoch - http://bugs.debian.org/801621 Make Pod::Man honor the SOURCE_DATE_EPOCH environment variable
DEBPKG:fixes/podman-source-date-epoch-cleanups - http://bugs.debian.org/801621 Coding style and documentation for SOURCE_EPOCH_DATE
DEBPKG:fixes/podman-source-date-epoch-testfix - http://bugs.debian.org/807086 Guard for building with SOURCE_DATE_EPOCH or POD_MAN_DATE set
DEBPKG:debian/devel-ppport-reproducibility - http://bugs.debian.org/801523 Sort the list of XS code files when generating RealPPPort.xs
DEBPKG:fixes/encode-unicode-bom - http://bugs.debian.org/798727 [rt.cpan.org #107043] Address https://rt.cpan.org/Public/Bug/Display.html?id=107043
DEBPKG:debian/encode-unicode-bom-doc - http://bugs.debian.org/798727 Document Debian backport of Encode::Unicode fix
DEBPKG:debian/kfreebsd-softupdates - http://bugs.debian.org/796798 Work around Debian Bug#796798
DEBPKG:fixes/autodie-scope - http://bugs.debian.org/798096 Fix a scoping issue with "no autodie" and the "system" sub
DEBPKG:debian/debugperl-compat-fix - [perl #127212] http://bugs.debian.org/810326 Disable PERL_TRACK_MEMPOOL for debugging builds
DEBPKG:fixes/CVE-2015-8607_file_spec_taint_fix - http://bugs.debian.org/810719 [perl #126862] ensure File::Spec::canonpath() preserves taint
DEBPKG:fixes/mkstemp-umask - http://bugs.debian.org/810924 [perl #127322] [e57270b] Fix umask for mkstemp(3) calls
DEBPKG:fixes/crosscompile-no-targethost - [perl #127234] Fix the Configure escape with usecrosscompile but no targethost
DEBPKG:fixes/podlators-no-encode - [rt.cpan.org #111156] Degrade gracefully if utf8 is requested but Encode is not available
DEBPKG:debian/cross-time-hires - [rt.cpan.org #111391] Add an environment variable to skip running configuration probes
DEBPKG:fixes/encode-unicode-pod - Unicode.pm: Fix POD error
DEBPKG:fixes/memoize-pod - [rt.cpan.org #89441] Fix POD errors in Memoize
DEBPKG:fixes/ok-pod - Added encoding for pod.
DEBPKG:fixes/CVE-2016-2381_duplicate_env - remove duplicate environment variables from environ
DEBPKG:fixes/CVE-2017-12837.patch - [PATCH] regcomp [perl #131582]
DEBPKG:fixes/CVE-2017-12883.patch - [PATCH] PATCH: [perl #131598]
DEBPKG:fixes/CVE-2016-6185.patch - [PATCH] =?utf8?q?Don=E2=80=99t=20let=20XSLoader=20load=20relative?= =?utf8?q?=20paths?=
DEBPKG:fixes/CVE-2017-6512-pre.patch - [PATCH] Correct the order of tests of chmod(). (#294)
DEBPKG:fixes/CVE-2017-6512.patch - http://bugs.debian.org/863870 [rt.cpan.org #121951] Prevent directory chmod race attack.
DEBPKG:fixes/CVE-2018-6797.patch - (perl #132227) restart a node if we change to uni rules within the node and encounter a sharp S
DEBPKG:fixes/CVE-2018-6798-1.patch - [perl #132063]: Heap buffer overflow
DEBPKG:fixes/CVE-2018-6798-2.patch - v5.24.3: fix TRIE_READ_CHAR and DECL_TRIE_TYPE to account for non-utf8 target
DEBPKG:fixes/CVE-2018-6798-3.patch - (perl #132063) we should no longer warn for this code
DEBPKG:fixes/CVE-2018-6913.patch - (perl #131844) fix various space calculation issues in pp_pack.c
DEBPKG:fixes/CVE-2018-12015.patch - [PATCH] [PATCH] Remove existing files before overwriting them
DEBPKG:fixes/CVE-2018-18311.patch - [PATCH] Perl_my_setenv(); handle integer wrap
DEBPKG:fixes/CVE-2018-18312.patch - [PATCH 242/242] PATCH: [perl #133423] for 5.26 maint
DEBPKG:fixes/CVE-2018-18313.patch - [PATCH] regcomp.c: Convert some strchr to memchr
DEBPKG:fixes/CVE-2018-18314.patch - [PATCH] fix #131649 - extended charclass can trigger assert
Built under linux
Compiled at Nov 19 2018 18:29:35
%ENV:
PERL5LIB=""
PERL5OPT=""
PERL5_CPANPLUS_IS_RUNNING="28159"
PERL5_CPAN_IS_RUNNING="28159"
PERL5_CPAN_IS_RUNNING_IN_RECURSION="27948,28159"
PERLDOC="-MPod::Perldoc::ToTextOverstrike"
PERL_BATCH="yes"
PERL_CANARY_STABILITY_NOPROMPT="1"
PERL_CPAN_REPORTER_CONFIG="/var/tmp/cpansmoker-1023/2019061017/cpanreporter_000_config.ini"
PERL_EXTUTILS_AUTOINSTALL="--defaultdeps"
@INC:
/etc/perl
/usr/local/lib/x86_64-linux-gnu/perl/5.22.1
/usr/local/share/perl/5.22.1
/usr/lib/x86_64-linux-gnu/perl5/5.22
/usr/share/perl5
/usr/lib/x86_64-linux-gnu/perl/5.22
/usr/share/perl/5.22
/usr/local/lib/site_perl
/usr/lib/x86_64-linux-gnu/perl-base
.