CHI v0.61 Perl 5 v5.30.3 x86_64-linux-thread-multi

Status
Pass
From
Michael Pinson
Dist
CHI v0.61
Platform
Perl 5 v5.30.3 x86_64-linux-thread-multi
Date
2021-10-29 00:09:49
ID
87fafcea-384c-11ec-8203-84c5dff4f875
This distribution has been tested as part of the CPAN Testers
project, supporting the Perl programming language.  See
http://wiki.cpantesters.org/ for more information or email
questions to cpan-testers-discuss@perl.org


--
Dear Alexander Becker,

This is a computer-generated report for CHI-0.61
on perl 5.30.3, created by CPAN-Reporter-1.2018.

Thank you for uploading your work to CPAN.  Congratulations!
All tests were successful.

Sections of this report:

    * Tester comments
    * Program output
    * Prerequisites
    * Environment and other context

------------------------------
TESTER COMMENTS
------------------------------

Additional comments from tester:

none provided

------------------------------
PROGRAM OUTPUT
------------------------------

Output from '/usr/bin/make test':

PERL_DL_NONLAZY=1 "/usr/bin/perl" "-MExtUtils::Command::MM" "-MTest::Harness" "-e" "undef *Test::Harness::Switches; test_harness(0, 'blib/lib', 'blib/arch')" t/*.t
# Testing CHI 0.61, Perl 5.030003, /usr/bin/perl
t/00-load.t ............................. ok
t/author-03-pod.t ....................... skipped: these tests are for testing by the author
t/author-file-driver.t .................. skipped: these tests are for testing by the author
t/author-no-data-serializer.t ........... skipped: these tests are for testing by the author
t/author-RequiredModules.t .............. skipped: these tests are for testing by the author
t/Bugs.t ................................ ok
t/Config.t .............................. ok
t/Constants.t ........................... ok
t/Driver-Memory.t ....................... ok
t/Driver-RawMemory.t .................... ok
t/GetError.t ............................ ok
t/Initialize.t .......................... ok
t/release-dependent.t ................... skipped: these tests are for release candidate testing
t/Sanity.t .............................. ok
t/SetError.t ............................ ok
t/smoke-Driver-CacheCache.t ............. skipped: these tests are for "smoke bot" testing
t/smoke-Driver-FastMmap.t ............... skipped: these tests are for "smoke bot" testing
t/smoke-Driver-File-DepthZero.t ......... skipped: these tests are for "smoke bot" testing
t/smoke-Driver-File.t ................... skipped: these tests are for "smoke bot" testing
t/smoke-Driver-NonMoose.t ............... skipped: these tests are for "smoke bot" testing
t/smoke-Driver-Subcache-l1_cache.t ...... skipped: these tests are for "smoke bot" testing
t/smoke-Driver-Subcache-mirror_cache.t .. skipped: these tests are for "smoke bot" testing
t/smoke-Null.t .......................... skipped: these tests are for "smoke bot" testing
t/Subcache.t ............................ ok
t/Subclass.t ............................ ok
t/Util.t ................................ ok
All tests successful.
Files=26, Tests=1787,  2 wallclock secs ( 0.08 usr  0.01 sys +  1.61 cusr  0.15 csys =  1.85 CPU)
Result: PASS

------------------------------
PREREQUISITES
------------------------------

Prerequisite modules loaded:

requires:

    Module                          Need     Have    
    ------------------------------- -------- --------
    Carp::Assert                    0.20     0.21    
    Class::Load                     0        0.25    
    Data::UUID                      0        1.226   
    Digest::JHash                   0        0.10    
    Digest::MD5                     0        2.58    
    File::Spec                      0.80     3.78    
    Hash::MoreUtils                 0        0.06    
    JSON::MaybeXS                   1.003003 1.004003
    List::MoreUtils                 0.13     0.430   
    Log::Any                        0.08     1.709   
    Moo                             1.003    2.005004
    MooX::Types::MooseLike          0.23     0.29    
    MooX::Types::MooseLike::Base    0        0.29    
    MooX::Types::MooseLike::Numeric 0        1.03    
    Storable                        0        3.15    
    String::RewritePrefix           0        0.008   
    Task::Weaken                    0        1.06    
    Time::Duration                  1.06     1.21    
    Time::Duration::Parse           0.03     0.16    
    Time::HiRes                     1.30     1.9764  
    Try::Tiny                       0.05     0.30    

build_requires:

    Module                          Need     Have    
    ------------------------------- -------- --------
    Cache::FileCache                0        0       
    Date::Parse                     0        2.33    
    ExtUtils::MakeMaker             0        7.62    
    Module::Mask                    0        0.06    
    Test::Builder                   0        1.302186
    Test::Class                     0        0.52    
    Test::Deep                      0        1.130   
    Test::Exception                 0        0.43    
    Test::More                      0        1.302186
    Test::Warn                      0        0.36    

configure_requires:

    Module                          Need     Have    
    ------------------------------- -------- --------
    ExtUtils::MakeMaker             0        7.62    


------------------------------
ENVIRONMENT AND OTHER CONTEXT
------------------------------

Environment variables:

    LANG = en_US.UTF-8
    LANGUAGE = en_US
    NONINTERACTIVE_TESTING = 1
    PATH = /usr/local/sbin:/usr/local/bin:/sbin:/bin:/usr/sbin:/usr/bin:/root/bin
    PERL5LIB = 
    PERL5OPT = 
    PERL5_CPANPLUS_IS_RUNNING = 573251
    PERL5_CPAN_IS_RUNNING = 573251
    PERL_MM_USE_DEFAULT = 1
    PERL_USE_UNSAFE_INC = 1
    SHELL = /bin/bash
    TERM = xterm-256color

Perl special variables (and OS-specific diagnostics, for MSWin32):

    $^X = /usr/bin/perl
    $UID/$EUID = 0 / 0
    $GID = 0 0
    $EGID = 0 0

Perl module toolchain versions installed:

    Module              Have    
    ------------------- --------
    CPAN                2.28    
    CPAN::Meta          2.150010
    Cwd                 3.78    
    ExtUtils::CBuilder  0.280236
    ExtUtils::Command   7.62    
    ExtUtils::Install   2.20    
    ExtUtils::MakeMaker 7.62    
    ExtUtils::Manifest  1.73    
    ExtUtils::ParseXS   3.40    
    File::Spec          3.78    
    JSON                4.03    
    JSON::PP            4.06    
    Module::Build       0.4231  
    Module::Signature   0.87    
    Parse::CPAN::Meta   2.150010
    Test::Harness       3.42    
    Test::More          1.302186
    YAML                1.30    
    YAML::Syck          1.34    
    version             0.9929  


--

Summary of my perl5 (revision 5 version 30 subversion 3) configuration:
   
  Platform:
    osname=linux
    osvers=4.9.0-sabayon
    archname=x86_64-linux-thread-multi
    uname='linux andromeda.sabayon.org 4.9.0-sabayon #1 smp sun mar 11 11:25:15 utc 2018 x86_64 intel(r) xeon(r) cpu e5-26xx (sandy bridge) genuineintel gnulinux '
    config_args='-des -Dinstallprefix=/usr -Dinstallusrbinperl=n -Ui_xlocale -Di_ndbm -Di_gdbm -Di_db -Dusethreads -DDEBUGGING=none -Dinc_version_list=5.30.1/x86_64-linux-thread-multi 5.30.1 5.28.2 5.26.2  -Dlibpth=/usr/local/lib64 /lib64 /usr/lib64 -Dnoextensions=ODBM_File -Duseshrplib -Darchname=x86_64-linux-thread -Dcc=x86_64-pc-linux-gnu-gcc -Doptimize=-O2 -march=x86-64 -pipe -Dldflags=-Wl,-O1 -Wl,--as-needed -Dprefix=/usr -Dsiteprefix=/usr/local -Dvendorprefix=/usr -Dscriptdir=/usr/bin -Dprivlib=/usr/lib64/perl5/5.30.3 -Darchlib=/usr/lib64/perl5/5.30.3/x86_64-linux-thread-multi -Dsitelib=/usr/local/lib64/perl5/5.30.3 -Dsitearch=/usr/local/lib64/perl5/5.30.3/x86_64-linux-thread-multi -Dvendorlib=/usr/lib64/perl5/vendor_perl/5.30.3 -Dvendorarch=/usr/lib64/perl5/vendor_perl/5.30.3/x86_64-linux-thread-multi -Dman1dir=/usr/share/man/man1 -Dman3dir=/usr/share/man/man3 -Dsiteman1dir=/usr/local/man/man1 -Dsiteman3dir=/usr/local/man/man3 -Dvendorman1dir=/usr/share/man/man1 -Dvendorman3dir=/usr/share/man/man3 -Dman1ext=1 -Dman3ext=3pm -Dlibperl=libperl.so.5.30.3 -Dlocincpth=/usr/include  -Dglibpth=/lib64 /usr/lib64  -Duselargefiles -Dd_semctl_semun -Dcf_by=Gentoo -Dmyhostname=localhost -Dperladmin=root@localhost -Ud_csh -Dsh=/bin/sh -Dtargetsh=/bin/sh -Uusenm -Ui_xlocale -Di_ndbm -Di_gdbm -Di_db -Dusethreads -DDEBUGGING=none -Dinc_version_list=5.30.1/x86_64-linux-thread-multi 5.30.1 5.28.2 5.26.2  -Dlibpth=/usr/local/lib64 /lib64 /usr/lib64 -Dnoextensions=ODBM_File'
    hint=recommended
    useposix=true
    d_sigaction=define
    useithreads=define
    usemultiplicity=define
    use64bitint=define
    use64bitall=define
    uselongdouble=undef
    usemymalloc=n
    default_inc_excludes_dot=define
    bincompat5005=undef
  Compiler:
    cc='x86_64-pc-linux-gnu-gcc'
    ccflags ='-D_REENTRANT -D_GNU_SOURCE -fwrapv -fno-strict-aliasing -pipe -D_LARGEFILE_SOURCE -D_FILE_OFFSET_BITS=64'
    optimize='-O2 -march=x86-64 -pipe'
    cppflags='-D_REENTRANT -D_GNU_SOURCE -fwrapv -fno-strict-aliasing -pipe'
    ccversion=''
    gccversion='8.2.0'
    gccosandvers=''
    intsize=4
    longsize=8
    ptrsize=8
    doublesize=8
    byteorder=12345678
    doublekind=3
    d_longlong=define
    longlongsize=8
    d_longdbl=define
    longdblsize=16
    longdblkind=3
    ivtype='long'
    ivsize=8
    nvtype='double'
    nvsize=8
    Off_t='off_t'
    lseeksize=8
    alignbytes=8
    prototype=define
  Linker and Libraries:
    ld='x86_64-pc-linux-gnu-gcc'
    ldflags ='-Wl,-O1 -Wl,--as-needed'
    libpth=/usr/local/lib64 /lib64 /usr/lib64 /usr/lib/gcc/x86_64-pc-linux-gnu/8.2.0/include-fixed /usr/lib /lib/../lib64 /usr/lib/../lib64 /lib
    libs=-lgdbm -ldb -ldl -lm -lcrypt -lutil -lpthread -lc -lgdbm_compat
    perllibs=-ldl -lm -lcrypt -lutil -lpthread -lc
    libc=libc-2.30.so
    so=so
    useshrplib=true
    libperl=libperl.so.5.30.3
    gnulibc_version='2.30'
  Dynamic Linking:
    dlsrc=dl_dlopen.xs
    dlext=so
    d_dlsymun=undef
    ccdlflags='-Wl,-E'
    cccdlflags='-fPIC'
    lddlflags='-shared -O2 -march=x86-64 -pipe -Wl,-O1 -Wl,--as-needed'


Characteristics of this binary (from libperl): 
  Compile-time options:
    HAS_TIMES
    MULTIPLICITY
    PERLIO_LAYERS
    PERL_COPY_ON_WRITE
    PERL_DONT_CREATE_GVSV
    PERL_IMPLICIT_CONTEXT
    PERL_MALLOC_WRAP
    PERL_OP_PARENT
    PERL_PRESERVE_IVUV
    USE_64_BIT_ALL
    USE_64_BIT_INT
    USE_ITHREADS
    USE_LARGE_FILES
    USE_LOCALE
    USE_LOCALE_COLLATE
    USE_LOCALE_CTYPE
    USE_LOCALE_NUMERIC
    USE_LOCALE_TIME
    USE_PERLIO
    USE_PERL_ATOF
    USE_REENTRANT_API
    USE_THREAD_SAFE_LOCALE
  Locally applied patches:
    gentoo/hints_hpux - Fix hpux hints
    gentoo/aix_soname - aix gcc detection and shared library soname support
    gentoo/EUMM-RUNPATH - https://bugs.gentoo.org/105054 cpan/ExtUtils-MakeMaker: drop $PORTAGE_TMPDIR from LD_RUN_PATH
    gentoo/config_over - Remove -rpath and append LDFLAGS to lddlflags
    gentoo/opensolaris_headers - Add headers for opensolaris
    gentoo/patchlevel - List packaged patches for perl-5.30.3(#1) in patchlevel.h
    gentoo/cleanup-paths - Cleanup PATH and shrpenv
    gentoo/enc2xs - Tweak enc2xs to follow symlinks and ignore missing @INC directories.
    gentoo/darwin-cc-ld - https://bugs.gentoo.org/297751 darwin: Use $CC to link
    gentoo/cpan_definstalldirs - Provide a sensible INSTALLDIRS default for modules installed from CPAN.
    gentoo/interix - Fix interix hints
    gentoo/create_libperl_soname - https://bugs.gentoo.org/286840 Set libperl soname
    gentoo/mod_paths - Add /etc/perl to @INC
    gentoo/EUMM_perllocalpod - cpan/ExtUtils-MakeMaker: remove targets that generate perllocal.pod
    gentoo/drop_fstack_protector - https://bugs.gentoo.org/348557 Don't force -fstack-protector on everyone
    gentoo/usr_local - Configure: Don't include sources in /usr/local/ for compiling perl
    gentoo/D-SHA-CFLAGS - https://bugs.gentoo.org/506818 Do not set custom CFLAGS in cpan/Digest-SHA
    gentoo/io_socket_ip_tests - cpan/IO-Socket-IP: Disable network tests
    gentoo/tests - Fix EUMM podlocal tests
    gentoo/no-nsl-cl.patch -
    gentoo/no_porting_tests - Disable porting tests which create fun false-failures all over travis
    gentoo/pathtools_enoent - Disable PathTools tests which fails under sandboxing
    debian/cpan-missing-site-dirs - Fix CPAN::FirstTime defaults with nonexisting site dirs if a parent is writable
    debian/makemaker-pasthru - Pass LD settings through to subdirectories
    fixes/memoize_storable_nstore - [rt.cpan.org #77790] Memoize::Storable: respect 'nstore' option not respected
    fixes/podman-pipe - Better errors for man pages from standard input
    fixes/respect_umask - Respect umask during installation
    fixes/net_smtp_docs - [rt.cpan.org #36038] Document the Net::SMTP 'Port' option
    fixes/document_makemaker_ccflags - [rt.cpan.org #68613] Document that CCFLAGS should include $Config{ccflags}
    fixes/parallel-manisort.patch - Fix parallel building
  Built under linux
  Compiled at Jan 10 2021 17:12:56
  %ENV:
    PERL5LIB=""
    PERL5OPT=""
    PERL5_CPANPLUS_IS_RUNNING="573251"
    PERL5_CPAN_IS_RUNNING="573251"
    PERL_MM_USE_DEFAULT="1"
    PERL_USE_UNSAFE_INC="1"
  @INC:
    /etc/perl
    /usr/local/lib64/perl5/5.30.3/x86_64-linux-thread-multi
    /usr/local/lib64/perl5/5.30.3
    /usr/lib64/perl5/vendor_perl/5.30.3/x86_64-linux-thread-multi
    /usr/lib64/perl5/vendor_perl/5.30.3
    /usr/local/lib64/perl5/5.30.1/x86_64-linux-thread-multi
    /usr/local/lib64/perl5/5.30.1
    /usr/local/lib64/perl5
    /usr/lib64/perl5/vendor_perl/5.30.1/x86_64-linux-thread-multi
    /usr/lib64/perl5/vendor_perl/5.30.1
    /usr/lib64/perl5/vendor_perl
    /usr/lib64/perl5/5.30.3/x86_64-linux-thread-multi
    /usr/lib64/perl5/5.30.3
    .