Encode v3.19 Perl 5 v5.20.2 armv6l-linux-thread-multi-64int
- Status
- Pass
- From
- Dist
-
Encode v3.19
- Platform
- Perl 5 v5.20.2 armv6l-linux-thread-multi-64int
- Date
- 2022-08-09 07:11:46
- ID
- 87dc8454-17b2-11ed-8f69-5a49c44463ef
This distribution has been tested as part of the CPAN Testers
project, supporting the Perl programming language. See
http://wiki.cpantesters.org/ for more information or email
questions to cpan-testers-discuss@perl.org
--
Dear DANKOGAI,
This is a computer-generated report for Encode-3.19
on perl 5.20.2, created by App::cpanminus::reporter 0.17 (1.7039).
Thank you for uploading your work to CPAN. Congratulations!
All tests were successful.
Sections of this report:
* Tester comments
* Program output
* Prerequisites
* Environment and other context
------------------------------
TESTER COMMENTS
------------------------------
Additional comments from tester:
none provided
------------------------------
PROGRAM OUTPUT
------------------------------
Output from '':
Building and testing Encode-3.19
cp Encode/Changes.e2x blib/lib/Encode/Changes.e2x
cp Encode.pm blib/lib/Encode.pm
cp lib/Encode/Guess.pm blib/lib/Encode/Guess.pm
cp lib/Encode/MIME/Name.pm blib/lib/Encode/MIME/Name.pm
cp Encode/_PM.e2x blib/lib/Encode/_PM.e2x
cp lib/Encode/Encoder.pm blib/lib/Encode/Encoder.pm
cp Encode/README.e2x blib/lib/Encode/README.e2x
cp lib/Encode/MIME/Header/ISO_2022_JP.pm blib/lib/Encode/MIME/Header/ISO_2022_JP.pm
cp encoding.pm blib/lib/encoding.pm
cp Encode/encode.h blib/lib/Encode/encode.h
cp lib/Encode/Unicode/UTF7.pm blib/lib/Encode/Unicode/UTF7.pm
cp lib/Encode/JP/JIS7.pm blib/lib/Encode/JP/JIS7.pm
cp lib/Encode/MIME/Header.pm blib/lib/Encode/MIME/Header.pm
cp lib/Encode/PerlIO.pod blib/lib/Encode/PerlIO.pod
cp lib/Encode/JP/H2Z.pm blib/lib/Encode/JP/H2Z.pm
cp Encode/ConfigLocal_PM.e2x blib/lib/Encode/ConfigLocal_PM.e2x
cp Encode/_T.e2x blib/lib/Encode/_T.e2x
cp Encode/Makefile_PL.e2x blib/lib/Encode/Makefile_PL.e2x
cp lib/Encode/CJKConstants.pm blib/lib/Encode/CJKConstants.pm
cp lib/Encode/Encoding.pm blib/lib/Encode/Encoding.pm
cp lib/Encode/Alias.pm blib/lib/Encode/Alias.pm
cp lib/Encode/GSM0338.pm blib/lib/Encode/GSM0338.pm
cp lib/Encode/CN/HZ.pm blib/lib/Encode/CN/HZ.pm
cp lib/Encode/Supported.pod blib/lib/Encode/Supported.pod
cp lib/Encode/Config.pm blib/lib/Encode/Config.pm
cp lib/Encode/KR/2022_KR.pm blib/lib/Encode/KR/2022_KR.pm
make[1]: Entering directory '/home/arpi/.cpanm/work/1660028756.25712/Encode-3.19/Byte'
cp Byte.pm ../blib/lib/Encode/Byte.pm
Running Mkbootstrap for Byte ()
chmod 644 "Byte.bs"
"/home/arpi/opt/perl5/perls/perl-5.20.2/bin/perl" -MExtUtils::Command::MM -e 'cp_nonempty' -- Byte.bs ../blib/arch/auto/Encode/Byte/Byte.bs 644
"/home/arpi/opt/perl5/perls/perl-5.20.2/bin/perl" ../bin/enc2xs -"Q" -"O" -o byte_t.c -f byte_t.fnm
Reading iso-8859-2 (iso-8859-2)
Reading iso-8859-3 (iso-8859-3)
Reading iso-8859-4 (iso-8859-4)
Reading iso-8859-5 (iso-8859-5)
Reading iso-8859-6 (iso-8859-6)
Reading iso-8859-7 (iso-8859-7)
Reading iso-8859-8 (iso-8859-8)
Reading iso-8859-9 (iso-8859-9)
Reading iso-8859-10 (iso-8859-10)
Reading iso-8859-11 (iso-8859-11)
Reading iso-8859-13 (iso-8859-13)
Reading iso-8859-14 (iso-8859-14)
Reading iso-8859-15 (iso-8859-15)
Reading iso-8859-16 (iso-8859-16)
Reading AdobeStandardEncoding (AdobeStandardEncoding)
Reading cp1006 (cp1006)
Reading cp1250 (cp1250)
Reading cp1251 (cp1251)
Reading cp1253 (cp1253)
Reading cp1254 (cp1254)
Reading cp1255 (cp1255)
Reading cp1256 (cp1256)
Reading cp1257 (cp1257)
Reading cp1258 (cp1258)
Reading cp424 (cp424)
Reading cp437 (cp437)
Reading cp737 (cp737)
Reading cp775 (cp775)
Reading cp850 (cp850)
Reading cp852 (cp852)
Reading cp855 (cp855)
Reading cp856 (cp856)
Reading cp857 (cp857)
Reading cp858 (cp858)
Reading cp860 (cp860)
Reading cp861 (cp861)
Reading cp862 (cp862)
Reading cp863 (cp863)
Reading cp864 (cp864)
Reading cp865 (cp865)
Reading cp866 (cp866)
Reading cp869 (cp869)
Reading cp874 (cp874)
Reading hp-roman8 (hp-roman8)
Reading koi8-f (koi8-f)
Reading koi8-r (koi8-r)
Reading koi8-u (koi8-u)
Reading MacArabic (MacArabic)
Reading MacCentralEurRoman (MacCentralEurRoman)
Reading MacCroatian (MacCroatian)
Reading MacCyrillic (MacCyrillic)
Reading MacFarsi (MacFarsi)
Reading MacGreek (MacGreek)
Reading MacHebrew (MacHebrew)
Reading MacIcelandic (MacIcelandic)
Reading MacRomanian (MacRomanian)
Reading MacRumanian (MacRumanian)
Reading MacRoman (MacRoman)
Reading MacSami (MacSami)
Reading MacThai (MacThai)
Reading MacTurkish (MacTurkish)
Reading MacUkrainian (MacUkrainian)
Reading nextstep (nextstep)
Reading viscii (viscii)
"/home/arpi/opt/perl5/perls/perl-5.20.2/bin/perl" "/home/arpi/opt/perl5/perls/perl-5.20.2/lib/site_perl/5.20.2/ExtUtils/xsubpp" -nolinenumbers -typemap '/home/arpi/opt/perl5/perls/perl-5.20.2/lib/5.20.2/ExtUtils/typemap' Byte.xs > Byte.xsc
mv Byte.xsc Byte.c
cc -c -I./Encode -I../Encode -D_REENTRANT -D_GNU_SOURCE -fwrapv -fno-strict-aliasing -pipe -fstack-protector -I/usr/local/include -D_LARGEFILE_SOURCE -D_FILE_OFFSET_BITS=64 -Werror=declaration-after-statement -Wpointer-sign -O2 -DVERSION=\"2.04\" -DXS_VERSION=\"2.04\" -fPIC "-I/home/arpi/opt/perl5/perls/perl-5.20.2/lib/5.20.2/armv6l-linux-thread-multi-64int/CORE" Byte.c
cc -c -I./Encode -I../Encode -D_REENTRANT -D_GNU_SOURCE -fwrapv -fno-strict-aliasing -pipe -fstack-protector -I/usr/local/include -D_LARGEFILE_SOURCE -D_FILE_OFFSET_BITS=64 -Werror=declaration-after-statement -Wpointer-sign -O2 -DVERSION=\"2.04\" -DXS_VERSION=\"2.04\" -fPIC "-I/home/arpi/opt/perl5/perls/perl-5.20.2/lib/5.20.2/armv6l-linux-thread-multi-64int/CORE" byte_t.c
rm -f ../blib/arch/auto/Encode/Byte/Byte.so
cc -shared -O2 -L/usr/local/lib -fstack-protector Byte.o byte_t.o -o ../blib/arch/auto/Encode/Byte/Byte.so \
\
chmod 755 ../blib/arch/auto/Encode/Byte/Byte.so
make[1]: Leaving directory '/home/arpi/.cpanm/work/1660028756.25712/Encode-3.19/Byte'
make[1]: Entering directory '/home/arpi/.cpanm/work/1660028756.25712/Encode-3.19/CN'
cp CN.pm ../blib/lib/Encode/CN.pm
Running Mkbootstrap for CN ()
chmod 644 "CN.bs"
"/home/arpi/opt/perl5/perls/perl-5.20.2/bin/perl" -MExtUtils::Command::MM -e 'cp_nonempty' -- CN.bs ../blib/arch/auto/Encode/CN/CN.bs 644
"/home/arpi/opt/perl5/perls/perl-5.20.2/bin/perl" ../bin/enc2xs -"Q" -o cp_00_t.c -f cp_00_t.fnm
Reading cp936 (cp936)
"/home/arpi/opt/perl5/perls/perl-5.20.2/bin/perl" ../bin/enc2xs -"Q" -o eu_01_t.c -f eu_01_t.fnm
Reading euc-cn (euc-cn)
"/home/arpi/opt/perl5/perls/perl-5.20.2/bin/perl" ../bin/enc2xs -"Q" -o gb_02_t.c -f gb_02_t.fnm
Reading gb12345-raw (gb12345-raw)
"/home/arpi/opt/perl5/perls/perl-5.20.2/bin/perl" ../bin/enc2xs -"Q" -o gb_03_t.c -f gb_03_t.fnm
Reading gb2312-raw (gb2312-raw)
"/home/arpi/opt/perl5/perls/perl-5.20.2/bin/perl" ../bin/enc2xs -"Q" -o ir_04_t.c -f ir_04_t.fnm
Reading iso-ir-165 (iso-ir-165)
"/home/arpi/opt/perl5/perls/perl-5.20.2/bin/perl" ../bin/enc2xs -"Q" -o ma_05_t.c -f ma_05_t.fnm
Reading MacChineseSimp (MacChineseSimp)
"/home/arpi/opt/perl5/perls/perl-5.20.2/bin/perl" "/home/arpi/opt/perl5/perls/perl-5.20.2/lib/site_perl/5.20.2/ExtUtils/xsubpp" -noprototypes -nolinenumbers -typemap '/home/arpi/opt/perl5/perls/perl-5.20.2/lib/5.20.2/ExtUtils/typemap' CN.xs > CN.xsc
mv CN.xsc CN.c
cc -c -I./Encode -I../Encode -D_REENTRANT -D_GNU_SOURCE -fwrapv -fno-strict-aliasing -pipe -fstack-protector -I/usr/local/include -D_LARGEFILE_SOURCE -D_FILE_OFFSET_BITS=64 -Werror=declaration-after-statement -Wpointer-sign -O2 -DVERSION=\"2.03\" -DXS_VERSION=\"2.03\" -fPIC "-I/home/arpi/opt/perl5/perls/perl-5.20.2/lib/5.20.2/armv6l-linux-thread-multi-64int/CORE" CN.c
cc -c -I./Encode -I../Encode -D_REENTRANT -D_GNU_SOURCE -fwrapv -fno-strict-aliasing -pipe -fstack-protector -I/usr/local/include -D_LARGEFILE_SOURCE -D_FILE_OFFSET_BITS=64 -Werror=declaration-after-statement -Wpointer-sign -O2 -DVERSION=\"2.03\" -DXS_VERSION=\"2.03\" -fPIC "-I/home/arpi/opt/perl5/perls/perl-5.20.2/lib/5.20.2/armv6l-linux-thread-multi-64int/CORE" cp_00_t.c
cc -c -I./Encode -I../Encode -D_REENTRANT -D_GNU_SOURCE -fwrapv -fno-strict-aliasing -pipe -fstack-protector -I/usr/local/include -D_LARGEFILE_SOURCE -D_FILE_OFFSET_BITS=64 -Werror=declaration-after-statement -Wpointer-sign -O2 -DVERSION=\"2.03\" -DXS_VERSION=\"2.03\" -fPIC "-I/home/arpi/opt/perl5/perls/perl-5.20.2/lib/5.20.2/armv6l-linux-thread-multi-64int/CORE" eu_01_t.c
cc -c -I./Encode -I../Encode -D_REENTRANT -D_GNU_SOURCE -fwrapv -fno-strict-aliasing -pipe -fstack-protector -I/usr/local/include -D_LARGEFILE_SOURCE -D_FILE_OFFSET_BITS=64 -Werror=declaration-after-statement -Wpointer-sign -O2 -DVERSION=\"2.03\" -DXS_VERSION=\"2.03\" -fPIC "-I/home/arpi/opt/perl5/perls/perl-5.20.2/lib/5.20.2/armv6l-linux-thread-multi-64int/CORE" gb_02_t.c
cc -c -I./Encode -I../Encode -D_REENTRANT -D_GNU_SOURCE -fwrapv -fno-strict-aliasing -pipe -fstack-protector -I/usr/local/include -D_LARGEFILE_SOURCE -D_FILE_OFFSET_BITS=64 -Werror=declaration-after-statement -Wpointer-sign -O2 -DVERSION=\"2.03\" -DXS_VERSION=\"2.03\" -fPIC "-I/home/arpi/opt/perl5/perls/perl-5.20.2/lib/5.20.2/armv6l-linux-thread-multi-64int/CORE" gb_03_t.c
cc -c -I./Encode -I../Encode -D_REENTRANT -D_GNU_SOURCE -fwrapv -fno-strict-aliasing -pipe -fstack-protector -I/usr/local/include -D_LARGEFILE_SOURCE -D_FILE_OFFSET_BITS=64 -Werror=declaration-after-statement -Wpointer-sign -O2 -DVERSION=\"2.03\" -DXS_VERSION=\"2.03\" -fPIC "-I/home/arpi/opt/perl5/perls/perl-5.20.2/lib/5.20.2/armv6l-linux-thread-multi-64int/CORE" ir_04_t.c
cc -c -I./Encode -I../Encode -D_REENTRANT -D_GNU_SOURCE -fwrapv -fno-strict-aliasing -pipe -fstack-protector -I/usr/local/include -D_LARGEFILE_SOURCE -D_FILE_OFFSET_BITS=64 -Werror=declaration-after-statement -Wpointer-sign -O2 -DVERSION=\"2.03\" -DXS_VERSION=\"2.03\" -fPIC "-I/home/arpi/opt/perl5/perls/perl-5.20.2/lib/5.20.2/armv6l-linux-thread-multi-64int/CORE" ma_05_t.c
rm -f ../blib/arch/auto/Encode/CN/CN.so
cc -shared -O2 -L/usr/local/lib -fstack-protector CN.o cp_00_t.o eu_01_t.o gb_02_t.o gb_03_t.o ir_04_t.o ma_05_t.o -o ../blib/arch/auto/Encode/CN/CN.so \
\
chmod 755 ../blib/arch/auto/Encode/CN/CN.so
make[1]: Leaving directory '/home/arpi/.cpanm/work/1660028756.25712/Encode-3.19/CN'
make[1]: Entering directory '/home/arpi/.cpanm/work/1660028756.25712/Encode-3.19/EBCDIC'
cp EBCDIC.pm ../blib/lib/Encode/EBCDIC.pm
Running Mkbootstrap for EBCDIC ()
chmod 644 "EBCDIC.bs"
"/home/arpi/opt/perl5/perls/perl-5.20.2/bin/perl" -MExtUtils::Command::MM -e 'cp_nonempty' -- EBCDIC.bs ../blib/arch/auto/Encode/EBCDIC/EBCDIC.bs 644
"/home/arpi/opt/perl5/perls/perl-5.20.2/bin/perl" ../bin/enc2xs -"Q" -"O" -o ebcdic_t.c -f ebcdic_t.fnm
Reading cp37 (cp37)
Reading cp1026 (cp1026)
Reading cp1047 (cp1047)
Reading cp500 (cp500)
Reading cp875 (cp875)
Reading posix-bc (posix-bc)
"/home/arpi/opt/perl5/perls/perl-5.20.2/bin/perl" "/home/arpi/opt/perl5/perls/perl-5.20.2/lib/site_perl/5.20.2/ExtUtils/xsubpp" -nolinenumbers -typemap '/home/arpi/opt/perl5/perls/perl-5.20.2/lib/5.20.2/ExtUtils/typemap' EBCDIC.xs > EBCDIC.xsc
mv EBCDIC.xsc EBCDIC.c
cc -c -I./Encode -I../Encode -D_REENTRANT -D_GNU_SOURCE -fwrapv -fno-strict-aliasing -pipe -fstack-protector -I/usr/local/include -D_LARGEFILE_SOURCE -D_FILE_OFFSET_BITS=64 -Werror=declaration-after-statement -Wpointer-sign -O2 -DVERSION=\"2.02\" -DXS_VERSION=\"2.02\" -fPIC "-I/home/arpi/opt/perl5/perls/perl-5.20.2/lib/5.20.2/armv6l-linux-thread-multi-64int/CORE" EBCDIC.c
cc -c -I./Encode -I../Encode -D_REENTRANT -D_GNU_SOURCE -fwrapv -fno-strict-aliasing -pipe -fstack-protector -I/usr/local/include -D_LARGEFILE_SOURCE -D_FILE_OFFSET_BITS=64 -Werror=declaration-after-statement -Wpointer-sign -O2 -DVERSION=\"2.02\" -DXS_VERSION=\"2.02\" -fPIC "-I/home/arpi/opt/perl5/perls/perl-5.20.2/lib/5.20.2/armv6l-linux-thread-multi-64int/CORE" ebcdic_t.c
rm -f ../blib/arch/auto/Encode/EBCDIC/EBCDIC.so
cc -shared -O2 -L/usr/local/lib -fstack-protector EBCDIC.o ebcdic_t.o -o ../blib/arch/auto/Encode/EBCDIC/EBCDIC.so \
\
chmod 755 ../blib/arch/auto/Encode/EBCDIC/EBCDIC.so
make[1]: Leaving directory '/home/arpi/.cpanm/work/1660028756.25712/Encode-3.19/EBCDIC'
make[1]: Entering directory '/home/arpi/.cpanm/work/1660028756.25712/Encode-3.19/JP'
cp JP.pm ../blib/lib/Encode/JP.pm
Running Mkbootstrap for JP ()
chmod 644 "JP.bs"
"/home/arpi/opt/perl5/perls/perl-5.20.2/bin/perl" -MExtUtils::Command::MM -e 'cp_nonempty' -- JP.bs ../blib/arch/auto/Encode/JP/JP.bs 644
"/home/arpi/opt/perl5/perls/perl-5.20.2/bin/perl" ../bin/enc2xs -"Q" -o cp_00_t.c -f cp_00_t.fnm
Reading cp932 (cp932)
"/home/arpi/opt/perl5/perls/perl-5.20.2/bin/perl" ../bin/enc2xs -"Q" -o eu_01_t.c -f eu_01_t.fnm
Reading euc-jp (euc-jp)
"/home/arpi/opt/perl5/perls/perl-5.20.2/bin/perl" ../bin/enc2xs -"Q" -o ji_02_t.c -f ji_02_t.fnm
Reading jis0201-raw (jis0201-raw)
"/home/arpi/opt/perl5/perls/perl-5.20.2/bin/perl" ../bin/enc2xs -"Q" -o ji_03_t.c -f ji_03_t.fnm
Reading jis0208-raw (jis0208-raw)
"/home/arpi/opt/perl5/perls/perl-5.20.2/bin/perl" ../bin/enc2xs -"Q" -o ji_04_t.c -f ji_04_t.fnm
Reading jis0212-raw (jis0212-raw)
"/home/arpi/opt/perl5/perls/perl-5.20.2/bin/perl" ../bin/enc2xs -"Q" -o ma_05_t.c -f ma_05_t.fnm
Reading MacJapanese (MacJapanese)
"/home/arpi/opt/perl5/perls/perl-5.20.2/bin/perl" ../bin/enc2xs -"Q" -o sh_06_t.c -f sh_06_t.fnm
Reading shiftjis (shiftjis)
"/home/arpi/opt/perl5/perls/perl-5.20.2/bin/perl" "/home/arpi/opt/perl5/perls/perl-5.20.2/lib/site_perl/5.20.2/ExtUtils/xsubpp" -nolinenumbers -typemap '/home/arpi/opt/perl5/perls/perl-5.20.2/lib/5.20.2/ExtUtils/typemap' JP.xs > JP.xsc
mv JP.xsc JP.c
cc -c -I./Encode -I../Encode -D_REENTRANT -D_GNU_SOURCE -fwrapv -fno-strict-aliasing -pipe -fstack-protector -I/usr/local/include -D_LARGEFILE_SOURCE -D_FILE_OFFSET_BITS=64 -Werror=declaration-after-statement -Wpointer-sign -O2 -DVERSION=\"2.05\" -DXS_VERSION=\"2.05\" -fPIC "-I/home/arpi/opt/perl5/perls/perl-5.20.2/lib/5.20.2/armv6l-linux-thread-multi-64int/CORE" JP.c
cc -c -I./Encode -I../Encode -D_REENTRANT -D_GNU_SOURCE -fwrapv -fno-strict-aliasing -pipe -fstack-protector -I/usr/local/include -D_LARGEFILE_SOURCE -D_FILE_OFFSET_BITS=64 -Werror=declaration-after-statement -Wpointer-sign -O2 -DVERSION=\"2.05\" -DXS_VERSION=\"2.05\" -fPIC "-I/home/arpi/opt/perl5/perls/perl-5.20.2/lib/5.20.2/armv6l-linux-thread-multi-64int/CORE" cp_00_t.c
cc -c -I./Encode -I../Encode -D_REENTRANT -D_GNU_SOURCE -fwrapv -fno-strict-aliasing -pipe -fstack-protector -I/usr/local/include -D_LARGEFILE_SOURCE -D_FILE_OFFSET_BITS=64 -Werror=declaration-after-statement -Wpointer-sign -O2 -DVERSION=\"2.05\" -DXS_VERSION=\"2.05\" -fPIC "-I/home/arpi/opt/perl5/perls/perl-5.20.2/lib/5.20.2/armv6l-linux-thread-multi-64int/CORE" eu_01_t.c
cc -c -I./Encode -I../Encode -D_REENTRANT -D_GNU_SOURCE -fwrapv -fno-strict-aliasing -pipe -fstack-protector -I/usr/local/include -D_LARGEFILE_SOURCE -D_FILE_OFFSET_BITS=64 -Werror=declaration-after-statement -Wpointer-sign -O2 -DVERSION=\"2.05\" -DXS_VERSION=\"2.05\" -fPIC "-I/home/arpi/opt/perl5/perls/perl-5.20.2/lib/5.20.2/armv6l-linux-thread-multi-64int/CORE" ji_02_t.c
cc -c -I./Encode -I../Encode -D_REENTRANT -D_GNU_SOURCE -fwrapv -fno-strict-aliasing -pipe -fstack-protector -I/usr/local/include -D_LARGEFILE_SOURCE -D_FILE_OFFSET_BITS=64 -Werror=declaration-after-statement -Wpointer-sign -O2 -DVERSION=\"2.05\" -DXS_VERSION=\"2.05\" -fPIC "-I/home/arpi/opt/perl5/perls/perl-5.20.2/lib/5.20.2/armv6l-linux-thread-multi-64int/CORE" ji_03_t.c
cc -c -I./Encode -I../Encode -D_REENTRANT -D_GNU_SOURCE -fwrapv -fno-strict-aliasing -pipe -fstack-protector -I/usr/local/include -D_LARGEFILE_SOURCE -D_FILE_OFFSET_BITS=64 -Werror=declaration-after-statement -Wpointer-sign -O2 -DVERSION=\"2.05\" -DXS_VERSION=\"2.05\" -fPIC "-I/home/arpi/opt/perl5/perls/perl-5.20.2/lib/5.20.2/armv6l-linux-thread-multi-64int/CORE" ji_04_t.c
cc -c -I./Encode -I../Encode -D_REENTRANT -D_GNU_SOURCE -fwrapv -fno-strict-aliasing -pipe -fstack-protector -I/usr/local/include -D_LARGEFILE_SOURCE -D_FILE_OFFSET_BITS=64 -Werror=declaration-after-statement -Wpointer-sign -O2 -DVERSION=\"2.05\" -DXS_VERSION=\"2.05\" -fPIC "-I/home/arpi/opt/perl5/perls/perl-5.20.2/lib/5.20.2/armv6l-linux-thread-multi-64int/CORE" ma_05_t.c
cc -c -I./Encode -I../Encode -D_REENTRANT -D_GNU_SOURCE -fwrapv -fno-strict-aliasing -pipe -fstack-protector -I/usr/local/include -D_LARGEFILE_SOURCE -D_FILE_OFFSET_BITS=64 -Werror=declaration-after-statement -Wpointer-sign -O2 -DVERSION=\"2.05\" -DXS_VERSION=\"2.05\" -fPIC "-I/home/arpi/opt/perl5/perls/perl-5.20.2/lib/5.20.2/armv6l-linux-thread-multi-64int/CORE" sh_06_t.c
rm -f ../blib/arch/auto/Encode/JP/JP.so
cc -shared -O2 -L/usr/local/lib -fstack-protector JP.o cp_00_t.o eu_01_t.o ji_02_t.o ji_03_t.o ji_04_t.o ma_05_t.o sh_06_t.o -o ../blib/arch/auto/Encode/JP/JP.so \
\
chmod 755 ../blib/arch/auto/Encode/JP/JP.so
make[1]: Leaving directory '/home/arpi/.cpanm/work/1660028756.25712/Encode-3.19/JP'
make[1]: Entering directory '/home/arpi/.cpanm/work/1660028756.25712/Encode-3.19/KR'
cp KR.pm ../blib/lib/Encode/KR.pm
Running Mkbootstrap for KR ()
chmod 644 "KR.bs"
"/home/arpi/opt/perl5/perls/perl-5.20.2/bin/perl" -MExtUtils::Command::MM -e 'cp_nonempty' -- KR.bs ../blib/arch/auto/Encode/KR/KR.bs 644
"/home/arpi/opt/perl5/perls/perl-5.20.2/bin/perl" ../bin/enc2xs -"Q" -o cp_00_t.c -f cp_00_t.fnm
Reading cp949 (cp949)
"/home/arpi/opt/perl5/perls/perl-5.20.2/bin/perl" ../bin/enc2xs -"Q" -o eu_01_t.c -f eu_01_t.fnm
Reading euc-kr (euc-kr)
"/home/arpi/opt/perl5/perls/perl-5.20.2/bin/perl" ../bin/enc2xs -"Q" -o jo_02_t.c -f jo_02_t.fnm
Reading johab (johab)
"/home/arpi/opt/perl5/perls/perl-5.20.2/bin/perl" ../bin/enc2xs -"Q" -o ks_03_t.c -f ks_03_t.fnm
Reading ksc5601-raw (ksc5601-raw)
"/home/arpi/opt/perl5/perls/perl-5.20.2/bin/perl" ../bin/enc2xs -"Q" -o ma_04_t.c -f ma_04_t.fnm
Reading MacKorean (MacKorean)
"/home/arpi/opt/perl5/perls/perl-5.20.2/bin/perl" "/home/arpi/opt/perl5/perls/perl-5.20.2/lib/site_perl/5.20.2/ExtUtils/xsubpp" -nolinenumbers -typemap '/home/arpi/opt/perl5/perls/perl-5.20.2/lib/5.20.2/ExtUtils/typemap' KR.xs > KR.xsc
mv KR.xsc KR.c
cc -c -I./Encode -I../Encode -D_REENTRANT -D_GNU_SOURCE -fwrapv -fno-strict-aliasing -pipe -fstack-protector -I/usr/local/include -D_LARGEFILE_SOURCE -D_FILE_OFFSET_BITS=64 -Werror=declaration-after-statement -Wpointer-sign -O2 -DVERSION=\"2.03\" -DXS_VERSION=\"2.03\" -fPIC "-I/home/arpi/opt/perl5/perls/perl-5.20.2/lib/5.20.2/armv6l-linux-thread-multi-64int/CORE" KR.c
cc -c -I./Encode -I../Encode -D_REENTRANT -D_GNU_SOURCE -fwrapv -fno-strict-aliasing -pipe -fstack-protector -I/usr/local/include -D_LARGEFILE_SOURCE -D_FILE_OFFSET_BITS=64 -Werror=declaration-after-statement -Wpointer-sign -O2 -DVERSION=\"2.03\" -DXS_VERSION=\"2.03\" -fPIC "-I/home/arpi/opt/perl5/perls/perl-5.20.2/lib/5.20.2/armv6l-linux-thread-multi-64int/CORE" cp_00_t.c
cc -c -I./Encode -I../Encode -D_REENTRANT -D_GNU_SOURCE -fwrapv -fno-strict-aliasing -pipe -fstack-protector -I/usr/local/include -D_LARGEFILE_SOURCE -D_FILE_OFFSET_BITS=64 -Werror=declaration-after-statement -Wpointer-sign -O2 -DVERSION=\"2.03\" -DXS_VERSION=\"2.03\" -fPIC "-I/home/arpi/opt/perl5/perls/perl-5.20.2/lib/5.20.2/armv6l-linux-thread-multi-64int/CORE" eu_01_t.c
cc -c -I./Encode -I../Encode -D_REENTRANT -D_GNU_SOURCE -fwrapv -fno-strict-aliasing -pipe -fstack-protector -I/usr/local/include -D_LARGEFILE_SOURCE -D_FILE_OFFSET_BITS=64 -Werror=declaration-after-statement -Wpointer-sign -O2 -DVERSION=\"2.03\" -DXS_VERSION=\"2.03\" -fPIC "-I/home/arpi/opt/perl5/perls/perl-5.20.2/lib/5.20.2/armv6l-linux-thread-multi-64int/CORE" jo_02_t.c
cc -c -I./Encode -I../Encode -D_REENTRANT -D_GNU_SOURCE -fwrapv -fno-strict-aliasing -pipe -fstack-protector -I/usr/local/include -D_LARGEFILE_SOURCE -D_FILE_OFFSET_BITS=64 -Werror=declaration-after-statement -Wpointer-sign -O2 -DVERSION=\"2.03\" -DXS_VERSION=\"2.03\" -fPIC "-I/home/arpi/opt/perl5/perls/perl-5.20.2/lib/5.20.2/armv6l-linux-thread-multi-64int/CORE" ks_03_t.c
cc -c -I./Encode -I../Encode -D_REENTRANT -D_GNU_SOURCE -fwrapv -fno-strict-aliasing -pipe -fstack-protector -I/usr/local/include -D_LARGEFILE_SOURCE -D_FILE_OFFSET_BITS=64 -Werror=declaration-after-statement -Wpointer-sign -O2 -DVERSION=\"2.03\" -DXS_VERSION=\"2.03\" -fPIC "-I/home/arpi/opt/perl5/perls/perl-5.20.2/lib/5.20.2/armv6l-linux-thread-multi-64int/CORE" ma_04_t.c
rm -f ../blib/arch/auto/Encode/KR/KR.so
cc -shared -O2 -L/usr/local/lib -fstack-protector KR.o cp_00_t.o eu_01_t.o jo_02_t.o ks_03_t.o ma_04_t.o -o ../blib/arch/auto/Encode/KR/KR.so \
\
chmod 755 ../blib/arch/auto/Encode/KR/KR.so
make[1]: Leaving directory '/home/arpi/.cpanm/work/1660028756.25712/Encode-3.19/KR'
make[1]: Entering directory '/home/arpi/.cpanm/work/1660028756.25712/Encode-3.19/Symbol'
cp Symbol.pm ../blib/lib/Encode/Symbol.pm
Running Mkbootstrap for Symbol ()
chmod 644 "Symbol.bs"
"/home/arpi/opt/perl5/perls/perl-5.20.2/bin/perl" -MExtUtils::Command::MM -e 'cp_nonempty' -- Symbol.bs ../blib/arch/auto/Encode/Symbol/Symbol.bs 644
"/home/arpi/opt/perl5/perls/perl-5.20.2/bin/perl" ../bin/enc2xs -"Q" -"O" -o symbol_t.c -f symbol_t.fnm
Reading AdobeSymbol (AdobeSymbol)
Reading AdobeZdingbat (AdobeZdingbat)
Reading dingbats (dingbats)
Reading MacDingbats (MacDingbats)
Reading MacSymbol (MacSymbol)
Reading symbol (symbol)
"/home/arpi/opt/perl5/perls/perl-5.20.2/bin/perl" "/home/arpi/opt/perl5/perls/perl-5.20.2/lib/site_perl/5.20.2/ExtUtils/xsubpp" -nolinenumbers -typemap '/home/arpi/opt/perl5/perls/perl-5.20.2/lib/5.20.2/ExtUtils/typemap' Symbol.xs > Symbol.xsc
mv Symbol.xsc Symbol.c
cc -c -I./Encode -I../Encode -D_REENTRANT -D_GNU_SOURCE -fwrapv -fno-strict-aliasing -pipe -fstack-protector -I/usr/local/include -D_LARGEFILE_SOURCE -D_FILE_OFFSET_BITS=64 -Werror=declaration-after-statement -Wpointer-sign -O2 -DVERSION=\"2.02\" -DXS_VERSION=\"2.02\" -fPIC "-I/home/arpi/opt/perl5/perls/perl-5.20.2/lib/5.20.2/armv6l-linux-thread-multi-64int/CORE" Symbol.c
cc -c -I./Encode -I../Encode -D_REENTRANT -D_GNU_SOURCE -fwrapv -fno-strict-aliasing -pipe -fstack-protector -I/usr/local/include -D_LARGEFILE_SOURCE -D_FILE_OFFSET_BITS=64 -Werror=declaration-after-statement -Wpointer-sign -O2 -DVERSION=\"2.02\" -DXS_VERSION=\"2.02\" -fPIC "-I/home/arpi/opt/perl5/perls/perl-5.20.2/lib/5.20.2/armv6l-linux-thread-multi-64int/CORE" symbol_t.c
rm -f ../blib/arch/auto/Encode/Symbol/Symbol.so
cc -shared -O2 -L/usr/local/lib -fstack-protector Symbol.o symbol_t.o -o ../blib/arch/auto/Encode/Symbol/Symbol.so \
\
chmod 755 ../blib/arch/auto/Encode/Symbol/Symbol.so
make[1]: Leaving directory '/home/arpi/.cpanm/work/1660028756.25712/Encode-3.19/Symbol'
make[1]: Entering directory '/home/arpi/.cpanm/work/1660028756.25712/Encode-3.19/TW'
cp TW.pm ../blib/lib/Encode/TW.pm
Running Mkbootstrap for TW ()
chmod 644 "TW.bs"
"/home/arpi/opt/perl5/perls/perl-5.20.2/bin/perl" -MExtUtils::Command::MM -e 'cp_nonempty' -- TW.bs ../blib/arch/auto/Encode/TW/TW.bs 644
"/home/arpi/opt/perl5/perls/perl-5.20.2/bin/perl" ../bin/enc2xs -"Q" -o bi_00_t.c -f bi_00_t.fnm
Reading big5-eten (big5-eten)
"/home/arpi/opt/perl5/perls/perl-5.20.2/bin/perl" ../bin/enc2xs -"Q" -o bi_01_t.c -f bi_01_t.fnm
Reading big5-hkscs (big5-hkscs)
"/home/arpi/opt/perl5/perls/perl-5.20.2/bin/perl" ../bin/enc2xs -"Q" -o cp_02_t.c -f cp_02_t.fnm
Reading cp950 (cp950)
"/home/arpi/opt/perl5/perls/perl-5.20.2/bin/perl" ../bin/enc2xs -"Q" -o ma_03_t.c -f ma_03_t.fnm
Reading MacChineseTrad (MacChineseTrad)
"/home/arpi/opt/perl5/perls/perl-5.20.2/bin/perl" "/home/arpi/opt/perl5/perls/perl-5.20.2/lib/site_perl/5.20.2/ExtUtils/xsubpp" -nolinenumbers -typemap '/home/arpi/opt/perl5/perls/perl-5.20.2/lib/5.20.2/ExtUtils/typemap' TW.xs > TW.xsc
mv TW.xsc TW.c
cc -c -I./Encode -I../Encode -D_REENTRANT -D_GNU_SOURCE -fwrapv -fno-strict-aliasing -pipe -fstack-protector -I/usr/local/include -D_LARGEFILE_SOURCE -D_FILE_OFFSET_BITS=64 -Werror=declaration-after-statement -Wpointer-sign -O2 -DVERSION=\"2.03\" -DXS_VERSION=\"2.03\" -fPIC "-I/home/arpi/opt/perl5/perls/perl-5.20.2/lib/5.20.2/armv6l-linux-thread-multi-64int/CORE" TW.c
cc -c -I./Encode -I../Encode -D_REENTRANT -D_GNU_SOURCE -fwrapv -fno-strict-aliasing -pipe -fstack-protector -I/usr/local/include -D_LARGEFILE_SOURCE -D_FILE_OFFSET_BITS=64 -Werror=declaration-after-statement -Wpointer-sign -O2 -DVERSION=\"2.03\" -DXS_VERSION=\"2.03\" -fPIC "-I/home/arpi/opt/perl5/perls/perl-5.20.2/lib/5.20.2/armv6l-linux-thread-multi-64int/CORE" bi_00_t.c
cc -c -I./Encode -I../Encode -D_REENTRANT -D_GNU_SOURCE -fwrapv -fno-strict-aliasing -pipe -fstack-protector -I/usr/local/include -D_LARGEFILE_SOURCE -D_FILE_OFFSET_BITS=64 -Werror=declaration-after-statement -Wpointer-sign -O2 -DVERSION=\"2.03\" -DXS_VERSION=\"2.03\" -fPIC "-I/home/arpi/opt/perl5/perls/perl-5.20.2/lib/5.20.2/armv6l-linux-thread-multi-64int/CORE" bi_01_t.c
cc -c -I./Encode -I../Encode -D_REENTRANT -D_GNU_SOURCE -fwrapv -fno-strict-aliasing -pipe -fstack-protector -I/usr/local/include -D_LARGEFILE_SOURCE -D_FILE_OFFSET_BITS=64 -Werror=declaration-after-statement -Wpointer-sign -O2 -DVERSION=\"2.03\" -DXS_VERSION=\"2.03\" -fPIC "-I/home/arpi/opt/perl5/perls/perl-5.20.2/lib/5.20.2/armv6l-linux-thread-multi-64int/CORE" cp_02_t.c
cc -c -I./Encode -I../Encode -D_REENTRANT -D_GNU_SOURCE -fwrapv -fno-strict-aliasing -pipe -fstack-protector -I/usr/local/include -D_LARGEFILE_SOURCE -D_FILE_OFFSET_BITS=64 -Werror=declaration-after-statement -Wpointer-sign -O2 -DVERSION=\"2.03\" -DXS_VERSION=\"2.03\" -fPIC "-I/home/arpi/opt/perl5/perls/perl-5.20.2/lib/5.20.2/armv6l-linux-thread-multi-64int/CORE" ma_03_t.c
rm -f ../blib/arch/auto/Encode/TW/TW.so
cc -shared -O2 -L/usr/local/lib -fstack-protector TW.o bi_00_t.o bi_01_t.o cp_02_t.o ma_03_t.o -o ../blib/arch/auto/Encode/TW/TW.so \
\
chmod 755 ../blib/arch/auto/Encode/TW/TW.so
make[1]: Leaving directory '/home/arpi/.cpanm/work/1660028756.25712/Encode-3.19/TW'
make[1]: Entering directory '/home/arpi/.cpanm/work/1660028756.25712/Encode-3.19/Unicode'
cp Unicode.pm ../blib/lib/Encode/Unicode.pm
Running Mkbootstrap for Unicode ()
chmod 644 "Unicode.bs"
"/home/arpi/opt/perl5/perls/perl-5.20.2/bin/perl" -MExtUtils::Command::MM -e 'cp_nonempty' -- Unicode.bs ../blib/arch/auto/Encode/Unicode/Unicode.bs 644
"/home/arpi/opt/perl5/perls/perl-5.20.2/bin/perl" "/home/arpi/opt/perl5/perls/perl-5.20.2/lib/site_perl/5.20.2/ExtUtils/xsubpp" -typemap '/home/arpi/opt/perl5/perls/perl-5.20.2/lib/5.20.2/ExtUtils/typemap' Unicode.xs > Unicode.xsc
mv Unicode.xsc Unicode.c
cc -c -I./Encode -I../Encode -D_REENTRANT -D_GNU_SOURCE -fwrapv -fno-strict-aliasing -pipe -fstack-protector -I/usr/local/include -D_LARGEFILE_SOURCE -D_FILE_OFFSET_BITS=64 -Werror=declaration-after-statement -Wpointer-sign -O2 -DVERSION=\"2.20\" -DXS_VERSION=\"2.20\" -fPIC "-I/home/arpi/opt/perl5/perls/perl-5.20.2/lib/5.20.2/armv6l-linux-thread-multi-64int/CORE" Unicode.c
rm -f ../blib/arch/auto/Encode/Unicode/Unicode.so
cc -shared -O2 -L/usr/local/lib -fstack-protector Unicode.o -o ../blib/arch/auto/Encode/Unicode/Unicode.so \
\
chmod 755 ../blib/arch/auto/Encode/Unicode/Unicode.so
make[1]: Leaving directory '/home/arpi/.cpanm/work/1660028756.25712/Encode-3.19/Unicode'
Running Mkbootstrap for Encode ()
chmod 644 "Encode.bs"
"/home/arpi/opt/perl5/perls/perl-5.20.2/bin/perl" -MExtUtils::Command::MM -e 'cp_nonempty' -- Encode.bs blib/arch/auto/Encode/Encode.bs 644
"/home/arpi/opt/perl5/perls/perl-5.20.2/bin/perl" "/home/arpi/opt/perl5/perls/perl-5.20.2/lib/site_perl/5.20.2/ExtUtils/xsubpp" -typemap '/home/arpi/opt/perl5/perls/perl-5.20.2/lib/5.20.2/ExtUtils/typemap' Encode.xs > Encode.xsc
mv Encode.xsc Encode.c
"/home/arpi/opt/perl5/perls/perl-5.20.2/bin/perl" bin/enc2xs -"Q" -"O" -o def_t.c -f def_t.fnm
Reading iso-8859-1 (iso-8859-1)
Reading ascii (ascii)
Reading cp1252 (cp1252)
Reading ascii-ctrl (ascii-ctrl)
Reading null (null)
cc -c -I./Encode -D_REENTRANT -D_GNU_SOURCE -fwrapv -fno-strict-aliasing -pipe -fstack-protector -I/usr/local/include -D_LARGEFILE_SOURCE -D_FILE_OFFSET_BITS=64 -Werror=declaration-after-statement -Wpointer-sign -O2 -DVERSION=\"3.19\" -DXS_VERSION=\"3.19\" -fPIC "-I/home/arpi/opt/perl5/perls/perl-5.20.2/lib/5.20.2/armv6l-linux-thread-multi-64int/CORE" Encode.c
cc -c -I./Encode -D_REENTRANT -D_GNU_SOURCE -fwrapv -fno-strict-aliasing -pipe -fstack-protector -I/usr/local/include -D_LARGEFILE_SOURCE -D_FILE_OFFSET_BITS=64 -Werror=declaration-after-statement -Wpointer-sign -O2 -DVERSION=\"3.19\" -DXS_VERSION=\"3.19\" -fPIC "-I/home/arpi/opt/perl5/perls/perl-5.20.2/lib/5.20.2/armv6l-linux-thread-multi-64int/CORE" def_t.c
cc -c -I./Encode -D_REENTRANT -D_GNU_SOURCE -fwrapv -fno-strict-aliasing -pipe -fstack-protector -I/usr/local/include -D_LARGEFILE_SOURCE -D_FILE_OFFSET_BITS=64 -Werror=declaration-after-statement -Wpointer-sign -O2 -DVERSION=\"3.19\" -DXS_VERSION=\"3.19\" -fPIC "-I/home/arpi/opt/perl5/perls/perl-5.20.2/lib/5.20.2/armv6l-linux-thread-multi-64int/CORE" encengine.c
rm -f blib/arch/auto/Encode/Encode.so
cc -shared -O2 -L/usr/local/lib -fstack-protector Encode.o def_t.o encengine.o -o blib/arch/auto/Encode/Encode.so \
\
chmod 755 blib/arch/auto/Encode/Encode.so
cp bin/enc2xs blib/script/enc2xs
"/home/arpi/opt/perl5/perls/perl-5.20.2/bin/perl" -MExtUtils::MY -e 'MY->fixin(shift)' -- blib/script/enc2xs
cp bin/encguess blib/script/encguess
"/home/arpi/opt/perl5/perls/perl-5.20.2/bin/perl" -MExtUtils::MY -e 'MY->fixin(shift)' -- blib/script/encguess
cp bin/piconv blib/script/piconv
"/home/arpi/opt/perl5/perls/perl-5.20.2/bin/perl" -MExtUtils::MY -e 'MY->fixin(shift)' -- blib/script/piconv
Manifying 3 pod documents
Manifying 18 pod documents
"/home/arpi/opt/perl5/perls/perl-5.20.2/bin/perl" -MExtUtils::Command::MM -e 'cp_nonempty' -- Encode.bs blib/arch/auto/Encode/Encode.bs 644
make[1]: Entering directory '/home/arpi/.cpanm/work/1660028756.25712/Encode-3.19/Byte'
"/home/arpi/opt/perl5/perls/perl-5.20.2/bin/perl" -MExtUtils::Command::MM -e 'cp_nonempty' -- Byte.bs ../blib/arch/auto/Encode/Byte/Byte.bs 644
make[1]: Leaving directory '/home/arpi/.cpanm/work/1660028756.25712/Encode-3.19/Byte'
make[1]: Entering directory '/home/arpi/.cpanm/work/1660028756.25712/Encode-3.19/CN'
"/home/arpi/opt/perl5/perls/perl-5.20.2/bin/perl" -MExtUtils::Command::MM -e 'cp_nonempty' -- CN.bs ../blib/arch/auto/Encode/CN/CN.bs 644
make[1]: Leaving directory '/home/arpi/.cpanm/work/1660028756.25712/Encode-3.19/CN'
make[1]: Entering directory '/home/arpi/.cpanm/work/1660028756.25712/Encode-3.19/EBCDIC'
"/home/arpi/opt/perl5/perls/perl-5.20.2/bin/perl" -MExtUtils::Command::MM -e 'cp_nonempty' -- EBCDIC.bs ../blib/arch/auto/Encode/EBCDIC/EBCDIC.bs 644
make[1]: Leaving directory '/home/arpi/.cpanm/work/1660028756.25712/Encode-3.19/EBCDIC'
make[1]: Entering directory '/home/arpi/.cpanm/work/1660028756.25712/Encode-3.19/JP'
"/home/arpi/opt/perl5/perls/perl-5.20.2/bin/perl" -MExtUtils::Command::MM -e 'cp_nonempty' -- JP.bs ../blib/arch/auto/Encode/JP/JP.bs 644
make[1]: Leaving directory '/home/arpi/.cpanm/work/1660028756.25712/Encode-3.19/JP'
make[1]: Entering directory '/home/arpi/.cpanm/work/1660028756.25712/Encode-3.19/KR'
"/home/arpi/opt/perl5/perls/perl-5.20.2/bin/perl" -MExtUtils::Command::MM -e 'cp_nonempty' -- KR.bs ../blib/arch/auto/Encode/KR/KR.bs 644
make[1]: Leaving directory '/home/arpi/.cpanm/work/1660028756.25712/Encode-3.19/KR'
make[1]: Entering directory '/home/arpi/.cpanm/work/1660028756.25712/Encode-3.19/Symbol'
"/home/arpi/opt/perl5/perls/perl-5.20.2/bin/perl" -MExtUtils::Command::MM -e 'cp_nonempty' -- Symbol.bs ../blib/arch/auto/Encode/Symbol/Symbol.bs 644
make[1]: Leaving directory '/home/arpi/.cpanm/work/1660028756.25712/Encode-3.19/Symbol'
make[1]: Entering directory '/home/arpi/.cpanm/work/1660028756.25712/Encode-3.19/TW'
"/home/arpi/opt/perl5/perls/perl-5.20.2/bin/perl" -MExtUtils::Command::MM -e 'cp_nonempty' -- TW.bs ../blib/arch/auto/Encode/TW/TW.bs 644
make[1]: Leaving directory '/home/arpi/.cpanm/work/1660028756.25712/Encode-3.19/TW'
make[1]: Entering directory '/home/arpi/.cpanm/work/1660028756.25712/Encode-3.19/Unicode'
"/home/arpi/opt/perl5/perls/perl-5.20.2/bin/perl" -MExtUtils::Command::MM -e 'cp_nonempty' -- Unicode.bs ../blib/arch/auto/Encode/Unicode/Unicode.bs 644
make[1]: Leaving directory '/home/arpi/.cpanm/work/1660028756.25712/Encode-3.19/Unicode'
make[1]: Entering directory '/home/arpi/.cpanm/work/1660028756.25712/Encode-3.19/Byte'
"/home/arpi/opt/perl5/perls/perl-5.20.2/bin/perl" -MExtUtils::Command::MM -e 'cp_nonempty' -- Byte.bs ../blib/arch/auto/Encode/Byte/Byte.bs 644
No tests defined for Encode::Byte extension.
make[1]: Leaving directory '/home/arpi/.cpanm/work/1660028756.25712/Encode-3.19/Byte'
make[1]: Entering directory '/home/arpi/.cpanm/work/1660028756.25712/Encode-3.19/CN'
"/home/arpi/opt/perl5/perls/perl-5.20.2/bin/perl" -MExtUtils::Command::MM -e 'cp_nonempty' -- CN.bs ../blib/arch/auto/Encode/CN/CN.bs 644
No tests defined for Encode::CN extension.
make[1]: Leaving directory '/home/arpi/.cpanm/work/1660028756.25712/Encode-3.19/CN'
make[1]: Entering directory '/home/arpi/.cpanm/work/1660028756.25712/Encode-3.19/EBCDIC'
"/home/arpi/opt/perl5/perls/perl-5.20.2/bin/perl" -MExtUtils::Command::MM -e 'cp_nonempty' -- EBCDIC.bs ../blib/arch/auto/Encode/EBCDIC/EBCDIC.bs 644
No tests defined for Encode::EBCDIC extension.
make[1]: Leaving directory '/home/arpi/.cpanm/work/1660028756.25712/Encode-3.19/EBCDIC'
make[1]: Entering directory '/home/arpi/.cpanm/work/1660028756.25712/Encode-3.19/JP'
"/home/arpi/opt/perl5/perls/perl-5.20.2/bin/perl" -MExtUtils::Command::MM -e 'cp_nonempty' -- JP.bs ../blib/arch/auto/Encode/JP/JP.bs 644
No tests defined for Encode::JP extension.
make[1]: Leaving directory '/home/arpi/.cpanm/work/1660028756.25712/Encode-3.19/JP'
make[1]: Entering directory '/home/arpi/.cpanm/work/1660028756.25712/Encode-3.19/KR'
"/home/arpi/opt/perl5/perls/perl-5.20.2/bin/perl" -MExtUtils::Command::MM -e 'cp_nonempty' -- KR.bs ../blib/arch/auto/Encode/KR/KR.bs 644
No tests defined for Encode::KR extension.
make[1]: Leaving directory '/home/arpi/.cpanm/work/1660028756.25712/Encode-3.19/KR'
make[1]: Entering directory '/home/arpi/.cpanm/work/1660028756.25712/Encode-3.19/Symbol'
"/home/arpi/opt/perl5/perls/perl-5.20.2/bin/perl" -MExtUtils::Command::MM -e 'cp_nonempty' -- Symbol.bs ../blib/arch/auto/Encode/Symbol/Symbol.bs 644
No tests defined for Encode::Symbol extension.
make[1]: Leaving directory '/home/arpi/.cpanm/work/1660028756.25712/Encode-3.19/Symbol'
make[1]: Entering directory '/home/arpi/.cpanm/work/1660028756.25712/Encode-3.19/TW'
"/home/arpi/opt/perl5/perls/perl-5.20.2/bin/perl" -MExtUtils::Command::MM -e 'cp_nonempty' -- TW.bs ../blib/arch/auto/Encode/TW/TW.bs 644
No tests defined for Encode::TW extension.
make[1]: Leaving directory '/home/arpi/.cpanm/work/1660028756.25712/Encode-3.19/TW'
make[1]: Entering directory '/home/arpi/.cpanm/work/1660028756.25712/Encode-3.19/Unicode'
"/home/arpi/opt/perl5/perls/perl-5.20.2/bin/perl" -MExtUtils::Command::MM -e 'cp_nonempty' -- Unicode.bs ../blib/arch/auto/Encode/Unicode/Unicode.bs 644
No tests defined for Encode::Unicode extension.
make[1]: Leaving directory '/home/arpi/.cpanm/work/1660028756.25712/Encode-3.19/Unicode'
PERL_DL_NONLAZY=1 "/home/arpi/opt/perl5/perls/perl-5.20.2/bin/perl" "-MExtUtils::Command::MM" "-MTest::Harness" "-e" "undef *Test::Harness::Switches; test_harness(0, 'blib/lib', 'blib/arch')" t/*.t
t/Aliases.t ................ ok
t/at-cn.t .................. ok
t/at-tw.t .................. ok
t/CJKT.t ................... ok
t/cow.t .................... ok
t/decode.t ................. ok
t/enc_data.t ............... ok
t/enc_eucjp.t .............. ok
t/enc_module.t ............. ok
t/enc_utf8.t ............... ok
t/Encode.t ................. ok
t/Encoder.t ................ ok
t/encoding-locale.t ........ ok
t/encoding.t ............... ok
t/fallback.t ............... ok
t/from_to.t ................ ok
t/grow.t ................... ok
t/gsm0338.t ................ ok
t/guess.t .................. ok
t/isa.t .................... ok
t/jis7-fallback.t .......... ok
t/jperl.t .................. ok
t/magic.t .................. ok
t/mime-header.t ............ ok
t/mime-name.t .............. ok
t/mime_header_iso2022jp.t .. ok
t/perlio.t ................. ok
t/piconv.t ................. ok
t/rt113164.t ............... ok
t/rt65541.t ................ ok
t/rt76824.t ................ ok
t/rt85489.t ................ ok
t/rt86327.t ................ ok
t/taint.t .................. ok
t/truncated_utf8.t ......... ok
t/undef.t .................. ok
t/Unicode.t ................ ok
t/Unicode_trailing_nul.t ... ok
t/use-Encode-Alias.t ....... ok
t/utf32warnings.t .......... ok
t/utf8ref.t ................ ok
t/utf8strict.t ............. ok
t/utf8warnings.t ........... ok
t/whatwg-aliases.t ......... skipped: For maintainers only
t/xml.t .................... ok
All tests successful.
Test Summary Report
-------------------
t/truncated_utf8.t (Wstat: 0 Tests: 9 Failed: 0)
TODO passed: 9
Files=45, Tests=7836, 24 wallclock secs ( 1.94 usr 0.37 sys + 21.43 cusr 2.04 csys = 25.78 CPU)
Result: PASS
------------------------------
PREREQUISITES
------------------------------
Prerequisite modules loaded:
No requirements found
------------------------------
ENVIRONMENT AND OTHER CONTEXT
------------------------------
Environment variables:
LANG = en_US.UTF-8
PATH = /home/arpi/bin:/home/arpi/opt/perl5/bin:/home/arpi/opt/perl5/perls/stable/bin:/usr/local/sbin:/usr/local/bin:/usr/sbin:/usr/bin:/sbin:/bin:/usr/local/games:/usr/games
PERLBREW_BASHRC_VERSION = 0.74
PERLBREW_HOME = /home/arpi/.perlbrew
PERLBREW_MANPATH = /home/arpi/opt/perl5/perls/stable/man
PERLBREW_PATH = /home/arpi/opt/perl5/bin:/home/arpi/opt/perl5/perls/stable/bin
PERLBREW_PERL = stable
PERLBREW_ROOT = /home/arpi/opt/perl5
PERLBREW_VERSION = 0.74
SHELL = /bin/bash
TERM = screen-256color
Perl special variables (and OS-specific diagnostics, for MSWin32):
EGID = 1001 27 997 1001
EUID = 1001
EXECUTABLE_NAME = /home/arpi/opt/perl5/perls/perl-5.20.2/bin/perl
GID = 1001 27 997 1001
UID = 1001
Perl module toolchain versions installed:
Module Have
------------------- --------
CPAN 2.34
CPAN::Meta 2.150010
Cwd 3.75
ExtUtils::CBuilder 0.280236
ExtUtils::Command 7.64
ExtUtils::Install 2.20
ExtUtils::MakeMaker 7.64
ExtUtils::Manifest 1.73
ExtUtils::ParseXS 3.44
File::Spec 3.75
JSON 4.09
JSON::PP 4.11
Module::Build 0.4231
Module::Signature n/a
Parse::CPAN::Meta 2.150010
Test::Harness 3.44
Test::More 1.302191
YAML 1.30
YAML::Syck n/a
version 0.9929
--
Summary of my perl5 (revision 5 version 20 subversion 2) configuration:
Platform:
osname=linux, osvers=3.18.7+, archname=armv6l-linux-thread-multi-64int
uname='linux coral01.plenum.ro 3.18.7+ #755 preempt thu feb 12 17:14:31 gmt 2015 armv6l gnulinux '
config_args='-de -Dprefix=/home/arpi/opt/perl5/perls/perl-5.20.2 -Dusethreads -Duselargefiles -Duse64bitint -Dusesitecustomize -Duseshrplib -Dinc_version_list=none -Dpager=/bin/less -Doptimize=-O2 -Dcf_by=Plenum.ro -Dcf_email=arpad.szasz@plenum.ro -Uuserelocatableinc -UDEBUGGING -Aeval:scriptdir=/home/arpi/opt/perl5/perls/perl-5.20.2/bin'
hint=recommended, useposix=true, d_sigaction=define
useithreads=define, usemultiplicity=define
use64bitint=define, use64bitall=undef, uselongdouble=undef
usemymalloc=n, bincompat5005=undef
Compiler:
cc='cc', ccflags ='-D_REENTRANT -D_GNU_SOURCE -fwrapv -fno-strict-aliasing -pipe -fstack-protector -I/usr/local/include -D_LARGEFILE_SOURCE -D_FILE_OFFSET_BITS=64',
optimize='-O2',
cppflags='-D_REENTRANT -D_GNU_SOURCE -fwrapv -fno-strict-aliasing -pipe -fstack-protector -I/usr/local/include'
ccversion='', gccversion='4.6.3', gccosandvers=''
intsize=4, longsize=4, ptrsize=4, doublesize=8, byteorder=12345678
d_longlong=define, longlongsize=8, d_longdbl=define, longdblsize=8
ivtype='long long', ivsize=8, nvtype='double', nvsize=8, Off_t='off_t', lseeksize=8
alignbytes=8, prototype=define
Linker and Libraries:
ld='cc', ldflags =' -fstack-protector -L/usr/local/lib'
libpth=/usr/local/lib /usr/lib/gcc/arm-linux-gnueabihf/4.6/include-fixed /usr/include/arm-linux-gnueabihf /usr/lib /lib/arm-linux-gnueabihf /lib /usr/lib/arm-linux-gnueabihf
libs=-lnsl -ldl -lm -lcrypt -lutil -lpthread -lc
perllibs=-lnsl -ldl -lm -lcrypt -lutil -lpthread -lc
libc=libc-2.13.so, so=so, useshrplib=true, libperl=libperl.so
gnulibc_version='2.13'
Dynamic Linking:
dlsrc=dl_dlopen.xs, dlext=so, d_dlsymun=undef, ccdlflags='-Wl,-E -Wl,-rpath,/home/arpi/opt/perl5/perls/perl-5.20.2/lib/5.20.2/armv6l-linux-thread-multi-64int/CORE'
cccdlflags='-fPIC', lddlflags='-shared -O2 -L/usr/local/lib -fstack-protector'
Characteristics of this binary (from libperl):
Compile-time options: HAS_TIMES MULTIPLICITY PERLIO_LAYERS
PERL_DONT_CREATE_GVSV
PERL_HASH_FUNC_ONE_AT_A_TIME_HARD
PERL_IMPLICIT_CONTEXT PERL_MALLOC_WRAP
PERL_NEW_COPY_ON_WRITE PERL_PRESERVE_IVUV
USE_64_BIT_INT USE_ITHREADS USE_LARGE_FILES
USE_LOCALE USE_LOCALE_COLLATE USE_LOCALE_CTYPE
USE_LOCALE_NUMERIC USE_PERLIO USE_PERL_ATOF
USE_REENTRANT_API USE_SITECUSTOMIZE
Locally applied patches:
Devel::PatchPerl 1.30
Built under linux
Compiled at Mar 7 2015 13:40:31
%ENV:
PERLBREW_BASHRC_VERSION="0.74"
PERLBREW_HOME="/home/arpi/.perlbrew"
PERLBREW_MANPATH="/home/arpi/opt/perl5/perls/stable/man"
PERLBREW_PATH="/home/arpi/opt/perl5/bin:/home/arpi/opt/perl5/perls/stable/bin"
PERLBREW_PERL="stable"
PERLBREW_ROOT="/home/arpi/opt/perl5"
PERLBREW_VERSION="0.74"
@INC:
/home/arpi/opt/perl5/perls/perl-5.20.2/lib/site_perl/5.20.2/armv6l-linux-thread-multi-64int
/home/arpi/opt/perl5/perls/perl-5.20.2/lib/site_perl/5.20.2
/home/arpi/opt/perl5/perls/perl-5.20.2/lib/5.20.2/armv6l-linux-thread-multi-64int
/home/arpi/opt/perl5/perls/perl-5.20.2/lib/5.20.2
.