Beam-Wire v1.021 Perl 5 v5.26.1 darwin-2level
- Status
- Pass
- From
- Nigel Horne
- Dist
-
Beam-Wire v1.021
- Platform
- Perl 5 v5.26.1 darwin-2level
- Date
- 2018-03-31 00:57:45
- ID
- 863a2dfc-347e-11e8-91ce-d3e3deac0b3f
This distribution has been tested as part of the CPAN Testers
project, supporting the Perl programming language. See
http://wiki.cpantesters.org/ for more information or email
questions to cpan-testers-discuss@perl.org
--
Dear Doug Bell,
This is a computer-generated report for Beam-Wire-1.021
on perl 5.26.1, created by CPAN-Reporter-1.2018.
Thank you for uploading your work to CPAN. Congratulations!
All tests were successful.
Sections of this report:
* Tester comments
* Program output
* Prerequisites
* Environment and other context
------------------------------
TESTER COMMENTS
------------------------------
Additional comments from tester:
this report is from an automated smoke testing program
and was not reviewed by a human for accuracy
------------------------------
PROGRAM OUTPUT
------------------------------
Output from '/usr/bin/make test':
PERL_DL_NONLAZY=1 "/Users/njh/perl5/perlbrew/perls/perl-5.26.1/bin/perl" "-MExtUtils::Command::MM" "-MTest::Harness" "-e" "undef *Test::Harness::Switches; test_harness(0, 'blib/lib', 'blib/arch')" t/*.t t/container/*.t t/dependency/*.t t/deprecated/*.t t/method/*.t t/regression/*.t t/service/*.t
#
# Versions for all modules listed in MYMETA.json (including optional ones):
#
# === Configure Requires ===
#
# Module Want Have
# ------------------------ -------- --------
# CPAN::Meta::Requirements 2.120620 2.140
# ExtUtils::MakeMaker any 7.30
# Module::Metadata any 1.000033
#
# === Build Requires ===
#
# Module Want Have
# ------------------- ---- ----
# ExtUtils::MakeMaker any 7.30
#
# === Test Requires ===
#
# Module Want Have
# ------------------- -------- --------
# ExtUtils::MakeMaker any 7.30
# File::Spec any 3.67
# IO::Handle any 1.36
# IPC::Open3 any 1.20
# Test::Deep any 1.127
# Test::Differences 0.64 0.64
# Test::Exception any 0.43
# Test::Lib any 0.002
# Test::More 1.001005 1.302120
#
# === Test Recommends ===
#
# Module Want Have
# ---------- -------- --------
# CPAN::Meta 2.120900 2.150010
#
# === Runtime Requires ===
#
# Module Want Have
# --------------- ----- --------
# Beam::Emitter any 1.007
# Beam::Service any 0.001
# Config::Any 0.23 0.32
# Data::DPath 0.51 0.57
# Module::Runtime any 0.016
# Moo any 2.003004
# Path::Tiny 0.055 0.104
# Throwable any 0.200013
# Types::Standard any 1.002001
# YAML any 1.24
#
# === Runtime Recommends ===
#
# Module Want Have
# ------ ---- -------
# JSON any 2.97001
#
t/00-report-prereqs.t .............. ok
t/00-compile.t ..................... ok
t/container/inner.t ................ ok
t/container/config.t ............... ok
t/container/override.t ............. ok
t/dependency/anonymous.t ........... ok
t/dependency/call.t ................ ok
t/dependency/config.t .............. ok
t/dependency/value.t ............... ok
t/deprecated/event_listeners.t ..... ok
t/deprecated/method_call.t ......... ok
t/exception.t ...................... ok
t/method/create_service.t .......... ok
t/method/is_meta.t ................. ok
t/regression/60_unprefixed_meta.t .. ok
t/service/attributes.t ............. ok
t/service/class_args.t ............. ok
t/service/config.t ................. ok
t/service/lifecycle.t .............. ok
t/service/extends.t ................ ok
t/service/event_listener.t ......... ok
t/service/method.t ................. ok
t/service/value.t .................. ok
t/service/with_args.t .............. ok
t/service/with.t ................... ok
All tests successful.
Files=25, Tests=81, 3 wallclock secs ( 0.17 usr 0.07 sys + 10.83 cusr 2.13 csys = 13.20 CPU)
Result: PASS
------------------------------
PREREQUISITES
------------------------------
Prerequisite modules loaded:
requires:
Module Need Have
------------------------ -------- --------
Beam::Emitter 0 1.007
Beam::Service 0 0.001
Config::Any 0.23 0.32
Data::DPath 0.51 0.57
Module::Runtime 0 0.016
Moo 0 2.003004
Path::Tiny 0.055 0.104
Throwable 0 0.200013
Types::Standard 0 1.002001
YAML 0 1.24
build_requires:
Module Need Have
------------------------ -------- --------
ExtUtils::MakeMaker 0 7.30
File::Spec 0 3.67
IO::Handle 0 1.36
IPC::Open3 0 1.20
Test::Deep 0 1.127
Test::Differences 0.64 0.64
Test::Exception 0 0.43
Test::Lib 0 0.002
Test::More 1.001005 1.302120
configure_requires:
Module Need Have
------------------------ -------- --------
CPAN::Meta::Requirements 2.120620 2.140
ExtUtils::MakeMaker 0 7.30
Module::Metadata 0 1.000033
------------------------------
ENVIRONMENT AND OTHER CONTEXT
------------------------------
Environment variables:
AUTOMATED_TESTING = 1
HARNESS_OPTIONS = j4
PATH = /Users/njh/perl5/perlbrew/bin:/Users/njh/perl5/perlbrew/perls/perl-5.26.1/bin:src/njh/smoker/bin:/usr/bin:/bin
PERL5LIB = /Users/njh/.cpan/build/Throwable-0.200013-5/blib/arch:/Users/njh/.cpan/build/Throwable-0.200013-5/blib/lib:/Users/njh/.cpan/build/Data-DPath-0.57-1/blib/arch:/Users/njh/.cpan/build/Data-DPath-0.57-1/blib/lib:/Users/njh/.cpan/build/aliased-0.34-2/blib/arch:/Users/njh/.cpan/build/aliased-0.34-2/blib/lib:/Users/njh/.cpan/build/Iterator-Util-0.02-1/blib/arch:/Users/njh/.cpan/build/Iterator-Util-0.02-1/blib/lib:/Users/njh/.cpan/build/Iterator-0.03-1/blib/arch:/Users/njh/.cpan/build/Iterator-0.03-1/blib/lib:/Users/njh/.cpan/build/Config-Any-0.32-1/blib/arch:/Users/njh/.cpan/build/Config-Any-0.32-1/blib/lib:/Users/njh/.cpan/build/Beam-Service-0.001-1/blib/arch:/Users/njh/.cpan/build/Beam-Service-0.001-1/blib/lib:/Users/njh/.cpan/build/Beam-Emitter-1.007-1/blib/arch:/Users/njh/.cpan/build/Beam-Emitter-1.007-1/blib/lib:/Users/njh/.cpan/build/Test-Lib-0.002-1/blib/arch:/Users/njh/.cpan/build/Test-Lib-0.002-1/blib/lib:/Users/njh/.cpan/build/Test-API-0.010-1/blib/arch:/Users/njh/.cpan/build/Test-API-0.010-1/blib/lib:/Users/njh/.cpan/build/Data-Tools-1.15-1/blib/arch:/Users/njh/.cpan/build/Data-Tools-1.15-1/blib/lib
PERL5OPT =
PERL5_CPANPLUS_IS_RUNNING = 62586
PERL5_CPAN_IS_RUNNING = 62586
PERLBREW_HOME = /Users/njh/.perlbrew
PERLBREW_MANPATH = /Users/njh/perl5/perlbrew/perls/perl-5.26.1/man
PERLBREW_PATH = /Users/njh/perl5/perlbrew/bin:/Users/njh/perl5/perlbrew/perls/perl-5.26.1/bin
PERLBREW_PERL = perl-5.26.1
PERLBREW_ROOT = /Users/njh/perl5/perlbrew
PERLBREW_SHELLRC_VERSION = 0.82
PERLBREW_VERSION = 0.82
PERL_USE_UNSAFE_INC = 1
SHELL = /bin/sh
Perl special variables (and OS-specific diagnostics, for MSWin32):
$^X = /Users/njh/perl5/perlbrew/perls/perl-5.26.1/bin/perl
$UID/$EUID = 501 / 501
$GID = 20 20 12 61 401 102 402 100
$EGID = 20 20 12 61 401 102 402 100
Perl module toolchain versions installed:
Module Have
------------------- ----------
CPAN 2.18
CPAN::Meta 2.150010
Cwd 3.67
ExtUtils::CBuilder 0.280230
ExtUtils::Command 7.30
ExtUtils::Install 2.06
ExtUtils::MakeMaker 7.30
ExtUtils::Manifest 1.70
ExtUtils::ParseXS 3.34
File::Spec 3.67
JSON 2.97001
JSON::PP 2.27400_02
Module::Build 0.4224
Module::Signature n/a
Parse::CPAN::Meta 2.150010
Test::Harness 3.39
Test::More 1.302120
YAML 1.24
YAML::Syck 1.30
version 0.9917
--
Summary of my perl5 (revision 5 version 26 subversion 1) configuration:
Platform:
osname=darwin
osvers=17.2.0
archname=darwin-2level
uname='darwin nigels-mbp.fios-router.home 17.2.0 darwin kernel version 17.2.0: fri sep 29 18:27:05 pdt 2017; root:xnu-4570.20.62~3release_x86_64 x86_64 '
config_args='-de -Dprefix=/Users/njh/perl5/perlbrew/perls/perl-5.26.1 -Aeval:scriptdir=/Users/njh/perl5/perlbrew/perls/perl-5.26.1/bin'
hint=recommended
useposix=true
d_sigaction=define
useithreads=undef
usemultiplicity=undef
use64bitint=define
use64bitall=define
uselongdouble=undef
usemymalloc=n
default_inc_excludes_dot=define
bincompat5005=undef
Compiler:
cc='cc'
ccflags ='-fno-common -DPERL_DARWIN -fno-strict-aliasing -pipe -fstack-protector-strong -I/usr/local/include -I/opt/local/include'
optimize='-O3'
cppflags='-fno-common -DPERL_DARWIN -fno-strict-aliasing -pipe -fstack-protector-strong -I/usr/local/include -I/opt/local/include'
ccversion=''
gccversion='4.2.1 Compatible Apple LLVM 8.0.0 (clang-800.0.42.1)'
gccosandvers=''
intsize=4
longsize=8
ptrsize=8
doublesize=8
byteorder=12345678
doublekind=3
d_longlong=define
longlongsize=8
d_longdbl=define
longdblsize=16
longdblkind=3
ivtype='long'
ivsize=8
nvtype='double'
nvsize=8
Off_t='off_t'
lseeksize=8
alignbytes=8
prototype=define
Linker and Libraries:
ld='env MACOSX_DEPLOYMENT_TARGET=10.3 cc'
ldflags =' -fstack-protector-strong -L/usr/local/lib -L/opt/local/lib'
libpth=/usr/local/lib /Applications/Xcode.app/Contents/Developer/Toolchains/XcodeDefault.xctoolchain/usr/bin/../lib/clang/8.0.0/lib /Applications/Xcode.app/Contents/Developer/Toolchains/XcodeDefault.xctoolchain/usr/lib /usr/lib /opt/local/lib
libs=-lpthread -lgdbm -ldbm -ldl -lm -lutil -lc
perllibs=-lpthread -ldl -lm -lutil -lc
libc=
so=dylib
useshrplib=false
libperl=libperl.a
gnulibc_version=''
Dynamic Linking:
dlsrc=dl_dlopen.xs
dlext=bundle
d_dlsymun=undef
ccdlflags=' '
cccdlflags=' '
lddlflags=' -bundle -undefined dynamic_lookup -L/usr/local/lib -L/opt/local/lib -fstack-protector-strong'
Characteristics of this binary (from libperl):
Compile-time options:
HAS_TIMES
PERLIO_LAYERS
PERL_COPY_ON_WRITE
PERL_DONT_CREATE_GVSV
PERL_MALLOC_WRAP
PERL_OP_PARENT
PERL_PRESERVE_IVUV
USE_64_BIT_ALL
USE_64_BIT_INT
USE_LARGE_FILES
USE_LOCALE
USE_LOCALE_COLLATE
USE_LOCALE_CTYPE
USE_LOCALE_NUMERIC
USE_LOCALE_TIME
USE_PERLIO
USE_PERL_ATOF
Built under darwin
Compiled at Dec 9 2017 19:15:10
%ENV:
PERL5LIB="/Users/njh/.cpan/build/Throwable-0.200013-5/blib/arch:/Users/njh/.cpan/build/Throwable-0.200013-5/blib/lib:/Users/njh/.cpan/build/Data-DPath-0.57-1/blib/arch:/Users/njh/.cpan/build/Data-DPath-0.57-1/blib/lib:/Users/njh/.cpan/build/aliased-0.34-2/blib/arch:/Users/njh/.cpan/build/aliased-0.34-2/blib/lib:/Users/njh/.cpan/build/Iterator-Util-0.02-1/blib/arch:/Users/njh/.cpan/build/Iterator-Util-0.02-1/blib/lib:/Users/njh/.cpan/build/Iterator-0.03-1/blib/arch:/Users/njh/.cpan/build/Iterator-0.03-1/blib/lib:/Users/njh/.cpan/build/Config-Any-0.32-1/blib/arch:/Users/njh/.cpan/build/Config-Any-0.32-1/blib/lib:/Users/njh/.cpan/build/Beam-Service-0.001-1/blib/arch:/Users/njh/.cpan/build/Beam-Service-0.001-1/blib/lib:/Users/njh/.cpan/build/Beam-Emitter-1.007-1/blib/arch:/Users/njh/.cpan/build/Beam-Emitter-1.007-1/blib/lib:/Users/njh/.cpan/build/Test-Lib-0.002-1/blib/arch:/Users/njh/.cpan/build/Test-Lib-0.002-1/blib/lib:/Users/njh/.cpan/build/Test-API-0.010-1/blib/arch:/Users/njh/.cpan/build/Test-API-0.010-1/blib/lib:/Users/njh/.cpan/build/Data-Tools-1.15-1/blib/arch:/Users/njh/.cpan/build/Data-Tools-1.15-1/blib/lib"
PERL5OPT=""
PERL5_CPANPLUS_IS_RUNNING="62586"
PERL5_CPAN_IS_RUNNING="62586"
PERLBREW_HOME="/Users/njh/.perlbrew"
PERLBREW_MANPATH="/Users/njh/perl5/perlbrew/perls/perl-5.26.1/man"
PERLBREW_PATH="/Users/njh/perl5/perlbrew/bin:/Users/njh/perl5/perlbrew/perls/perl-5.26.1/bin"
PERLBREW_PERL="perl-5.26.1"
PERLBREW_ROOT="/Users/njh/perl5/perlbrew"
PERLBREW_SHELLRC_VERSION="0.82"
PERLBREW_VERSION="0.82"
PERL_USE_UNSAFE_INC="1"
@INC:
/Users/njh/.cpan/build/Throwable-0.200013-5/blib/arch
/Users/njh/.cpan/build/Throwable-0.200013-5/blib/lib
/Users/njh/.cpan/build/Data-DPath-0.57-1/blib/arch
/Users/njh/.cpan/build/Data-DPath-0.57-1/blib/lib
/Users/njh/.cpan/build/aliased-0.34-2/blib/arch
/Users/njh/.cpan/build/aliased-0.34-2/blib/lib
/Users/njh/.cpan/build/Iterator-Util-0.02-1/blib/arch
/Users/njh/.cpan/build/Iterator-Util-0.02-1/blib/lib
/Users/njh/.cpan/build/Iterator-0.03-1/blib/arch
/Users/njh/.cpan/build/Iterator-0.03-1/blib/lib
/Users/njh/.cpan/build/Config-Any-0.32-1/blib/arch
/Users/njh/.cpan/build/Config-Any-0.32-1/blib/lib
/Users/njh/.cpan/build/Beam-Service-0.001-1/blib/arch
/Users/njh/.cpan/build/Beam-Service-0.001-1/blib/lib
/Users/njh/.cpan/build/Beam-Emitter-1.007-1/blib/arch
/Users/njh/.cpan/build/Beam-Emitter-1.007-1/blib/lib
/Users/njh/.cpan/build/Test-Lib-0.002-1/blib/arch
/Users/njh/.cpan/build/Test-Lib-0.002-1/blib/lib
/Users/njh/.cpan/build/Test-API-0.010-1/blib/arch
/Users/njh/.cpan/build/Test-API-0.010-1/blib/lib
/Users/njh/.cpan/build/Data-Tools-1.15-1/blib/arch
/Users/njh/.cpan/build/Data-Tools-1.15-1/blib/lib
/Users/njh/perl5/perlbrew/perls/perl-5.26.1/lib/site_perl/5.26.1/darwin-2level
/Users/njh/perl5/perlbrew/perls/perl-5.26.1/lib/site_perl/5.26.1
/Users/njh/perl5/perlbrew/perls/perl-5.26.1/lib/5.26.1/darwin-2level
/Users/njh/perl5/perlbrew/perls/perl-5.26.1/lib/5.26.1
.