Text-Conceal v1.01 Perl 5 v5.16.3 x86_64-linux-thread-multi

Status
Pass
From
Slaven Rezić
Dist
Text-Conceal v1.01
Platform
Perl 5 v5.16.3 x86_64-linux-thread-multi
Date
2022-08-09 05:38:40
ID
85fdcfd8-17a5-11ed-80b5-86d22cbfd570
This distribution has been tested as part of the CPAN Testers
project, supporting the Perl programming language.  See
http://wiki.cpantesters.org/ for more information or email
questions to cpan-testers-discuss@perl.org


--
Dear Kaz Utashiro,

This is a computer-generated report for Text-Conceal-1.01
on perl 5.16.3, created by CPAN-Reporter-1.2011.

Thank you for uploading your work to CPAN.  Congratulations!
All tests were successful.

Sections of this report:

    * Tester comments
    * Program output
    * Prerequisites
    * Environment and other context

------------------------------
TESTER COMMENTS
------------------------------

Additional comments from tester:

none provided

------------------------------
PROGRAM OUTPUT
------------------------------

Output from './Build test':

t/00_compile.t ............. ok
t/VPrintf/01_simple.t ...... ok
t/VPrintf/02_multi.t ....... ok
t/VPrintf/03_special.t ..... ok
Unknown charname 'KATAKANA LETTER SMALL KI' at (eval 19) line 1.
Unknown charname 'KATAKANA LETTER SMALL KO' at (eval 25) line 1.
Unknown charname 'KATAKANA LETTER SMALL SA' at (eval 27) line 1.
Unknown charname 'KATAKANA LETTER SMALL SE' at (eval 33) line 1.
Unknown charname 'KATAKANA LETTER SMALL SO' at (eval 35) line 1.
Unknown charname 'KATAKANA LETTER SMALL TA' at (eval 37) line 1.
Unknown charname 'KATAKANA LETTER SMALL TI' at (eval 39) line 1.
Unknown charname 'KATAKANA LETTER SMALL TE' at (eval 43) line 1.
Unknown charname 'KATAKANA LETTER SMALL NA' at (eval 47) line 1.
Unknown charname 'KATAKANA LETTER SMALL NI' at (eval 49) line 1.
Unknown charname 'KATAKANA LETTER SMALL NE' at (eval 53) line 1.
Unknown charname 'KATAKANA LETTER SMALL NO' at (eval 55) line 1.
Unknown charname 'KATAKANA LETTER SMALL MA' at (eval 67) line 1.
Unknown charname 'KATAKANA LETTER SMALL MI' at (eval 69) line 1.
Unknown charname 'KATAKANA LETTER SMALL ME' at (eval 73) line 1.
Unknown charname 'KATAKANA LETTER SMALL MO' at (eval 75) line 1.
Unknown charname 'KATAKANA LETTER YI' at (eval 78) line 1.
Unknown charname 'KATAKANA LETTER SMALL YI' at (eval 79) line 1.
Unknown charname 'KATAKANA LETTER YE' at (eval 82) line 1.
Unknown charname 'KATAKANA LETTER SMALL YE' at (eval 83) line 1.
Unknown charname 'KATAKANA LETTER SMALL WI' at (eval 99) line 1.
Unknown charname 'KATAKANA LETTER WU' at (eval 100) line 1.
Unknown charname 'KATAKANA LETTER SMALL WU' at (eval 101) line 1.
Unknown charname 'KATAKANA LETTER SMALL WE' at (eval 103) line 1.
Unknown charname 'KATAKANA LETTER SMALL WO' at (eval 105) line 1.
Unknown charname 'KATAKANA LETTER SMALL GA' at (eval 107) line 1.
Unknown charname 'KATAKANA LETTER SMALL GI' at (eval 109) line 1.
Unknown charname 'KATAKANA LETTER SMALL GU' at (eval 111) line 1.
Unknown charname 'KATAKANA LETTER SMALL GE' at (eval 113) line 1.
Unknown charname 'KATAKANA LETTER SMALL GO' at (eval 115) line 1.
Unknown charname 'KATAKANA LETTER SMALL ZA' at (eval 117) line 1.
Unknown charname 'KATAKANA LETTER SMALL ZI' at (eval 119) line 1.
Unknown charname 'KATAKANA LETTER SMALL ZU' at (eval 121) line 1.
Unknown charname 'KATAKANA LETTER SMALL ZE' at (eval 123) line 1.
Unknown charname 'KATAKANA LETTER SMALL ZO' at (eval 125) line 1.
Unknown charname 'KATAKANA LETTER SMALL DA' at (eval 127) line 1.
Unknown charname 'KATAKANA LETTER SMALL DI' at (eval 129) line 1.
Unknown charname 'KATAKANA LETTER SMALL DU' at (eval 131) line 1.
Unknown charname 'KATAKANA LETTER SMALL DE' at (eval 133) line 1.
Unknown charname 'KATAKANA LETTER SMALL DO' at (eval 135) line 1.
Unknown charname 'KATAKANA LETTER SMALL BA' at (eval 137) line 1.
Unknown charname 'KATAKANA LETTER SMALL BI' at (eval 139) line 1.
Unknown charname 'KATAKANA LETTER SMALL BU' at (eval 141) line 1.
Unknown charname 'KATAKANA LETTER SMALL BE' at (eval 143) line 1.
Unknown charname 'KATAKANA LETTER SMALL BO' at (eval 145) line 1.
Unknown charname 'KATAKANA LETTER SMALL PA' at (eval 147) line 1.
Unknown charname 'KATAKANA LETTER SMALL PI' at (eval 149) line 1.
Unknown charname 'KATAKANA LETTER SMALL PU' at (eval 151) line 1.
Unknown charname 'KATAKANA LETTER SMALL PE' at (eval 153) line 1.
Unknown charname 'KATAKANA LETTER SMALL PO' at (eval 155) line 1.
Unknown charname 'HIRAGANA LETTER SMALL KI' at (eval 169) line 1.
Unknown charname 'HIRAGANA LETTER SMALL KU' at (eval 171) line 1.
Unknown charname 'HIRAGANA LETTER SMALL KO' at (eval 175) line 1.
Unknown charname 'HIRAGANA LETTER SMALL SA' at (eval 177) line 1.
Unknown charname 'HIRAGANA LETTER SMALL SI' at (eval 179) line 1.
Unknown charname 'HIRAGANA LETTER SMALL SU' at (eval 181) line 1.
Unknown charname 'HIRAGANA LETTER SMALL SE' at (eval 183) line 1.
Unknown charname 'HIRAGANA LETTER SMALL SO' at (eval 185) line 1.
Unknown charname 'HIRAGANA LETTER SMALL TA' at (eval 187) line 1.
Unknown charname 'HIRAGANA LETTER SMALL TI' at (eval 189) line 1.
Unknown charname 'HIRAGANA LETTER SMALL TE' at (eval 193) line 1.
Unknown charname 'HIRAGANA LETTER SMALL TO' at (eval 195) line 1.
Unknown charname 'HIRAGANA LETTER SMALL NA' at (eval 197) line 1.
Unknown charname 'HIRAGANA LETTER SMALL NI' at (eval 199) line 1.
Unknown charname 'HIRAGANA LETTER SMALL NU' at (eval 201) line 1.
Unknown charname 'HIRAGANA LETTER SMALL NE' at (eval 203) line 1.
Unknown charname 'HIRAGANA LETTER SMALL NO' at (eval 205) line 1.
Unknown charname 'HIRAGANA LETTER SMALL HA' at (eval 207) line 1.
Unknown charname 'HIRAGANA LETTER SMALL HI' at (eval 209) line 1.
Unknown charname 'HIRAGANA LETTER SMALL HU' at (eval 211) line 1.
Unknown charname 'HIRAGANA LETTER SMALL HE' at (eval 213) line 1.
Unknown charname 'HIRAGANA LETTER SMALL HO' at (eval 215) line 1.
Unknown charname 'HIRAGANA LETTER SMALL MA' at (eval 217) line 1.
Unknown charname 'HIRAGANA LETTER SMALL MI' at (eval 219) line 1.
Unknown charname 'HIRAGANA LETTER SMALL MU' at (eval 221) line 1.
Unknown charname 'HIRAGANA LETTER SMALL ME' at (eval 223) line 1.
Unknown charname 'HIRAGANA LETTER SMALL MO' at (eval 225) line 1.
Unknown charname 'HIRAGANA LETTER YI' at (eval 228) line 1.
Unknown charname 'HIRAGANA LETTER SMALL YI' at (eval 229) line 1.
Unknown charname 'HIRAGANA LETTER YE' at (eval 232) line 1.
Unknown charname 'HIRAGANA LETTER SMALL YE' at (eval 233) line 1.
Unknown charname 'HIRAGANA LETTER SMALL RA' at (eval 237) line 1.
Unknown charname 'HIRAGANA LETTER SMALL RI' at (eval 239) line 1.
Unknown charname 'HIRAGANA LETTER SMALL RU' at (eval 241) line 1.
Unknown charname 'HIRAGANA LETTER SMALL RE' at (eval 243) line 1.
Unknown charname 'HIRAGANA LETTER SMALL RO' at (eval 245) line 1.
Unknown charname 'HIRAGANA LETTER SMALL WI' at (eval 249) line 1.
Unknown charname 'HIRAGANA LETTER WU' at (eval 250) line 1.
Unknown charname 'HIRAGANA LETTER SMALL WU' at (eval 251) line 1.
Unknown charname 'HIRAGANA LETTER SMALL WE' at (eval 253) line 1.
Unknown charname 'HIRAGANA LETTER SMALL WO' at (eval 255) line 1.
Unknown charname 'HIRAGANA LETTER SMALL GA' at (eval 257) line 1.
Unknown charname 'HIRAGANA LETTER SMALL GI' at (eval 259) line 1.
Unknown charname 'HIRAGANA LETTER SMALL GU' at (eval 261) line 1.
Unknown charname 'HIRAGANA LETTER SMALL GE' at (eval 263) line 1.
Unknown charname 'HIRAGANA LETTER SMALL GO' at (eval 265) line 1.
Unknown charname 'HIRAGANA LETTER SMALL ZA' at (eval 267) line 1.
Unknown charname 'HIRAGANA LETTER SMALL ZI' at (eval 269) line 1.
Unknown charname 'HIRAGANA LETTER SMALL ZU' at (eval 271) line 1.
Unknown charname 'HIRAGANA LETTER SMALL ZE' at (eval 273) line 1.
Unknown charname 'HIRAGANA LETTER SMALL ZO' at (eval 275) line 1.
Unknown charname 'HIRAGANA LETTER SMALL DA' at (eval 277) line 1.
Unknown charname 'HIRAGANA LETTER SMALL DI' at (eval 279) line 1.
Unknown charname 'HIRAGANA LETTER SMALL DU' at (eval 281) line 1.
Unknown charname 'HIRAGANA LETTER SMALL DE' at (eval 283) line 1.
Unknown charname 'HIRAGANA LETTER SMALL DO' at (eval 285) line 1.
Unknown charname 'HIRAGANA LETTER SMALL BA' at (eval 287) line 1.
Unknown charname 'HIRAGANA LETTER SMALL BI' at (eval 289) line 1.
Unknown charname 'HIRAGANA LETTER SMALL BU' at (eval 291) line 1.
Unknown charname 'HIRAGANA LETTER SMALL BE' at (eval 293) line 1.
Unknown charname 'HIRAGANA LETTER SMALL BO' at (eval 295) line 1.
Unknown charname 'HIRAGANA LETTER SMALL PA' at (eval 297) line 1.
Unknown charname 'HIRAGANA LETTER SMALL PI' at (eval 299) line 1.
Unknown charname 'HIRAGANA LETTER SMALL PU' at (eval 301) line 1.
Unknown charname 'HIRAGANA LETTER SMALL PE' at (eval 303) line 1.
Unknown charname 'HIRAGANA LETTER SMALL PO' at (eval 305) line 1.
t/VPrintf/04_combined.t .... ok
t/VPrintf/05_filehandle.t .. ok
t/VPrintf/07_backspace.t ... ok
All tests successful.
Files=7, Tests=577,  0 wallclock secs ( 0.06 usr  0.01 sys +  0.45 cusr  0.07 csys =  0.59 CPU)
Result: PASS

------------------------------
PREREQUISITES
------------------------------

Prerequisite modules loaded:

requires:

    Module              Need    Have    
    ------------------- ------- --------
    perl                v5.14.0 5.016003
    Text::ANSI::Fold    2.1301  2.1301  

build_requires:

    Module              Need    Have    
    ------------------- ------- --------
    Test::More          0.98    0.98    

configure_requires:

    Module              Need    Have    
    ------------------- ------- --------
    Module::Build::Tiny 0.035   0.039   


------------------------------
ENVIRONMENT AND OTHER CONTEXT
------------------------------

Environment variables:

    LANG = en_US.UTF-8
    PATH = /usr/local/bin:/usr/bin:/bin:/usr/local/sbin:/usr/sbin:/sbin:/home/cpansand/bin/linux-gnu:/home/cpansand/bin/sh:/home/cpansand/bin:/usr/games:/home/cpansand/devel:/home/eserte/src/srezic-misc/scripts
    PERL5LIB = /home/cpansand/.cpan/build/2022080904/Text-ANSI-Fold-2.1301-652JwN/blib/arch:/home/cpansand/.cpan/build/2022080904/Text-ANSI-Fold-2.1301-652JwN/blib/lib:/home/cpansand/.cpan/build/2022080904/Text-VisualWidth-PP-0.05-RlDZSt/blib/arch:/home/cpansand/.cpan/build/2022080904/Text-VisualWidth-PP-0.05-RlDZSt/blib/lib:/home/cpansand/.cpan/build/2022080904/Unicode-EastAsianWidth-12.0-7Ghy1y/blib/arch:/home/cpansand/.cpan/build/2022080904/Unicode-EastAsianWidth-12.0-7Ghy1y/blib/lib:/home/cpansand/.cpan/build/2022080904/Scalar-List-Utils-1.63-4ZKbTX/blib/arch:/home/cpansand/.cpan/build/2022080904/Scalar-List-Utils-1.63-4ZKbTX/blib/lib:/home/cpansand/.cpan/build/2022080904/Module-Build-Tiny-0.039-NilLOh/blib/arch:/home/cpansand/.cpan/build/2022080904/Module-Build-Tiny-0.039-NilLOh/blib/lib:/home/cpansand/.cpan/build/2022080904/ExtUtils-InstallPaths-0.012-1aKi3G/blib/arch:/home/cpansand/.cpan/build/2022080904/ExtUtils-InstallPaths-0.012-1aKi3G/blib/lib:/home/cpansand/.cpan/build/2022080904/ExtUtils-Config-0.008-RjJPYd/blib/arch:/home/cpansand/.cpan/build/2022080904/ExtUtils-Config-0.008-RjJPYd/blib/lib:/home/cpansand/.cpan/build/2022080904/ExtUtils-Helpers-0.026-YzmeRK/blib/arch:/home/cpansand/.cpan/build/2022080904/ExtUtils-Helpers-0.026-YzmeRK/blib/lib:/home/cpansand/.cpan/build/2022080904/Test-Harness-3.44-LZD69Q/blib/arch:/home/cpansand/.cpan/build/2022080904/Test-Harness-3.44-LZD69Q/blib/lib
    PERL5OPT = 
    PERL5_CPANPLUS_IS_RUNNING = 5380
    PERL5_CPAN_IS_RUNNING = 5380
    PERL5_CPAN_IS_RUNNING_IN_RECURSION = 21739,5380
    PERLDOC = -MPod::Perldoc::ToTextOverstrike
    PERL_BATCH = yes
    PERL_CANARY_STABILITY_NOPROMPT = 1
    PERL_CPAN_REPORTER_CONFIG = /var/tmp/cpansmoker-1023/2022080903/cpanreporter_000_config.ini
    PERL_EXTUTILS_AUTOINSTALL = --defaultdeps
    SHELL = /usr/bin/zsh
    TERM = screen
    TMPDIR = /var/tmp/cpansmoker-1023/2022080903

Perl special variables (and OS-specific diagnostics, for MSWin32):

    $^X = /usr/bin/perl
    $UID/$EUID = 1023 / 1023
    $GID = 1023 1023
    $EGID = 1023 1023

Perl module toolchain versions installed:

    Module              Have    
    ------------------- --------
    CPAN                1.9800  
    CPAN::Meta          2.120921
    Cwd                 3.40    
    ExtUtils::CBuilder  0.280206
    ExtUtils::Command   1.17    
    ExtUtils::Install   1.58    
    ExtUtils::MakeMaker 6.68    
    ExtUtils::Manifest  1.61    
    ExtUtils::ParseXS   3.18    
    File::Spec          3.40    
    JSON                n/a     
    JSON::PP            2.27202 
    Module::Build       0.4005  
    Module::Signature   n/a     
    Parse::CPAN::Meta   1.4404  
    Test::Harness       3.44    
    Test::More          0.98    
    YAML                n/a     
    YAML::Syck          1.27    
    version             0.9907  


--

Summary of my perl5 (revision 5 version 16 subversion 3) configuration:
   
  Platform:
    osname=linux, osvers=3.10.0-957.1.3.el7.x86_64, archname=x86_64-linux-thread-multi
    uname='linux x86-02.bsys.centos.org 3.10.0-957.1.3.el7.x86_64 #1 smp thu nov 29 14:49:43 utc 2018 x86_64 x86_64 x86_64 gnulinux '
    config_args='-des -Doptimize=-O2 -g -pipe -Wall -Wp,-D_FORTIFY_SOURCE=2 -fexceptions -fstack-protector-strong --param=ssp-buffer-size=4 -grecord-gcc-switches   -m64 -mtune=generic -Dccdlflags=-Wl,--enable-new-dtags -Dlddlflags=-shared -O2 -g -pipe -Wall -Wp,-D_FORTIFY_SOURCE=2 -fexceptions -fstack-protector-strong --param=ssp-buffer-size=4 -grecord-gcc-switches   -m64 -mtune=generic -Wl,-z,relro  -DDEBUGGING=-g -Dversion=5.16.3 -Dmyhostname=localhost -Dperladmin=root@localhost -Dcc=gcc -Dcf_by=Red Hat, Inc. -Dprefix=/usr -Dvendorprefix=/usr -Dsiteprefix=/usr/local -Dsitelib=/usr/local/share/perl5 -Dsitearch=/usr/local/lib64/perl5 -Dprivlib=/usr/share/perl5 -Dvendorlib=/usr/share/perl5/vendor_perl -Darchlib=/usr/lib64/perl5 -Dvendorarch=/usr/lib64/perl5/vendor_perl -Darchname=x86_64-linux-thread-multi -Dlibpth=/usr/local/lib64 /lib64 /usr/lib64 -Duseshrplib -Dusethreads -Duseithreads -Dusedtrace=/usr/bin/dtrace -Duselargefiles -Dd_semctl_semun -Di_db -Ui_ndbm -Di_gdbm -Di_shadow -Di_syslog -Dman3ext=3pm -Duseperlio -Dinstallusrbinperl=n -Ubincompat5005 -Uversiononly -Dpager=/usr/bin/less -isr -Dd_gethostent_r_proto -Ud_endhostent_r_proto -Ud_sethostent_r_proto -Ud_endprotoent_r_proto -Ud_setprotoent_r_proto -Ud_endservent_r_proto -Ud_setservent_r_proto -Dscriptdir=/usr/bin -Dusesitecustomize'
    hint=recommended, useposix=true, d_sigaction=define
    useithreads=define, usemultiplicity=define
    useperlio=define, d_sfio=undef, uselargefiles=define, usesocks=undef
    use64bitint=define, use64bitall=define, uselongdouble=undef
    usemymalloc=n, bincompat5005=undef
  Compiler:
    cc='gcc', ccflags ='-D_REENTRANT -D_GNU_SOURCE -fno-strict-aliasing -pipe -fstack-protector -I/usr/local/include -D_LARGEFILE_SOURCE -D_FILE_OFFSET_BITS=64',
    optimize='-O2 -g -pipe -Wall -Wp,-D_FORTIFY_SOURCE=2 -fexceptions -fstack-protector-strong --param=ssp-buffer-size=4 -grecord-gcc-switches -m64 -mtune=generic',
    cppflags='-D_REENTRANT -D_GNU_SOURCE -fno-strict-aliasing -pipe -fstack-protector -I/usr/local/include'
    ccversion='', gccversion='4.8.5 20150623 (Red Hat 4.8.5-44)', gccosandvers=''
    intsize=4, longsize=8, ptrsize=8, doublesize=8, byteorder=12345678
    d_longlong=define, longlongsize=8, d_longdbl=define, longdblsize=16
    ivtype='long', ivsize=8, nvtype='double', nvsize=8, Off_t='off_t', lseeksize=8
    alignbytes=8, prototype=define
  Linker and Libraries:
    ld='gcc', ldflags =' -fstack-protector'
    libpth=/usr/local/lib64 /lib64 /usr/lib64
    libs=-lresolv -lnsl -lgdbm -ldb -ldl -lm -lcrypt -lutil -lpthread -lc -lgdbm_compat
    perllibs=-lresolv -lnsl -ldl -lm -lcrypt -lutil -lpthread -lc
    libc=, so=so, useshrplib=true, libperl=libperl.so
    gnulibc_version='2.17'
  Dynamic Linking:
    dlsrc=dl_dlopen.xs, dlext=so, d_dlsymun=undef, ccdlflags='-Wl,--enable-new-dtags -Wl,-rpath,/usr/lib64/perl5/CORE'
    cccdlflags='-fPIC', lddlflags='-shared -O2 -g -pipe -Wall -Wp,-D_FORTIFY_SOURCE=2 -fexceptions -fstack-protector-strong --param=ssp-buffer-size=4 -grecord-gcc-switches -m64 -mtune=generic -Wl,-z,relro '


Characteristics of this binary (from libperl): 
  Compile-time options: HAS_TIMES MULTIPLICITY PERLIO_LAYERS
                        PERL_DONT_CREATE_GVSV PERL_IMPLICIT_CONTEXT
                        PERL_MALLOC_WRAP PERL_PRESERVE_IVUV USE_64_BIT_ALL
                        USE_64_BIT_INT USE_ITHREADS USE_LARGE_FILES
                        USE_LOCALE USE_LOCALE_COLLATE USE_LOCALE_CTYPE
                        USE_LOCALE_NUMERIC USE_PERLIO USE_PERL_ATOF
                        USE_REENTRANT_API USE_SITECUSTOMIZE
  Locally applied patches:
	Fedora Patch1: Removes date check, Fedora/RHEL specific
	Fedora Patch3: support for libdir64
	Fedora Patch4: use libresolv instead of libbind
	Fedora Patch5: USE_MM_LD_RUN_PATH
	Fedora Patch6: Skip hostname tests, due to builders not being network capable
	Fedora Patch7: Dont run one io test due to random builder failures
	Fedora Patch9: Fix find2perl to translate ? glob properly (RT#113054)
	Fedora Patch10: Fix broken atof (RT#109318)
	Fedora Patch13: Clear $@ before "do" I/O error (RT#113730)
	Fedora Patch14: Do not truncate syscall() return value to 32 bits (RT#113980)
	Fedora Patch15: Override the Pod::Simple::parse_file (CPANRT#77530)
	Fedora Patch16: Do not leak with attribute on my variable (RT#114764)
	Fedora Patch17: Allow operator after numeric keyword argument (RT#105924)
	Fedora Patch18: Extend stack in File::Glob::glob, (RT#114984)
	Fedora Patch19: Do not crash when vivifying $|
	Fedora Patch20: Fix misparsing of maketext strings (CVE-2012-6329)
	Fedora Patch21: Add NAME headings to CPAN modules (CPANRT#73396)
	Fedora Patch22: Fix leaking tied hashes (RT#107000) [1]
	Fedora Patch23: Fix leaking tied hashes (RT#107000) [2]
	Fedora Patch24: Fix leaking tied hashes (RT#107000) [3]
	Fedora Patch25: Fix dead lock in PerlIO after fork from thread (RT#106212)
	Fedora Patch26: Make regexp safe in a signal handler (RT#114878)
	Fedora Patch27: Update h2ph(1) documentation (RT#117647)
	Fedora Patch28: Update pod2html(1) documentation (RT#117623)
	Fedora Patch29: Document Math::BigInt::CalcEmu requires Math::BigInt (CPAN RT#85015)
	RHEL Patch30: Use stronger algorithm needed for FIPS in t/op/crypt.t (RT#121591)
	RHEL Patch31: Make *DBM_File desctructors thread-safe (RT#61912)
	RHEL Patch32: Use stronger algorithm needed for FIPS in t/op/taint.t (RT#123338)
	RHEL Patch33: Remove CPU-speed-sensitive test in Benchmark test
	RHEL Patch34: Make File::Glob work with threads again
	RHEL Patch35: Fix CRLF conversion in ASCII FTP upload (CPAN RT#41642)
	RHEL Patch36: Do not leak the temp utf8 copy of namepv (CPAN RT#123786)
	RHEL Patch37: Fix duplicating PerlIO::encoding when spawning threads (RT#31923)
	RHEL Patch38: Add SSL support to Net::SMTP (CPAN RT#93823) [1]
	RHEL Patch39: Add SSL support to Net::SMTP (CPAN RT#93823) [2]
	RHEL Patch40: Add SSL support to Net::SMTP (CPAN RT#93823) [3]
	RHEL Patch41: Add SSL support to Net::SMTP (CPAN RT#93823) [4]
	RHEL Patch42: Do not overload ".." in Math::BigInt (CPAN RT#80182)
	RHEL Patch43: Fix CVE-2018-18311 Integer overflow leading to buffer overflow
	RHEL Patch44: Fix a spurious timeout in Net::FTP::close (CPAN RT#18504)
	RHEL Patch45: Fix day of year parsing (CPAN RT#88211)
	RHEL Patch47: Fix CVE-2020-12723 (GH#16947)
	RHEL Patch48: Fix CVE-2020-10543
	RHEL Patch49: Fix CVE-2020-10878
  Built under linux
  Compiled at Feb  2 2021 16:31:58
  %ENV:
    PERL5LIB="/home/cpansand/.cpan/build/2022080904/Text-ANSI-Fold-2.1301-652JwN/blib/arch:/home/cpansand/.cpan/build/2022080904/Text-ANSI-Fold-2.1301-652JwN/blib/lib:/home/cpansand/.cpan/build/2022080904/Text-VisualWidth-PP-0.05-RlDZSt/blib/arch:/home/cpansand/.cpan/build/2022080904/Text-VisualWidth-PP-0.05-RlDZSt/blib/lib:/home/cpansand/.cpan/build/2022080904/Unicode-EastAsianWidth-12.0-7Ghy1y/blib/arch:/home/cpansand/.cpan/build/2022080904/Unicode-EastAsianWidth-12.0-7Ghy1y/blib/lib:/home/cpansand/.cpan/build/2022080904/Scalar-List-Utils-1.63-4ZKbTX/blib/arch:/home/cpansand/.cpan/build/2022080904/Scalar-List-Utils-1.63-4ZKbTX/blib/lib:/home/cpansand/.cpan/build/2022080904/Module-Build-Tiny-0.039-NilLOh/blib/arch:/home/cpansand/.cpan/build/2022080904/Module-Build-Tiny-0.039-NilLOh/blib/lib:/home/cpansand/.cpan/build/2022080904/ExtUtils-InstallPaths-0.012-1aKi3G/blib/arch:/home/cpansand/.cpan/build/2022080904/ExtUtils-InstallPaths-0.012-1aKi3G/blib/lib:/home/cpansand/.cpan/build/2022080904/ExtUtils-Config-0.008-RjJPYd/blib/arch:/home/cpansand/.cpan/build/2022080904/ExtUtils-Config-0.008-RjJPYd/blib/lib:/home/cpansand/.cpan/build/2022080904/ExtUtils-Helpers-0.026-YzmeRK/blib/arch:/home/cpansand/.cpan/build/2022080904/ExtUtils-Helpers-0.026-YzmeRK/blib/lib:/home/cpansand/.cpan/build/2022080904/Test-Harness-3.44-LZD69Q/blib/arch:/home/cpansand/.cpan/build/2022080904/Test-Harness-3.44-LZD69Q/blib/lib"
    PERL5OPT=""
    PERL5_CPANPLUS_IS_RUNNING="5380"
    PERL5_CPAN_IS_RUNNING="5380"
    PERL5_CPAN_IS_RUNNING_IN_RECURSION="21739,5380"
    PERLDOC="-MPod::Perldoc::ToTextOverstrike"
    PERL_BATCH="yes"
    PERL_CANARY_STABILITY_NOPROMPT="1"
    PERL_CPAN_REPORTER_CONFIG="/var/tmp/cpansmoker-1023/2022080903/cpanreporter_000_config.ini"
    PERL_EXTUTILS_AUTOINSTALL="--defaultdeps"
  @INC:
    /home/cpansand/.cpan/build/2022080904/Text-ANSI-Fold-2.1301-652JwN/blib/arch
    /home/cpansand/.cpan/build/2022080904/Text-ANSI-Fold-2.1301-652JwN/blib/lib
    /home/cpansand/.cpan/build/2022080904/Text-VisualWidth-PP-0.05-RlDZSt/blib/arch
    /home/cpansand/.cpan/build/2022080904/Text-VisualWidth-PP-0.05-RlDZSt/blib/lib
    /home/cpansand/.cpan/build/2022080904/Unicode-EastAsianWidth-12.0-7Ghy1y/blib/arch
    /home/cpansand/.cpan/build/2022080904/Unicode-EastAsianWidth-12.0-7Ghy1y/blib/lib
    /home/cpansand/.cpan/build/2022080904/Scalar-List-Utils-1.63-4ZKbTX/blib/arch
    /home/cpansand/.cpan/build/2022080904/Scalar-List-Utils-1.63-4ZKbTX/blib/lib
    /home/cpansand/.cpan/build/2022080904/Module-Build-Tiny-0.039-NilLOh/blib/arch
    /home/cpansand/.cpan/build/2022080904/Module-Build-Tiny-0.039-NilLOh/blib/lib
    /home/cpansand/.cpan/build/2022080904/ExtUtils-InstallPaths-0.012-1aKi3G/blib/arch
    /home/cpansand/.cpan/build/2022080904/ExtUtils-InstallPaths-0.012-1aKi3G/blib/lib
    /home/cpansand/.cpan/build/2022080904/ExtUtils-Config-0.008-RjJPYd/blib/arch
    /home/cpansand/.cpan/build/2022080904/ExtUtils-Config-0.008-RjJPYd/blib/lib
    /home/cpansand/.cpan/build/2022080904/ExtUtils-Helpers-0.026-YzmeRK/blib/arch
    /home/cpansand/.cpan/build/2022080904/ExtUtils-Helpers-0.026-YzmeRK/blib/lib
    /home/cpansand/.cpan/build/2022080904/Test-Harness-3.44-LZD69Q/blib/arch
    /home/cpansand/.cpan/build/2022080904/Test-Harness-3.44-LZD69Q/blib/lib
    /usr/local/lib64/perl5
    /usr/local/share/perl5
    /usr/lib64/perl5/vendor_perl
    /usr/share/perl5/vendor_perl
    /usr/lib64/perl5
    /usr/share/perl5
    .