Encode v3.20 Perl 5 v5.20.2 amd64-freebsd-thread-multi

Status
Pass
From
Slaven Rezić
Dist
Encode v3.20
Platform
Perl 5 v5.20.2 amd64-freebsd-thread-multi
Date
2024-01-02 19:38:36
ID
85ade452-a9a6-11ee-b42d-a9ec6d8775ea
This distribution has been tested as part of the CPAN Testers
project, supporting the Perl programming language.  See
http://wiki.cpantesters.org/ for more information or email
questions to cpan-testers-discuss@perl.org


--
Dear Dan Kogai,

This is a computer-generated report for Encode-3.20
on perl 5.20.2, created by CPAN-Reporter-1.2011.

Thank you for uploading your work to CPAN.  Congratulations!
All tests were successful.

Sections of this report:

    * Tester comments
    * Program output
    * Prerequisites
    * Environment and other context

------------------------------
TESTER COMMENTS
------------------------------

Additional comments from tester:

none provided

------------------------------
PROGRAM OUTPUT
------------------------------

Output from '/usr/bin/make test':

Running Mkbootstrap for Encode ()
chmod 644 Encode.bs
Running Mkbootstrap for Encode::Byte ()
chmod 644 Byte.bs
Running Mkbootstrap for Encode::CN ()
chmod 644 CN.bs
Running Mkbootstrap for Encode::EBCDIC ()
chmod 644 EBCDIC.bs
Running Mkbootstrap for Encode::JP ()
chmod 644 JP.bs
Running Mkbootstrap for Encode::KR ()
chmod 644 KR.bs
Running Mkbootstrap for Encode::Symbol ()
chmod 644 Symbol.bs
Running Mkbootstrap for Encode::TW ()
chmod 644 TW.bs
Running Mkbootstrap for Encode::Unicode ()
chmod 644 Unicode.bs
PERL_DL_NONLAZY=1 /usr/local/bin/perl5 "-MExtUtils::Command::MM" "-MTest::Harness" "-e" "undef *Test::Harness::Switches; test_harness(0, 'blib/lib', 'blib/arch')" t/*.t
t/Aliases.t ................ ok
t/at-cn.t .................. ok
t/at-tw.t .................. ok
t/CJKT.t ................... ok
t/cow.t .................... ok
t/decode.t ................. ok
t/enc_data.t ............... ok
t/enc_eucjp.t .............. ok
t/enc_module.t ............. ok
t/enc_utf8.t ............... ok
t/Encode.t ................. ok
t/Encoder.t ................ ok
t/encoding-locale.t ........ ok
t/encoding.t ............... ok
t/fallback.t ............... ok
t/from_to.t ................ ok
t/grow.t ................... ok
t/gsm0338.t ................ ok
t/guess.t .................. ok
t/isa.t .................... ok
t/jis7-fallback.t .......... ok
t/jperl.t .................. ok
t/magic.t .................. ok
t/mime-header.t ............ ok
t/mime-name.t .............. ok
t/mime_header_iso2022jp.t .. ok
t/perlio.t ................. ok
t/piconv.t ................. ok
t/rt113164.t ............... ok
t/rt65541.t ................ ok
t/rt76824.t ................ ok
t/rt85489.t ................ ok
t/rt86327.t ................ ok
t/taint.t .................. ok
t/truncated_utf8.t ......... ok
t/undef.t .................. ok
t/Unicode.t ................ ok
t/Unicode_trailing_nul.t ... ok
t/use-Encode-Alias.t ....... ok
t/utf32warnings.t .......... ok
t/utf8ref.t ................ ok
t/utf8strict.t ............. ok
t/utf8warnings.t ........... ok
t/whatwg-aliases.t ......... skipped: For maintainers only
t/xml.t .................... ok
All tests successful.

Test Summary Report
-------------------
t/truncated_utf8.t       (Wstat: 0 Tests: 9 Failed: 0)
  TODO passed:   9
Files=45, Tests=7836, 24 wallclock secs ( 0.59 usr  0.18 sys +  6.44 cusr  1.14 csys =  8.35 CPU)
Result: PASS
No tests defined for Encode::Byte extension.
No tests defined for Encode::CN extension.
No tests defined for Encode::EBCDIC extension.
No tests defined for Encode::JP extension.
No tests defined for Encode::KR extension.
No tests defined for Encode::Symbol extension.
No tests defined for Encode::TW extension.
No tests defined for Encode::Unicode extension.

------------------------------
PREREQUISITES
------------------------------

Prerequisite modules loaded:

requires:

    Module              Need  Have    
    ------------------- ----- --------
    Exporter            5.57  5.71    
    parent              0.221 0.228   
    Storable            0     2.49_01 

build_requires:

    Module              Need  Have    
    ------------------- ----- --------
    ExtUtils::MakeMaker 0     6.98    
    Test::More          0.92  1.302198

configure_requires:

    Module              Need  Have    
    ------------------- ----- --------
    ExtUtils::MakeMaker 0     6.98    


------------------------------
ENVIRONMENT AND OTHER CONTEXT
------------------------------

Environment variables:

    LC_ALL = de_DE.ISO8859-1
    PATH = /usr/local/bin:/usr/bin:/bin:/usr/local/sbin:/usr/sbin:/sbin:/home/cpansand/bin/freebsd9.3:/home/cpansand/bin/sh:/home/cpansand/bin:/usr/games:/home/cpansand/devel:/usr/home/eserte/src/srezic-misc/scripts
    PERL5LIB = /home/cpansand/.cpan/build/2024010219/Data-Dumper-2.183-BYJz4Y/blib/arch:/home/cpansand/.cpan/build/2024010219/Data-Dumper-2.183-BYJz4Y/blib/lib:/home/cpansand/.cpan/build/2024010219/Perl-Tidy-20230912-jEiWi5/blib/arch:/home/cpansand/.cpan/build/2024010219/Perl-Tidy-20230912-jEiWi5/blib/lib:/home/cpansand/.cpan/build/2024010219/Test-Simple-1.302198-_QqOOa/blib/arch:/home/cpansand/.cpan/build/2024010219/Test-Simple-1.302198-_QqOOa/blib/lib:/home/cpansand/.cpan/build/2024010219/Data-Peek-0.52-kKnjob/blib/arch:/home/cpansand/.cpan/build/2024010219/Data-Peek-0.52-kKnjob/blib/lib:/home/cpansand/.cpan/build/2024010219/Test-Warnings-0.032-HYxSZJ/blib/arch:/home/cpansand/.cpan/build/2024010219/Test-Warnings-0.032-HYxSZJ/blib/lib:/home/cpansand/.cpan/build/2024010219/Spreadsheet-Read-0.89-u8VoPE/blib/arch:/home/cpansand/.cpan/build/2024010219/Spreadsheet-Read-0.89-u8VoPE/blib/lib
    PERL5OPT = 
    PERL5_CPANPLUS_IS_RUNNING = 23712
    PERL5_CPAN_IS_RUNNING = 23712
    PERL5_CPAN_IS_RUNNING_IN_RECURSION = 23669,23712
    PERLDOC = -MPod::Perldoc::ToTextOverstrike
    PERL_BATCH = yes
    PERL_CANARY_STABILITY_NOPROMPT = 1
    PERL_CPAN_REPORTER_CONFIG = /var/tmp/cpansmoker-1023/2024010219/cpanreporter_001_config.ini
    PERL_EXTUTILS_AUTOINSTALL = --defaultdeps
    SHELL = /usr/local/bin/zsh
    TERM = screen
    TMPDIR = /var/tmp/cpansmoker-1023/2024010219

Perl special variables (and OS-specific diagnostics, for MSWin32):

    $^X = /usr/local/bin/perl5
    $UID/$EUID = 1023 / 1023
    $GID = 1023 1023
    $EGID = 1023 1023

Perl module toolchain versions installed:

    Module              Have    
    ------------------- --------
    CPAN                2.05    
    CPAN::Meta          2.140640
    Cwd                 3.48_01 
    ExtUtils::CBuilder  0.280217
    ExtUtils::Command   1.18    
    ExtUtils::Install   1.67    
    ExtUtils::MakeMaker 6.98    
    ExtUtils::Manifest  1.63    
    ExtUtils::ParseXS   3.24    
    File::Spec          3.48_01 
    JSON                2.90    
    JSON::PP            2.27203 
    Module::Build       0.4205  
    Module::Signature   n/a     
    Parse::CPAN::Meta   1.4414  
    Test::Harness       3.30    
    Test::More          1.302198
    YAML                1.14    
    YAML::Syck          1.27    
    version             0.9912  


--

Summary of my perl5 (revision 5 version 20 subversion 2) configuration:
   
  Platform:
    osname=freebsd, osvers=9.3-release-p13, archname=amd64-freebsd-thread-multi
    uname='freebsd 93amd64-default-job-01 9.3-release-p13 freebsd 9.3-release-p13 amd64 '
    config_args='-sde -Dprefix=/usr/local -Dlibperl=libperl.so.5.20.2 -Darchlib=/usr/local/lib/perl5/5.20/mach -Dprivlib=/usr/local/lib/perl5/5.20 -Dman3dir=/usr/local/lib/perl5/5.20/perl/man/man3 -Dman1dir=/usr/local/man/man1 -Dsitearch=/usr/local/lib/perl5/site_perl/mach/5.20 -Dsitelib=/usr/local/lib/perl5/site_perl -Dscriptdir=/usr/local/bin -Dsiteman3dir=/usr/local/lib/perl5/site_perl/man/man3 -Dsiteman1dir=/usr/local/man/man1 -Ui_malloc -Ui_iconv -Uinstallusrbinperl -Dusenm=n -Dcc=cc -Duseshrplib -Dinc_version_list=none -Dcf_by=perl -Dcf_email=perl@FreeBSD.org -Dcf_time=Sat Feb 14 18:26:43 UTC 2015 -Alddlflags=-L/wrkdirs/usr/ports/lang/perl5.20/work/perl-5.20.2 -L/usr/local/lib/perl5/5.20/mach/CORE -Wl,-rpath=/usr/local/lib/perl5/5.20/mach/CORE -lperl -Dshrpldflags=$(LDDLFLAGS:N-L/wrkdirs/usr/ports/lang/perl5.20/work/perl-5.20.2:N-L/usr/local/lib/perl5/5.20/mach/CORE:N-Wl,-rpath=/usr/local/lib/perl5/5.20/mach/CORE:N-lperl) -Wl,-soname,$(LIBPERL:R) -Dotherlibdirs=/usr/local/lib/perl5/site_perl/5.20:/usr/local/lib/perl5/site_perl/5.20/mach -Doptimize=-O2 -pipe -fstack-protector -fno-strict-aliasing -Ui_gdbm -Dusemultiplicity=y -Duse64bitint -Dusethreads=y -Dusemymalloc=n'
    hint=recommended, useposix=true, d_sigaction=define
    useithreads=define, usemultiplicity=define
    use64bitint=define, use64bitall=define, uselongdouble=undef
    usemymalloc=n, bincompat5005=undef
  Compiler:
    cc='cc', ccflags ='-DHAS_FPSETMASK -DHAS_FLOATINGPOINT_H -fno-strict-aliasing -pipe -fstack-protector -I/usr/local/include',
    optimize='-O2 -pipe -fstack-protector -fno-strict-aliasing',
    cppflags='-DHAS_FPSETMASK -DHAS_FLOATINGPOINT_H -fno-strict-aliasing -pipe -fstack-protector -I/usr/local/include'
    ccversion='', gccversion='4.2.1 20070831 patched [FreeBSD]', gccosandvers=''
    intsize=4, longsize=8, ptrsize=8, doublesize=8, byteorder=12345678
    d_longlong=define, longlongsize=8, d_longdbl=define, longdblsize=16
    ivtype='long', ivsize=8, nvtype='double', nvsize=8, Off_t='off_t', lseeksize=8
    alignbytes=8, prototype=define
  Linker and Libraries:
    ld='cc', ldflags ='-lpthread -Wl,-E  -fstack-protector -L/usr/local/lib'
    libpth=/usr/lib /usr/local/lib /usr/include/gcc/4.2 /usr/lib
    libs=-lm -lcrypt -lutil
    perllibs=-lm -lcrypt -lutil
    libc=, so=so, useshrplib=true, libperl=libperl.so.5.20.2
    gnulibc_version=''
  Dynamic Linking:
    dlsrc=dl_dlopen.xs, dlext=so, d_dlsymun=undef, ccdlflags='  -Wl,-R/usr/local/lib/perl5/5.20/mach/CORE'
    cccdlflags='-DPIC -fPIC', lddlflags='-shared  -L/wrkdirs/usr/ports/lang/perl5.20/work/perl-5.20.2 -L/usr/local/lib/perl5/5.20/mach/CORE -Wl,-rpath=/usr/local/lib/perl5/5.20/mach/CORE -lperl -L/usr/local/lib -fstack-protector'


Characteristics of this binary (from libperl): 
  Compile-time options: HAS_TIMES MULTIPLICITY PERLIO_LAYERS
                        PERL_DONT_CREATE_GVSV
                        PERL_HASH_FUNC_ONE_AT_A_TIME_HARD
                        PERL_IMPLICIT_CONTEXT PERL_MALLOC_WRAP
                        PERL_NEW_COPY_ON_WRITE PERL_PRESERVE_IVUV
                        USE_64_BIT_ALL USE_64_BIT_INT USE_ITHREADS
                        USE_LARGE_FILES USE_LOCALE USE_LOCALE_COLLATE
                        USE_LOCALE_CTYPE USE_LOCALE_NUMERIC USE_PERLIO
                        USE_PERL_ATOF USE_REENTRANT_API
  Built under freebsd
  %ENV:
    PERL5LIB="/home/cpansand/.cpan/build/2024010219/Data-Dumper-2.183-BYJz4Y/blib/arch:/home/cpansand/.cpan/build/2024010219/Data-Dumper-2.183-BYJz4Y/blib/lib:/home/cpansand/.cpan/build/2024010219/Perl-Tidy-20230912-jEiWi5/blib/arch:/home/cpansand/.cpan/build/2024010219/Perl-Tidy-20230912-jEiWi5/blib/lib:/home/cpansand/.cpan/build/2024010219/Test-Simple-1.302198-_QqOOa/blib/arch:/home/cpansand/.cpan/build/2024010219/Test-Simple-1.302198-_QqOOa/blib/lib:/home/cpansand/.cpan/build/2024010219/Data-Peek-0.52-kKnjob/blib/arch:/home/cpansand/.cpan/build/2024010219/Data-Peek-0.52-kKnjob/blib/lib:/home/cpansand/.cpan/build/2024010219/Test-Warnings-0.032-HYxSZJ/blib/arch:/home/cpansand/.cpan/build/2024010219/Test-Warnings-0.032-HYxSZJ/blib/lib:/home/cpansand/.cpan/build/2024010219/Spreadsheet-Read-0.89-u8VoPE/blib/arch:/home/cpansand/.cpan/build/2024010219/Spreadsheet-Read-0.89-u8VoPE/blib/lib"
    PERL5OPT=""
    PERL5_CPANPLUS_IS_RUNNING="23712"
    PERL5_CPAN_IS_RUNNING="23712"
    PERL5_CPAN_IS_RUNNING_IN_RECURSION="23669,23712"
    PERLDOC="-MPod::Perldoc::ToTextOverstrike"
    PERL_BATCH="yes"
    PERL_CANARY_STABILITY_NOPROMPT="1"
    PERL_CPAN_REPORTER_CONFIG="/var/tmp/cpansmoker-1023/2024010219/cpanreporter_001_config.ini"
    PERL_EXTUTILS_AUTOINSTALL="--defaultdeps"
  @INC:
    /home/cpansand/.cpan/build/2024010219/Data-Dumper-2.183-BYJz4Y/blib/arch
    /home/cpansand/.cpan/build/2024010219/Data-Dumper-2.183-BYJz4Y/blib/lib
    /home/cpansand/.cpan/build/2024010219/Perl-Tidy-20230912-jEiWi5/blib/arch
    /home/cpansand/.cpan/build/2024010219/Perl-Tidy-20230912-jEiWi5/blib/lib
    /home/cpansand/.cpan/build/2024010219/Test-Simple-1.302198-_QqOOa/blib/arch
    /home/cpansand/.cpan/build/2024010219/Test-Simple-1.302198-_QqOOa/blib/lib
    /home/cpansand/.cpan/build/2024010219/Data-Peek-0.52-kKnjob/blib/arch
    /home/cpansand/.cpan/build/2024010219/Data-Peek-0.52-kKnjob/blib/lib
    /home/cpansand/.cpan/build/2024010219/Test-Warnings-0.032-HYxSZJ/blib/arch
    /home/cpansand/.cpan/build/2024010219/Test-Warnings-0.032-HYxSZJ/blib/lib
    /home/cpansand/.cpan/build/2024010219/Spreadsheet-Read-0.89-u8VoPE/blib/arch
    /home/cpansand/.cpan/build/2024010219/Spreadsheet-Read-0.89-u8VoPE/blib/lib
    /usr/local/lib/perl5/site_perl/mach/5.20
    /usr/local/lib/perl5/site_perl
    /usr/local/lib/perl5/5.20/mach
    /usr/local/lib/perl5/5.20
    /usr/local/lib/perl5/site_perl/5.20
    /usr/local/lib/perl5/site_perl/5.20/mach
    .