Import-Base v1.004 Perl 5 v5.12.3 x86_64-linux

Status
Pass
From
Slaven Rezić
Dist
Import-Base v1.004
Platform
Perl 5 v5.12.3 x86_64-linux
Date
2023-09-25 14:19:21
ID
853ad566-5bae-11ee-ae2d-8d2c6e8775ea
This distribution has been tested as part of the CPAN Testers
project, supporting the Perl programming language.  See
http://wiki.cpantesters.org/ for more information or email
questions to cpan-testers-discuss@perl.org


--
Dear Doug Bell,

This is a computer-generated report for Import-Base-1.004
on perl 5.12.3, created by CPAN-Reporter-1.2018.

Thank you for uploading your work to CPAN.  Congratulations!
All tests were successful.

Sections of this report:

    * Tester comments
    * Program output
    * Prerequisites
    * Environment and other context

------------------------------
TESTER COMMENTS
------------------------------

Additional comments from tester:

none provided

------------------------------
PROGRAM OUTPUT
------------------------------

Output from '/usr/bin/make test':

PERL_DL_NONLAZY=1 "/opt/perl-5.12.3d/bin/perl" "-MExtUtils::Command::MM" "-MTest::Harness" "-e" "undef *Test::Harness::Switches; test_harness(0, 'blib/lib', 'blib/arch')" t/*.t t/use-case/*.t
t/00-compile.t ......... ok
# 
# Versions for all modules listed in MYMETA.json (including optional ones):
# 
# === Configure Requires ===
# 
#     Module              Want Have
#     ------------------- ---- ----
#     ExtUtils::MakeMaker  any 7.64
# 
# === Build Requires ===
# 
#     Module              Want Have
#     ------------------- ---- ----
#     ExtUtils::MakeMaker  any 7.64
# 
# === Test Requires ===
# 
#     Module              Want     Have
#     ------------------- ---- --------
#     Carp                 any     1.50
#     ExtUtils::MakeMaker  any     7.64
#     File::Spec           any  3.31_01
#     IO::Handle           any     1.28
#     IPC::Open3           any     1.05
#     Test::More           any 1.302188
# 
# === Test Recommends ===
# 
#     Module         Want     Have
#     ---------- -------- --------
#     CPAN::Meta 2.120900 2.143240
# 
# === Runtime Requires ===
# 
#     Module              Want     Have
#     --------------- -------- --------
#     Import::Into    1.002005 1.002005
#     Module::Runtime      any    0.016
#     mro                  any     1.02
#     strict               any     1.04
#     warnings             any     1.09
# 
t/00-report-prereqs.t .. ok
t/base.t ............... ok
t/exclude.t ............ ok
t/export.t ............. ok
t/order.t .............. ok
t/runtime.t ............ ok
t/subrefs.t ............ ok
t/use-case/dancer2.t ... skipped: Test requires Dancer2 >= 0.166001_01
t/use-case/moo.t ....... ok
t/version.t ............ ok
All tests successful.
Files=11, Tests=17,  0 wallclock secs ( 0.04 usr  0.00 sys +  0.53 cusr  0.07 csys =  0.64 CPU)
Result: PASS

------------------------------
PREREQUISITES
------------------------------

Prerequisite modules loaded:

requires:

    Module              Need     Have    
    ------------------- -------- --------
    Import::Into        1.002005 1.002005
    Module::Runtime     0        0.016   
    mro                 0        1.02    
    perl                5.010    5.012003
    strict              0        1.04    
    warnings            0        1.09    

build_requires:

    Module              Need     Have    
    ------------------- -------- --------
    Carp                0        1.50    
    ExtUtils::MakeMaker 0        7.64    
    File::Spec          0        3.31_01 
    IO::Handle          0        1.28    
    IPC::Open3          0        1.05    
    Test::More          0        1.302188

configure_requires:

    Module              Need     Have    
    ------------------- -------- --------
    ExtUtils::MakeMaker 0        7.64    


------------------------------
ENVIRONMENT AND OTHER CONTEXT
------------------------------

Environment variables:

    LANG = de_DE.UTF-8
    LANGUAGE = de_DE
    PATH = /usr/angebote/perlroot/bin:/usr/local/bin:/usr/bin:/bin:/usr/local/sbin:/usr/sbin:/sbin:/home/slaven_rezic/bin/linux-gnu:/home/slaven_rezic/bin/sh:/home/slaven_rezic/bin:/home/slaven_rezic/bin/pistachio-perl/bin:/usr/games:/home/slaven_rezic/devel:/home/slaven_rezic/work/drafts-slaven.rezic/misc:/home/slaven_rezic/work2/fzf/bin:/home/slaven_rezic/src/srezic-misc/scripts
    PERL5LIB = /home/slaven_rezic/.cpan/build/2023092515/IO-Interactive-1.025-7/blib/arch:/home/slaven_rezic/.cpan/build/2023092515/IO-Interactive-1.025-7/blib/lib:/home/slaven_rezic/.cpan/build/2023092515/Test-Refcount-0.10-5/blib/arch:/home/slaven_rezic/.cpan/build/2023092515/Test-Refcount-0.10-5/blib/lib:/home/slaven_rezic/.cpan/build/2023092515/Test-Identity-0.01-1/blib/arch:/home/slaven_rezic/.cpan/build/2023092515/Test-Identity-0.01-1/blib/lib:/home/slaven_rezic/.cpan/build/2023092515/Struct-Dumb-0.14-0/blib/arch:/home/slaven_rezic/.cpan/build/2023092515/Struct-Dumb-0.14-0/blib/lib:/home/slaven_rezic/.cpan/build/2023092515/Hash-Merge-Simple-0.051-0/blib/arch:/home/slaven_rezic/.cpan/build/2023092515/Hash-Merge-Simple-0.051-0/blib/lib:/home/slaven_rezic/.cpan/build/2023092515/Test-Most-0.38-0/blib/arch:/home/slaven_rezic/.cpan/build/2023092515/Test-Most-0.38-0/blib/lib:/home/slaven_rezic/.cpan/build/2023092515/Test2-Suite-0.000156-8/blib/arch:/home/slaven_rezic/.cpan/build/2023092515/Test2-Suite-0.000156-8/blib/lib:/home/slaven_rezic/.cpan/build/2023092515/Dir-Self-0.11-7/blib/arch:/home/slaven_rezic/.cpan/build/2023092515/Dir-Self-0.11-7/blib/lib:/home/slaven_rezic/work/perl/lib/lib:/home/slaven_rezic/work/perl/lib-old/perl
    PERL5OPT = 
    PERL5_CPANPLUS_IS_RUNNING = 595740
    PERL5_CPAN_IS_RUNNING = 595740
    PERL5_CPAN_IS_RUNNING_IN_RECURSION = 575582,595740
    PERLDOC = -MPod::Perldoc::ToTextOverstrike
    PERL_BATCH = yes
    PERL_CANARY_STABILITY_NOPROMPT = 1
    PERL_CPAN_REPORTER_CONFIG = /var/tmp/cpansmoker-1000/2023092515/cpanreporter_000_config.ini
    PERL_EXTUTILS_AUTOINSTALL = --defaultdeps
    PERL_USE_UNSAFE_INC = 1
    SHELL = /bin/zsh
    STDPERL = /home/slaven_rezic/bin/pistachio-perl/bin/perl
    TERM = screen
    TMPDIR = /var/tmp/cpansmoker-1000/2023092515

Perl special variables (and OS-specific diagnostics, for MSWin32):

    $^X = /opt/perl-5.12.3d/bin/perl
    $UID/$EUID = 1000 / 1000
    $GID = 1000 4 24 27 30 46 121 131 132 135 138 1000 1002
    $EGID = 1000 4 24 27 30 46 121 131 132 135 138 1000 1002

Perl module toolchain versions installed:

    Module              Have    
    ------------------- --------
    CPAN                2.29    
    CPAN::Meta          2.143240
    Cwd                 3.31    
    ExtUtils::CBuilder  0.27    
    ExtUtils::Command   7.64    
    ExtUtils::Install   2.06    
    ExtUtils::MakeMaker 7.64    
    ExtUtils::Manifest  1.70    
    ExtUtils::ParseXS   3.44    
    File::Spec          3.31_01 
    JSON                4.05    
    JSON::PP            4.07    
    Module::Build       0.4231  
    Module::Signature   n/a     
    Parse::CPAN::Meta   1.4414  
    Test::Harness       3.42    
    Test::More          1.302188
    YAML                1.30    
    YAML::Syck          1.34    
    version             0.9929  


--

Summary of my perl5 (revision 5 version 12 subversion 3) configuration:
   
  Platform:
    osname=linux, osvers=5.13.0-28-generic, archname=x86_64-linux
    uname='linux slaven-rezic-thinkpad-t14s-gen-1 5.13.0-28-generic #31~20.04.1-ubuntu smp wed jan 19 14:08:10 utc 2022 x86_64 x86_64 x86_64 gnulinux '
    config_args='-ds -e -Dprefix=/opt/perl-5.12.3d -DDEBUGGING -Dcf_email=srezic@cpan.org'
    hint=recommended, useposix=true, d_sigaction=define
    useithreads=undef, usemultiplicity=undef
    useperlio=define, d_sfio=undef, uselargefiles=define, usesocks=undef
    use64bitint=define, use64bitall=define, uselongdouble=undef
    usemymalloc=n, bincompat5005=undef
  Compiler:
    cc='cc', ccflags ='-fwrapv -DDEBUGGING -fno-strict-aliasing -pipe -fstack-protector -I/usr/local/include -D_LARGEFILE_SOURCE -D_FILE_OFFSET_BITS=64',
    optimize='-O2 -g',
    cppflags='-fwrapv -DDEBUGGING -fno-strict-aliasing -pipe -fstack-protector -I/usr/local/include'
    ccversion='', gccversion='9.3.0', gccosandvers=''
    intsize=4, longsize=8, ptrsize=8, doublesize=8, byteorder=12345678
    d_longlong=define, longlongsize=8, d_longdbl=define, longdblsize=16
    ivtype='long', ivsize=8, nvtype='double', nvsize=8, Off_t='off_t', lseeksize=8
    alignbytes=8, prototype=define
  Linker and Libraries:
    ld='cc', ldflags =' -fstack-protector -L/usr/local/lib'
    libpth=/usr/local/lib /lib/x86_64-linux-gnu /lib/../lib /usr/lib/x86_64-linux-gnu /usr/lib/../lib /lib /usr/lib /lib64 /usr/lib64
    libs=-lnsl -lgdbm -ldb -ldl -lm -lcrypt -lutil -lc
    perllibs=-lnsl -ldl -lm -lcrypt -lutil -lc
    libc=libc-2.31.so, so=so, useshrplib=false, libperl=libperl.a
    gnulibc_version='2.31'
  Dynamic Linking:
    dlsrc=dl_dlopen.xs, dlext=so, d_dlsymun=undef, ccdlflags='-Wl,-E'
    cccdlflags='-fPIC', lddlflags='-shared -O2 -g -L/usr/local/lib -fstack-protector'


Characteristics of this binary (from libperl): 
  Compile-time options: DEBUGGING PERL_DONT_CREATE_GVSV PERL_MALLOC_WRAP
                        USE_64_BIT_ALL USE_64_BIT_INT USE_LARGE_FILES
                        USE_PERLIO USE_PERL_ATOF
  Locally applied patches:
	Devel::PatchPerl 2.00
  Built under linux
  Compiled at Feb 17 2022 15:18:05
  %ENV:
    PERL5LIB="/home/slaven_rezic/.cpan/build/2023092515/IO-Interactive-1.025-7/blib/arch:/home/slaven_rezic/.cpan/build/2023092515/IO-Interactive-1.025-7/blib/lib:/home/slaven_rezic/.cpan/build/2023092515/Test-Refcount-0.10-5/blib/arch:/home/slaven_rezic/.cpan/build/2023092515/Test-Refcount-0.10-5/blib/lib:/home/slaven_rezic/.cpan/build/2023092515/Test-Identity-0.01-1/blib/arch:/home/slaven_rezic/.cpan/build/2023092515/Test-Identity-0.01-1/blib/lib:/home/slaven_rezic/.cpan/build/2023092515/Struct-Dumb-0.14-0/blib/arch:/home/slaven_rezic/.cpan/build/2023092515/Struct-Dumb-0.14-0/blib/lib:/home/slaven_rezic/.cpan/build/2023092515/Hash-Merge-Simple-0.051-0/blib/arch:/home/slaven_rezic/.cpan/build/2023092515/Hash-Merge-Simple-0.051-0/blib/lib:/home/slaven_rezic/.cpan/build/2023092515/Test-Most-0.38-0/blib/arch:/home/slaven_rezic/.cpan/build/2023092515/Test-Most-0.38-0/blib/lib:/home/slaven_rezic/.cpan/build/2023092515/Test2-Suite-0.000156-8/blib/arch:/home/slaven_rezic/.cpan/build/2023092515/Test2-Suite-0.000156-8/blib/lib:/home/slaven_rezic/.cpan/build/2023092515/Dir-Self-0.11-7/blib/arch:/home/slaven_rezic/.cpan/build/2023092515/Dir-Self-0.11-7/blib/lib:/home/slaven_rezic/work/perl/lib/lib:/home/slaven_rezic/work/perl/lib-old/perl"
    PERL5OPT=""
    PERL5_CPANPLUS_IS_RUNNING="595740"
    PERL5_CPAN_IS_RUNNING="595740"
    PERL5_CPAN_IS_RUNNING_IN_RECURSION="575582,595740"
    PERLDOC="-MPod::Perldoc::ToTextOverstrike"
    PERL_BATCH="yes"
    PERL_CANARY_STABILITY_NOPROMPT="1"
    PERL_CPAN_REPORTER_CONFIG="/var/tmp/cpansmoker-1000/2023092515/cpanreporter_000_config.ini"
    PERL_EXTUTILS_AUTOINSTALL="--defaultdeps"
    PERL_USE_UNSAFE_INC="1"
  @INC:
    /home/slaven_rezic/.cpan/build/2023092515/IO-Interactive-1.025-7/blib/arch
    /home/slaven_rezic/.cpan/build/2023092515/IO-Interactive-1.025-7/blib/lib
    /home/slaven_rezic/.cpan/build/2023092515/Test-Refcount-0.10-5/blib/arch
    /home/slaven_rezic/.cpan/build/2023092515/Test-Refcount-0.10-5/blib/lib
    /home/slaven_rezic/.cpan/build/2023092515/Test-Identity-0.01-1/blib/arch
    /home/slaven_rezic/.cpan/build/2023092515/Test-Identity-0.01-1/blib/lib
    /home/slaven_rezic/.cpan/build/2023092515/Struct-Dumb-0.14-0/blib/arch
    /home/slaven_rezic/.cpan/build/2023092515/Struct-Dumb-0.14-0/blib/lib
    /home/slaven_rezic/.cpan/build/2023092515/Hash-Merge-Simple-0.051-0/blib/arch
    /home/slaven_rezic/.cpan/build/2023092515/Hash-Merge-Simple-0.051-0/blib/lib
    /home/slaven_rezic/.cpan/build/2023092515/Test-Most-0.38-0/blib/arch
    /home/slaven_rezic/.cpan/build/2023092515/Test-Most-0.38-0/blib/lib
    /home/slaven_rezic/.cpan/build/2023092515/Test2-Suite-0.000156-8/blib/arch
    /home/slaven_rezic/.cpan/build/2023092515/Test2-Suite-0.000156-8/blib/lib
    /home/slaven_rezic/.cpan/build/2023092515/Dir-Self-0.11-7/blib/arch
    /home/slaven_rezic/.cpan/build/2023092515/Dir-Self-0.11-7/blib/lib
    /home/slaven_rezic/work/perl/lib/lib
    /home/slaven_rezic/work/perl/lib-old/perl
    /opt/perl-5.12.3d/lib/site_perl/5.12.3/x86_64-linux
    /opt/perl-5.12.3d/lib/site_perl/5.12.3
    /opt/perl-5.12.3d/lib/5.12.3/x86_64-linux
    /opt/perl-5.12.3d/lib/5.12.3
    .