Encode v3.16 Perl 5 v5.32.1 x86_64-linux
- Status
- Pass
- From
- Ioan Rogers
- Dist
-
Encode v3.16
- Platform
- Perl 5 v5.32.1 x86_64-linux
- Date
- 2021-12-29 20:11:34
- ID
- 852caffa-68e3-11ec-bb31-33b5024ab0ca
This distribution has been tested as part of the CPAN Testers
project, supporting the Perl programming language. See
http://wiki.cpantesters.org/ for more information or email
questions to cpan-testers-discuss@perl.org
--
Dear DANKOGAI,
This is a computer-generated report for Encode-3.16
on perl 5.32.1, created by App::cpanminus::reporter 0.17 (1.7044).
Thank you for uploading your work to CPAN. Congratulations!
All tests were successful.
Sections of this report:
* Tester comments
* Program output
* Prerequisites
* Environment and other context
------------------------------
TESTER COMMENTS
------------------------------
Additional comments from tester:
none provided
------------------------------
PROGRAM OUTPUT
------------------------------
Output from '':
Running Makefile.PL
Checking if your kit is complete...
Looks good
Generating a Unix-style Makefile
Writing Makefile for Term::Choose
Writing MYMETA.yml and MYMETA.json
-> OK
Checking dependencies from MYMETA.json ...
Checking if you have File::Spec::Functions 0 ... Yes (3.75)
Checking if you have strict 0 ... Yes (1.11)
Checking if you have Carp == 1.50 ... Yes (1.50)
Checking if you have lib 0 ... Yes (0.65)
Checking if you have Exporter 0 ... Yes (5.74)
Checking if you have Test::Fatal == 0.016 ... Yes (0.016)
Checking if you have constant 0 ... Yes (1.33)
Checking if you have FindBin 0 ... Yes (1.51)
Checking if you have Test::More 0 ... Yes (1.302186)
Checking if you have warnings 0 ... Yes (1.47)
Building and testing Term-Choose-1.745
cp lib/Term/Choose/ValidateOptions.pm blib/lib/Term/Choose/ValidateOptions.pm
cp lib/Term/Choose/Constants.pm blib/lib/Term/Choose/Constants.pm
cp lib/Term/Choose/Screen.pm blib/lib/Term/Choose/Screen.pm
cp lib/Term/Choose/Opt/Mouse.pm blib/lib/Term/Choose/Opt/Mouse.pm
cp lib/Term/Choose/Opt/SkipItems.pm blib/lib/Term/Choose/Opt/SkipItems.pm
cp lib/Term/Choose/Opt/Search.pm blib/lib/Term/Choose/Opt/Search.pm
cp lib/Term/Choose/Linux.pm blib/lib/Term/Choose/Linux.pm
cp lib/Term/Choose.pm blib/lib/Term/Choose.pm
cp lib/Term/Choose/LineFold/CharWidthAmbiguousWide.pm blib/lib/Term/Choose/LineFold/CharWidthAmbiguousWide.pm
cp lib/Term/Choose/LineFold/CharWidthDefault.pm blib/lib/Term/Choose/LineFold/CharWidthDefault.pm
cp lib/Term/Choose/LineFold.pm blib/lib/Term/Choose/LineFold.pm
cp lib/Term/Choose/Win32.pm blib/lib/Term/Choose/Win32.pm
PERL_DL_NONLAZY=1 "/home/ioan/.plenv/versions/mm-perl/bin/perl5.32.1" "-MExtUtils::Command::MM" "-MTest::Harness" "-e" "undef *Test::Harness::Switches; test_harness(0, 'blib/lib', 'blib/arch')" t/*/*.t
# Testing Term::Choose 1.745, Perl 5.032001, /home/ioan/.plenv/versions/mm-perl/bin/perl5.32.1
t/00_load/00-load.t .............. ok
t/00_load/01-new.t ............... ok
t/01_arguments/01_new.t .......... ok
t/01_arguments/01_new_invalid.t .. ok
All tests successful.
Files=4, Tests=375, 0 wallclock secs ( 0.07 usr 0.00 sys + 0.37 cusr 0.10 csys = 0.54 CPU)
Result: PASS
------------------------------
PREREQUISITES
------------------------------
Prerequisite modules loaded:
No requirements found
------------------------------
ENVIRONMENT AND OTHER CONTEXT
------------------------------
Environment variables:
HARNESS_OPTIONS = j8
LANG = en_GB.UTF-8
LANGUAGE = en_GB:en_CA:en_US:en
LC_ADDRESS = en_GB.UTF-8
LC_ALL = en_GB.UTF-8
LC_IDENTIFICATION = en_GB.UTF-8
LC_MEASUREMENT = en_GB.UTF-8
LC_MONETARY = en_GB.UTF-8
LC_NAME = en_GB.UTF-8
LC_NUMERIC = en_GB.UTF-8
LC_PAPER = en_GB.UTF-8
LC_TELEPHONE = en_GB.UTF-8
LC_TIME = en_GB.UTF-8
PATH = /home/ioan/.plenv/versions/mm-perl/bin:/home/ioan/.plenv/libexec:/home/ioan/.plenv/plugins/perl-build/bin:/home/ioan/Projects/github.maxmind.com/maxmind/mm_website/bin:/home/ioan/Projects/github.maxmind.com/maxmind/mm_website/dev/bin/containers:/home/ioan/Projects/github.maxmind.com/maxmind/mm_website/dev/bin/go:/home/ioan/Projects/github.maxmind.com/maxmind/mm_website/dev/bin/go/installed:/home/ioan/Projects/github.maxmind.com/maxmind/mm_website/ansible/bin:/home/ioan/Projects/github.maxmind.com/maxmind/mm_website/ansible/roles/server_management/files:/home/ioan/go/bin:/home/ioan/.raku/bin:/home/ioan/.plenv/shims:/snap/bin:/snap/google-cloud-sdk/current/bin:/home/ioan/.krew/bin::/home/ioan/.local/bin:/usr/local/bin:/usr/bin:/bin:/usr/local/sbin:/sbin:/usr/sbin:/usr/games
PERL5LIB = /home/ioan/Projects/github.maxmind.com/maxmind/mm_website/lib:/home/ioan/Projects/github.maxmind.com/maxmind/mm_website/t/lib:/home/ioan/Projects/github.maxmind.com/maxmind/mm_website/ansible/roles/server_management/files/perl_modules/
PERL_CPANM_OPT = --prompt --no-man-pages --verify --mirror https://cpan.metacpan.org
SHELL = /bin/zsh
TERM = xterm-256color
Perl special variables (and OS-specific diagnostics, for MSWin32):
EGID = 1001 4 20 24 27 30 46 119 130 131 134 138 1001
EUID = 1001
EXECUTABLE_NAME = /home/ioan/.plenv/versions/mm-perl/bin/perl5.32.1
GID = 1001 4 20 24 27 30 46 119 130 131 134 138 1001
UID = 1001
Perl module toolchain versions installed:
Module Have
------------------- --------
CPAN 2.29
CPAN::Meta 2.150010
Cwd 3.75
ExtUtils::CBuilder 0.280234
ExtUtils::Command 7.64
ExtUtils::Install 2.20
ExtUtils::MakeMaker 7.64
ExtUtils::Manifest 1.72
ExtUtils::ParseXS 3.40
File::Spec 3.75
JSON 4.04
JSON::PP 4.07
Module::Build 0.4231
Module::Signature 0.88
Parse::CPAN::Meta 2.150010
Test::Harness 3.42
Test::More 1.302188
YAML 1.30
YAML::Syck 1.34
version 0.9929
--
Summary of my perl5 (revision 5 version 32 subversion 1) configuration:
Platform:
osname=linux
osvers=5.8.0-36-generic
archname=x86_64-linux
uname='linux impatience 5.8.0-36-generic #40-ubuntu smp tue jan 5 21:54:35 utc 2021 x86_64 x86_64 x86_64 gnulinux '
config_args='-Dprefix=/home/ioan/.plenv/versions/mm-perl -de -Dversiononly -Doptimize=-O2 -Dccflags-march=native -Dcc=clang -Dman1dir=none -Dman3dir=none -A'eval:scriptdir=/home/ioan/.plenv/versions/mm-perl/bin''
hint=recommended
useposix=true
d_sigaction=define
useithreads=undef
usemultiplicity=undef
use64bitint=define
use64bitall=define
uselongdouble=undef
usemymalloc=n
default_inc_excludes_dot=define
bincompat5005=undef
Compiler:
cc='clang'
ccflags ='-fno-strict-aliasing -pipe -fstack-protector-strong -I/usr/local/include -D_LARGEFILE_SOURCE -D_FILE_OFFSET_BITS=64'
optimize='-O2'
cppflags='-fno-strict-aliasing -pipe -fstack-protector-strong -I/usr/local/include'
ccversion=''
gccversion='Ubuntu Clang 11.0.0'
gccosandvers=''
intsize=4
longsize=8
ptrsize=8
doublesize=8
byteorder=12345678
doublekind=3
d_longlong=define
longlongsize=8
d_longdbl=define
longdblsize=16
longdblkind=3
ivtype='long'
ivsize=8
nvtype='double'
nvsize=8
Off_t='off_t'
lseeksize=8
alignbytes=8
prototype=define
Linker and Libraries:
ld='clang'
ldflags =' -fstack-protector-strong -L/usr/local/lib'
libpth=/usr/local/lib /usr/lib/llvm-11/lib/clang/11.0.0/lib /usr/include/x86_64-linux-gnu /usr/lib /lib/x86_64-linux-gnu /lib/../lib /usr/lib/x86_64-linux-gnu /usr/lib/../lib /lib /lib64 /usr/lib64
libs=-lpthread -lnsl -ldb -ldl -lm -lcrypt -lutil -lc
perllibs=-lpthread -lnsl -ldl -lm -lcrypt -lutil -lc
libc=libc-2.32.so
so=so
useshrplib=false
libperl=libperl.a
gnulibc_version='2.32'
Dynamic Linking:
dlsrc=dl_dlopen.xs
dlext=so
d_dlsymun=undef
ccdlflags='-Wl,-E'
cccdlflags='-fPIC'
lddlflags='-shared -O2 -L/usr/local/lib -fstack-protector-strong'
Characteristics of this binary (from libperl):
Compile-time options:
HAS_TIMES
PERLIO_LAYERS
PERL_COPY_ON_WRITE
PERL_DONT_CREATE_GVSV
PERL_MALLOC_WRAP
PERL_OP_PARENT
PERL_PRESERVE_IVUV
USE_64_BIT_ALL
USE_64_BIT_INT
USE_LARGE_FILES
USE_LOCALE
USE_LOCALE_COLLATE
USE_LOCALE_CTYPE
USE_LOCALE_NUMERIC
USE_LOCALE_TIME
USE_PERLIO
USE_PERL_ATOF
Locally applied patches:
Devel::PatchPerl 2.08
Built under linux
Compiled at Jan 27 2021 13:26:47
%ENV:
PERL5LIB="/home/ioan/Projects/github.maxmind.com/maxmind/mm_website/lib:/home/ioan/Projects/github.maxmind.com/maxmind/mm_website/t/lib:/home/ioan/Projects/github.maxmind.com/maxmind/mm_website/ansible/roles/server_management/files/perl_modules/"
PERL_CPANM_OPT="--prompt --no-man-pages --verify --mirror https://cpan.metacpan.org"
@INC:
/home/ioan/Projects/github.maxmind.com/maxmind/mm_website/lib
/home/ioan/Projects/github.maxmind.com/maxmind/mm_website/t/lib
/home/ioan/Projects/github.maxmind.com/maxmind/mm_website/ansible/roles/server_management/files/perl_modules/
/home/ioan/.plenv/versions/mm-perl/lib/site_perl/5.32.1/x86_64-linux
/home/ioan/.plenv/versions/mm-perl/lib/site_perl/5.32.1
/home/ioan/.plenv/versions/mm-perl/lib/5.32.1/x86_64-linux
/home/ioan/.plenv/versions/mm-perl/lib/5.32.1