Portable-Dist v1.09 Perl 5 v5.31.8 aarch64-linux
- Status
- Pass
- From
- Nigel Horne
- Dist
-
Portable-Dist v1.09
- Platform
- Perl 5 v5.31.8 aarch64-linux
- Date
- 2020-02-16 12:26:12
- ID
- 84c3b3ce-50b7-11ea-8b61-9f84e4854096
This distribution has been tested as part of the CPAN Testers
project, supporting the Perl programming language. See
http://wiki.cpantesters.org/ for more information or email
questions to cpan-testers-discuss@perl.org
--
Dear kmx,
This is a computer-generated report for Portable-Dist-1.09
on perl 5.31.8, created by CPAN-Reporter-1.2018.
Thank you for uploading your work to CPAN. Congratulations!
All tests were successful.
Sections of this report:
* Tester comments
* Program output
* Prerequisites
* Environment and other context
------------------------------
TESTER COMMENTS
------------------------------
Additional comments from tester:
this report is from an automated smoke testing program
and was not reviewed by a human for accuracy
------------------------------
PROGRAM OUTPUT
------------------------------
Output from '/usr/bin/make test':
PERL_DL_NONLAZY=1 "/home/njh/perl5/perlbrew/perls/perl-5.31.8/bin/perl5.31.8" "-MExtUtils::Command::MM" "-MTest::Harness" "-e" "undef *Test::Harness::Switches; test_harness(0, 'blib/lib', 'blib/arch')" t/*.t
t/03_batch.t .... skipped: Tests only runnable on Win32
t/01_compile.t .. ok
$UMASK being true is deprecated it will be false by default in the future. This change is being made because this not the behavior of the unix command `chmod`. This warning can be disabled by putting explicitly setting $File::chmod::UMASK to false (0) to act like system chmod, or any non 2 true value see Github issue #5 at t/02_run.t line 40.
$UMASK being true is deprecated it will be false by default in the future. This change is being made because this not the behavior of the unix command `chmod`. This warning can be disabled by putting explicitly setting $File::chmod::UMASK to false (0) to act like system chmod, or any non 2 true value see Github issue #5 at t/02_run.t line 40.
$UMASK being true is deprecated it will be false by default in the future. This change is being made because this not the behavior of the unix command `chmod`. This warning can be disabled by putting explicitly setting $File::chmod::UMASK to false (0) to act like system chmod, or any non 2 true value see Github issue #5 at t/02_run.t line 40.
$UMASK being true is deprecated it will be false by default in the future. This change is being made because this not the behavior of the unix command `chmod`. This warning can be disabled by putting explicitly setting $File::chmod::UMASK to false (0) to act like system chmod, or any non 2 true value see Github issue #5 at t/02_run.t line 40.
$UMASK being true is deprecated it will be false by default in the future. This change is being made because this not the behavior of the unix command `chmod`. This warning can be disabled by putting explicitly setting $File::chmod::UMASK to false (0) to act like system chmod, or any non 2 true value see Github issue #5 at t/02_run.t line 40.
$UMASK being true is deprecated it will be false by default in the future. This change is being made because this not the behavior of the unix command `chmod`. This warning can be disabled by putting explicitly setting $File::chmod::UMASK to false (0) to act like system chmod, or any non 2 true value see Github issue #5 at t/02_run.t line 40.
$UMASK being true is deprecated it will be false by default in the future. This change is being made because this not the behavior of the unix command `chmod`. This warning can be disabled by putting explicitly setting $File::chmod::UMASK to false (0) to act like system chmod, or any non 2 true value see Github issue #5 at t/02_run.t line 40.
$UMASK being true is deprecated it will be false by default in the future. This change is being made because this not the behavior of the unix command `chmod`. This warning can be disabled by putting explicitly setting $File::chmod::UMASK to false (0) to act like system chmod, or any non 2 true value see Github issue #5 at t/02_run.t line 40.
$UMASK being true is deprecated it will be false by default in the future. This change is being made because this not the behavior of the unix command `chmod`. This warning can be disabled by putting explicitly setting $File::chmod::UMASK to false (0) to act like system chmod, or any non 2 true value see Github issue #5 at /home/njh/.cpan/build/File-IgnoreReadonly-0.01-0/blib/lib/File/IgnoreReadonly.pm line 111.
$UMASK being true is deprecated it will be false by default in the future. This change is being made because this not the behavior of the unix command `chmod`. This warning can be disabled by putting explicitly setting $File::chmod::UMASK to false (0) to act like system chmod, or any non 2 true value see Github issue #5 at /home/njh/.cpan/build/File-IgnoreReadonly-0.01-0/blib/lib/File/IgnoreReadonly.pm line 111.
$UMASK being true is deprecated it will be false by default in the future. This change is being made because this not the behavior of the unix command `chmod`. This warning can be disabled by putting explicitly setting $File::chmod::UMASK to false (0) to act like system chmod, or any non 2 true value see Github issue #5 at /home/njh/.cpan/build/File-IgnoreReadonly-0.01-0/blib/lib/File/IgnoreReadonly.pm line 111.
$UMASK being true is deprecated it will be false by default in the future. This change is being made because this not the behavior of the unix command `chmod`. This warning can be disabled by putting explicitly setting $File::chmod::UMASK to false (0) to act like system chmod, or any non 2 true value see Github issue #5 at /home/njh/.cpan/build/Portable-Dist-1.09-0/blib/lib/Portable/Dist.pm line 241.
$UMASK being true is deprecated it will be false by default in the future. This change is being made because this not the behavior of the unix command `chmod`. This warning can be disabled by putting explicitly setting $File::chmod::UMASK to false (0) to act like system chmod, or any non 2 true value see Github issue #5 at /home/njh/.cpan/build/File-IgnoreReadonly-0.01-0/blib/lib/File/IgnoreReadonly.pm line 111.
$UMASK being true is deprecated it will be false by default in the future. This change is being made because this not the behavior of the unix command `chmod`. This warning can be disabled by putting explicitly setting $File::chmod::UMASK to false (0) to act like system chmod, or any non 2 true value see Github issue #5 at /home/njh/.cpan/build/File-IgnoreReadonly-0.01-0/blib/lib/File/IgnoreReadonly.pm line 111.
$UMASK being true is deprecated it will be false by default in the future. This change is being made because this not the behavior of the unix command `chmod`. This warning can be disabled by putting explicitly setting $File::chmod::UMASK to false (0) to act like system chmod, or any non 2 true value see Github issue #5 at /home/njh/.cpan/build/File-IgnoreReadonly-0.01-0/blib/lib/File/IgnoreReadonly.pm line 111.
$UMASK being true is deprecated it will be false by default in the future. This change is being made because this not the behavior of the unix command `chmod`. This warning can be disabled by putting explicitly setting $File::chmod::UMASK to false (0) to act like system chmod, or any non 2 true value see Github issue #5 at /home/njh/.cpan/build/File-IgnoreReadonly-0.01-0/blib/lib/File/IgnoreReadonly.pm line 111.
$UMASK being true is deprecated it will be false by default in the future. This change is being made because this not the behavior of the unix command `chmod`. This warning can be disabled by putting explicitly setting $File::chmod::UMASK to false (0) to act like system chmod, or any non 2 true value see Github issue #5 at /home/njh/.cpan/build/File-IgnoreReadonly-0.01-0/blib/lib/File/IgnoreReadonly.pm line 111.
t/02_run.t ...... ok
All tests successful.
Files=3, Tests=44, 1 wallclock secs ( 0.13 usr 0.01 sys + 1.07 cusr 0.23 csys = 1.44 CPU)
Result: PASS
------------------------------
PREREQUISITES
------------------------------
Prerequisite modules loaded:
requires:
Module Need Have
--------------------- ----- --------
File::chmod 0.32 0.42
File::Copy::Recursive 0.35 0.45
File::Find::Rule 0.30 0.34
File::IgnoreReadonly 0.01 0.01
File::Remove 1.42 1.58
File::Slurper 0.008 0.012
File::Spec 3.47 3.78
Object::Tiny 1.04 1.09
Params::Util 0.31 1.07
perl 5.008 5.031008
Test::More 0.47 1.302171
build_requires:
Module Need Have
--------------------- ----- --------
ExtUtils::MakeMaker 0 7.44
configure_requires:
Module Need Have
--------------------- ----- --------
ExtUtils::MakeMaker 0 7.44
------------------------------
ENVIRONMENT AND OTHER CONTEXT
------------------------------
Environment variables:
AUTOMATED_TESTING = 1
HARNESS_OPTIONS = j4
LANG = en_US.UTF-8
LANGUAGE = en_US.UTF-8
LC_ALL = en_US.UTF-8
PATH = /home/njh/perl5/perlbrew/bin:/home/njh/perl5/perlbrew/perls/perl-5.31.8/bin:/home/njh/src/njh/smoker/bin:/usr/bin:/bin
PERL5LIB = /home/njh/.cpan/build/Object-Tiny-1.09-0/blib/arch:/home/njh/.cpan/build/Object-Tiny-1.09-0/blib/lib:/home/njh/.cpan/build/File-IgnoreReadonly-0.01-0/blib/arch:/home/njh/.cpan/build/File-IgnoreReadonly-0.01-0/blib/lib:/home/njh/.cpan/build/Math-Summation-0.01-0/blib/arch:/home/njh/.cpan/build/Math-Summation-0.01-0/blib/lib:/home/njh/.cpan/build/CBOR-Free-0.22_01-0/blib/arch:/home/njh/.cpan/build/CBOR-Free-0.22_01-0/blib/lib:/home/njh/.cpan/build/X-Tiny-0.21-0/blib/arch:/home/njh/.cpan/build/X-Tiny-0.21-0/blib/lib:/home/njh/.cpan/build/Types-Serialiser-1.0-0/blib/arch:/home/njh/.cpan/build/Types-Serialiser-1.0-0/blib/lib:/home/njh/.cpan/build/common-sense-3.74-0/blib/arch:/home/njh/.cpan/build/common-sense-3.74-0/blib/lib:/home/njh/.cpan/build/Text-Control-0.5-0/blib/arch:/home/njh/.cpan/build/Text-Control-0.5-0/blib/lib:/home/njh/.cpan/build/Test-Class-Tiny-0.02-0/blib/arch:/home/njh/.cpan/build/Test-Class-Tiny-0.02-0/blib/lib
PERL5OPT =
PERL5_CPANPLUS_IS_RUNNING = 11948
PERL5_CPAN_IS_RUNNING = 11948
PERL5_CPAN_IS_RUNNING_IN_RECURSION = 11935,11948
PERLBREW_HOME = /home/njh/.perlbrew
PERLBREW_MANPATH = /home/njh/perl5/perlbrew/perls/perl-5.31.8/man
PERLBREW_PATH = /home/njh/perl5/perlbrew/bin:/home/njh/perl5/perlbrew/perls/perl-5.31.8/bin
PERLBREW_PERL = perl-5.31.8
PERLBREW_ROOT = /home/njh/perl5/perlbrew
PERLBREW_SHELLRC_VERSION = 0.83
PERLBREW_VERSION = 0.83
PERL_USE_UNSAFE_INC = 1
SHELL = /bin/bash
TEMP = /tmp/user/1000
TMPDIR = /tmp/user/1000/testwrapper.11937
Perl special variables (and OS-specific diagnostics, for MSWin32):
$^X = /home/njh/perl5/perlbrew/perls/perl-5.31.8/bin/perl5.31.8
$UID/$EUID = 1000 / 1000
$GID = 1000 1000
$EGID = 1000 1000
Perl module toolchain versions installed:
Module Have
------------------- --------
CPAN 2.27
CPAN::Meta 2.150010
Cwd 3.78
ExtUtils::CBuilder 0.280233
ExtUtils::Command 7.44
ExtUtils::Install 2.14
ExtUtils::MakeMaker 7.44
ExtUtils::Manifest 1.72
ExtUtils::ParseXS 3.40
File::Spec 3.78
JSON 4.02
JSON::PP 4.04
Module::Build 0.4231
Module::Signature n/a
Parse::CPAN::Meta 2.150010
Test::Harness 3.42
Test::More 1.302171
YAML 1.30
YAML::Syck 1.32
version 0.9924
--
Summary of my perl5 (revision 5 version 31 subversion 8) configuration:
Platform:
osname=linux
osvers=5.1.12-mainline-rev1
archname=aarch64-linux
uname='linux scaleway 5.1.12-mainline-rev1 #1 smp wed jun 19 07:34:40 utc 2019 aarch64 gnulinux '
config_args='-de -Dprefix=/home/njh/perl5/perlbrew/perls/perl-5.31.8 -Dusedevel -Dusedevel -Accflags=-O2 -W -Wformat=2 -Wswitch -Wshadow -Wwrite-strings -Wuninitialized -Wall -pipe -fomit-frame-pointer -D_FORTIFY_SOURCE=2 -Wpointer-arith -Wstrict-prototypes -fstack-protector -Wstack-protector -Wextra -Wbad-function-cast -Wcast-align -Wcast-qual -Wdisabled-optimization -Wendif-labels -Wfloat-equal -Wformat-nonliteral -Winline -Wmissing-declarations -Wmissing-prototypes -Wnested-externs -Wpointer-arith -Wundef -Wformat-security -march=armv8-a+crc -fdiagnostics-color=auto -flto -Aeval:scriptdir=/home/njh/perl5/perlbrew/perls/perl-5.31.8/bin'
hint=recommended
useposix=true
d_sigaction=define
useithreads=undef
usemultiplicity=undef
use64bitint=define
use64bitall=define
uselongdouble=undef
usemymalloc=n
default_inc_excludes_dot=define
bincompat5005=undef
Compiler:
cc='cc'
ccflags ='-O2 -W -Wformat=2 -Wswitch -Wshadow -Wwrite-strings -Wuninitialized -Wall -pipe -fomit-frame-pointer -D_FORTIFY_SOURCE=2 -Wpointer-arith -Wstrict-prototypes -fstack-protector -Wstack-protector -Wextra -Wbad-function-cast -Wcast-align -Wcast-qual -Wdisabled-optimization -Wendif-labels -Wfloat-equal -Wformat-nonliteral -Winline -Wmissing-declarations -Wmissing-prototypes -Wnested-externs -Wpointer-arith -Wundef -Wformat-security -march=armv8-a+crc -fdiagnostics-color=auto -flto -fwrapv -fno-strict-aliasing -fstack-protector-strong -I/usr/local/include -D_LARGEFILE_SOURCE -D_FILE_OFFSET_BITS=64'
optimize='-O2'
cppflags='-O2 -W -Wformat=2 -Wswitch -Wshadow -Wwrite-strings -Wuninitialized -Wall -pipe -fomit-frame-pointer -D_FORTIFY_SOURCE=2 -Wpointer-arith -Wstrict-prototypes -fstack-protector -Wstack-protector -Wextra -Wbad-function-cast -Wcast-align -Wcast-qual -Wdisabled-optimization -Wendif-labels -Wfloat-equal -Wformat-nonliteral -Winline -Wmissing-declarations -Wmissing-prototypes -Wnested-externs -Wpointer-arith -Wundef -Wformat-security -march=armv8-a+crc -fdiagnostics-color=auto -flto -fwrapv -fno-strict-aliasing -fstack-protector-strong -I/usr/local/include'
ccversion=''
gccversion='8.3.0'
gccosandvers=''
intsize=4
longsize=8
ptrsize=8
doublesize=8
byteorder=12345678
doublekind=3
d_longlong=define
longlongsize=8
d_longdbl=define
longdblsize=16
longdblkind=1
ivtype='long'
ivsize=8
nvtype='double'
nvsize=8
Off_t='off_t'
lseeksize=8
alignbytes=8
prototype=define
Linker and Libraries:
ld='cc'
ldflags =' -fstack-protector-strong -L/usr/local/lib'
libpth=/usr/local/lib /usr/lib/gcc/aarch64-linux-gnu/8/include-fixed /usr/include/aarch64-linux-gnu /usr/lib /lib/aarch64-linux-gnu /lib/../lib /usr/lib/aarch64-linux-gnu /usr/lib/../lib /lib
libs=-lpthread -lnsl -lgdbm -ldb -ldl -lm -lcrypt -lutil -lc
perllibs=-lpthread -lnsl -ldl -lm -lcrypt -lutil -lc
libc=libc-2.28.so
so=so
useshrplib=false
libperl=libperl.a
gnulibc_version='2.28'
Dynamic Linking:
dlsrc=dl_dlopen.xs
dlext=so
d_dlsymun=undef
ccdlflags='-Wl,-E'
cccdlflags='-fPIC'
lddlflags='-shared -O2 -L/usr/local/lib -fstack-protector-strong'
Characteristics of this binary (from libperl):
Compile-time options:
HAS_TIMES
PERLIO_LAYERS
PERL_COPY_ON_WRITE
PERL_DONT_CREATE_GVSV
PERL_MALLOC_WRAP
PERL_OP_PARENT
PERL_PRESERVE_IVUV
PERL_USE_DEVEL
USE_64_BIT_ALL
USE_64_BIT_INT
USE_LARGE_FILES
USE_LOCALE
USE_LOCALE_COLLATE
USE_LOCALE_CTYPE
USE_LOCALE_NUMERIC
USE_LOCALE_TIME
USE_PERLIO
USE_PERL_ATOF
Locally applied patches:
Devel::PatchPerl 1.48
Built under linux
Compiled at Jan 25 2020 12:00:14
%ENV:
PERL5LIB="/home/njh/.cpan/build/Object-Tiny-1.09-0/blib/arch:/home/njh/.cpan/build/Object-Tiny-1.09-0/blib/lib:/home/njh/.cpan/build/File-IgnoreReadonly-0.01-0/blib/arch:/home/njh/.cpan/build/File-IgnoreReadonly-0.01-0/blib/lib:/home/njh/.cpan/build/Math-Summation-0.01-0/blib/arch:/home/njh/.cpan/build/Math-Summation-0.01-0/blib/lib:/home/njh/.cpan/build/CBOR-Free-0.22_01-0/blib/arch:/home/njh/.cpan/build/CBOR-Free-0.22_01-0/blib/lib:/home/njh/.cpan/build/X-Tiny-0.21-0/blib/arch:/home/njh/.cpan/build/X-Tiny-0.21-0/blib/lib:/home/njh/.cpan/build/Types-Serialiser-1.0-0/blib/arch:/home/njh/.cpan/build/Types-Serialiser-1.0-0/blib/lib:/home/njh/.cpan/build/common-sense-3.74-0/blib/arch:/home/njh/.cpan/build/common-sense-3.74-0/blib/lib:/home/njh/.cpan/build/Text-Control-0.5-0/blib/arch:/home/njh/.cpan/build/Text-Control-0.5-0/blib/lib:/home/njh/.cpan/build/Test-Class-Tiny-0.02-0/blib/arch:/home/njh/.cpan/build/Test-Class-Tiny-0.02-0/blib/lib"
PERL5OPT=""
PERL5_CPANPLUS_IS_RUNNING="11948"
PERL5_CPAN_IS_RUNNING="11948"
PERL5_CPAN_IS_RUNNING_IN_RECURSION="11935,11948"
PERLBREW_HOME="/home/njh/.perlbrew"
PERLBREW_MANPATH="/home/njh/perl5/perlbrew/perls/perl-5.31.8/man"
PERLBREW_PATH="/home/njh/perl5/perlbrew/bin:/home/njh/perl5/perlbrew/perls/perl-5.31.8/bin"
PERLBREW_PERL="perl-5.31.8"
PERLBREW_ROOT="/home/njh/perl5/perlbrew"
PERLBREW_SHELLRC_VERSION="0.83"
PERLBREW_VERSION="0.83"
PERL_USE_UNSAFE_INC="1"
@INC:
/home/njh/.cpan/build/Object-Tiny-1.09-0/blib/arch
/home/njh/.cpan/build/Object-Tiny-1.09-0/blib/lib
/home/njh/.cpan/build/File-IgnoreReadonly-0.01-0/blib/arch
/home/njh/.cpan/build/File-IgnoreReadonly-0.01-0/blib/lib
/home/njh/.cpan/build/Math-Summation-0.01-0/blib/arch
/home/njh/.cpan/build/Math-Summation-0.01-0/blib/lib
/home/njh/.cpan/build/CBOR-Free-0.22_01-0/blib/arch
/home/njh/.cpan/build/CBOR-Free-0.22_01-0/blib/lib
/home/njh/.cpan/build/X-Tiny-0.21-0/blib/arch
/home/njh/.cpan/build/X-Tiny-0.21-0/blib/lib
/home/njh/.cpan/build/Types-Serialiser-1.0-0/blib/arch
/home/njh/.cpan/build/Types-Serialiser-1.0-0/blib/lib
/home/njh/.cpan/build/common-sense-3.74-0/blib/arch
/home/njh/.cpan/build/common-sense-3.74-0/blib/lib
/home/njh/.cpan/build/Text-Control-0.5-0/blib/arch
/home/njh/.cpan/build/Text-Control-0.5-0/blib/lib
/home/njh/.cpan/build/Test-Class-Tiny-0.02-0/blib/arch
/home/njh/.cpan/build/Test-Class-Tiny-0.02-0/blib/lib
/home/njh/perl5/perlbrew/perls/perl-5.31.8/lib/site_perl/5.31.8/aarch64-linux
/home/njh/perl5/perlbrew/perls/perl-5.31.8/lib/site_perl/5.31.8
/home/njh/perl5/perlbrew/perls/perl-5.31.8/lib/5.31.8/aarch64-linux
/home/njh/perl5/perlbrew/perls/perl-5.31.8/lib/5.31.8
.