Path-Tiny v0.144 Perl 5 v5.36.0 i86pc-solaris
- Status
- Pass
- From
- Nigel Horne
- Dist
-
Path-Tiny v0.144
- Platform
- Perl 5 v5.36.0 i86pc-solaris
- Date
- 2023-01-23 19:09:53
- ID
- 8446f0b8-9b51-11ed-9aa5-b5fb0b834582
This distribution has been tested as part of the CPAN Testers
project, supporting the Perl programming language. See
http://wiki.cpantesters.org/ for more information or email
questions to cpan-testers-discuss@perl.org
--
Dear David Golden,
This is a computer-generated report for Path-Tiny-0.144
on perl 5.36.0, created by CPAN-Reporter-1.2018.
Thank you for uploading your work to CPAN. Congratulations!
All tests were successful.
Sections of this report:
* Tester comments
* Program output
* Prerequisites
* Environment and other context
------------------------------
TESTER COMMENTS
------------------------------
Additional comments from tester:
none provided
------------------------------
PROGRAM OUTPUT
------------------------------
Output from '/usr/bin/make test':
PERL_DL_NONLAZY=1 "/export/home/njh/perl5/perlbrew/perls/perl-5.36.0/bin/perl" "-MExtUtils::Command::MM" "-MTest::Harness" "-e" "undef *Test::Harness::Switches; test_harness(0, 'blib/lib', 'blib/arch')" t/*.t
#
# Versions for all modules listed in MYMETA.json (including optional ones):
#
# === Configure Requires ===
#
# Module Want Have
# ------------------- ---- ----
# ExtUtils::MakeMaker 6.17 7.66
#
# === Configure Suggests ===
#
# Module Want Have
# -------- ------- ----
# JSON::PP 2.27300 4.12
#
# === Build Requires ===
#
# Module Want Have
# ------------------- ---- ----
# ExtUtils::MakeMaker any 7.66
#
# === Test Requires ===
#
# Module Want Have
# --------------------- ---- --------
# Digest::MD5 any 2.58
# ExtUtils::MakeMaker any 7.66
# File::Basename any 2.85
# File::Spec 0.86 3.84
# File::Spec::Functions any 3.84
# File::Spec::Unix any 3.84
# File::Temp 0.19 0.2311
# Test::More 0.96 1.302191
# lib any 0.65
# open any 1.13
#
# === Test Recommends ===
#
# Module Want Have
# ------------------ -------- --------
# CPAN::Meta 2.120900 2.150010
# Test::FailWarnings any 0.008
# Test::MockRandom any 1.01
#
# === Runtime Requires ===
#
# Module Want Have
# ------------------ ---- ------
# Carp any 1.52
# Cwd any 3.84
# Digest 1.03 1.20
# Digest::SHA 5.45 6.03
# Encode any 3.19
# Exporter 5.57 5.77
# Fcntl any 1.15
# File::Compare any 1.1007
# File::Copy any 2.39
# File::Glob any 1.37
# File::Path 2.07 2.18
# File::Spec 0.86 3.84
# File::Temp 0.19 0.2311
# File::stat any 1.12
# constant any 1.33
# overload any 1.35
# strict any 1.12
# warnings any 1.58
# warnings::register any 1.04
#
# === Runtime Recommends ===
#
# Module Want Have
# ------------- ---- -------
# Unicode::UTF8 0.58 missing
#
t/00-report-prereqs.t ............. ok
t/basename.t ...................... ok
t/basic.t ......................... ok
t/children.t ...................... ok
t/chmod.t ......................... ok
t/digest.t ........................ ok
t/exception.t ..................... ok
t/exports.t ....................... ok
t/filesystem.t .................... ok
t/has_same_bytes.t ................ ok
t/input_output.t .................. ok
t/input_output_no_PU_UU.t ......... ok
t/input_output_no_UU.t ............ ok
t/locking.t ....................... ok
t/mkdir.t ......................... ok
t/mkpath.t ........................ ok
t/mutable_tree_while_iterating.t .. ok
t/normalize.t ..................... ok
t/overloading.t ................... ok
t/parent.t ........................ ok
t/recurse.t ....................... ok
t/rel-abs.t ....................... ok
t/sig_die.t ....................... ok
t/size.t .......................... ok
t/subsumes.t ...................... ok
t/symlinks.t ...................... ok
t/temp.t .......................... ok
t/visit.t ......................... ok
t/zz-atomic.t ..................... ok
t/zzz-spec.t ...................... ok
All tests successful.
Files=30, Tests=1770, 9 wallclock secs ( 0.37 usr 0.11 sys + 5.57 cusr 1.05 csys = 7.10 CPU)
Result: PASS
------------------------------
PREREQUISITES
------------------------------
Prerequisite modules loaded:
requires:
Module Need Have
--------------------- -------- --------
Carp 0 1.52
constant 0 1.33
Cwd 0 3.84
Digest 1.03 1.20
Digest::SHA 5.45 6.03
Encode 0 3.19
Exporter 5.57 5.77
Fcntl 0 1.15
File::Compare 0 1.1007
File::Copy 0 2.39
File::Glob 0 1.37
File::Path 2.07 2.18
File::Spec 0.86 3.84
File::stat 0 1.12
File::Temp 0.19 0.2311
overload 0 1.35
perl 5.008001 5.036000
strict 0 1.12
warnings 0 1.58
warnings::register 0 1.04
build_requires:
Module Need Have
--------------------- -------- --------
Digest::MD5 0 2.58
ExtUtils::MakeMaker 0 7.66
File::Basename 0 2.85
File::Spec 0.86 3.84
File::Spec::Functions 0 3.84
File::Spec::Unix 0 3.84
File::Temp 0.19 0.2311
lib 0 0.65
open 0 1.13
Test::More 0.96 1.302191
configure_requires:
Module Need Have
--------------------- -------- --------
ExtUtils::MakeMaker 6.17 7.66
perl 5.008001 5.036000
opt_requires:
Module Need Have
--------------------- -------- --------
! Unicode::UTF8 0.58 n/a
opt_build_requires:
Module Need Have
--------------------- -------- --------
CPAN::Meta 2.120900 2.150010
Test::FailWarnings 0 0.008
Test::MockRandom 0 1.01
------------------------------
ENVIRONMENT AND OTHER CONTEXT
------------------------------
Environment variables:
LANG = en_US.UTF-8
NONINTERACTIVE_TESTING = 1
PATH = /export/home/njh/perl5/perlbrew/bin:/export/home/njh/perl5/perlbrew/perls/perl-5.36.0/bin:/usr/bin:/usr/sbin:/sbin:/usr/gnu/bin
PERL5LIB =
PERL5OPT =
PERL5_CPANPLUS_IS_RUNNING = 13956
PERL5_CPAN_IS_RUNNING = 13956
PERLBREW_HOME = /export/home/njh/.perlbrew
PERLBREW_MANPATH = /export/home/njh/perl5/perlbrew/perls/perl-5.36.0/man
PERLBREW_PATH = /export/home/njh/perl5/perlbrew/bin:/export/home/njh/perl5/perlbrew/perls/perl-5.36.0/bin
PERLBREW_PERL = perl-5.36.0
PERLBREW_ROOT = /export/home/njh/perl5/perlbrew
PERLBREW_SHELLRC_VERSION = 0.96
PERLBREW_VERSION = 0.96
PERL_MM_USE_DEFAULT = 1
PERL_USE_UNSAFE_INC = 1
SHELL = /bin/bash
TERM = sun-color
Perl special variables (and OS-specific diagnostics, for MSWin32):
$^X = /export/home/njh/perl5/perlbrew/perls/perl-5.36.0/bin/perl
$UID/$EUID = 101 / 101
$GID = 10 10
$EGID = 10 10
Perl module toolchain versions installed:
Module Have
------------------- --------
CPAN 2.33
CPAN::Meta 2.150010
Cwd 3.84
ExtUtils::CBuilder 0.280236
ExtUtils::Command 7.66
ExtUtils::Install 2.20
ExtUtils::MakeMaker 7.66
ExtUtils::Manifest 1.73
ExtUtils::ParseXS 3.45
File::Spec 3.84
JSON 4.10
JSON::PP 4.12
Module::Build 0.4232
Module::Signature n/a
Parse::CPAN::Meta 2.150010
Test::Harness 3.44
Test::More 1.302191
YAML 1.30
YAML::Syck 1.34
version 0.9929
--
Summary of my perl5 (revision 5 version 36 subversion 0) configuration:
Platform:
osname=solaris
osvers=2.11
archname=i86pc-solaris
uname='sunos njh1 5.11 illumos-06524cf4e4 i86pc i386 i86pc '
config_args='-de -Dprefix=/export/home/njh/perl5/perlbrew/perls/perl-5.36.0 -Aeval:scriptdir=/export/home/njh/perl5/perlbrew/perls/perl-5.36.0/bin'
hint=recommended
useposix=true
d_sigaction=define
useithreads=undef
usemultiplicity=undef
use64bitint=undef
use64bitall=undef
uselongdouble=undef
usemymalloc=n
default_inc_excludes_dot=define
Compiler:
cc='/usr/bin/gcc'
ccflags ='-fwrapv -fno-strict-aliasing -pipe -fstack-protector-strong -I/usr/gnu/include -D_LARGEFILE_SOURCE -D_FILE_OFFSET_BITS=64 -D_FORTIFY_SOURCE=2 -DPERL_USE_SAFE_PUTENV'
optimize='-O'
cppflags='-fwrapv -fno-strict-aliasing -pipe -fstack-protector-strong -I/usr/gnu/include'
ccversion=''
gccversion='7.5.0'
gccosandvers=''
intsize=4
longsize=4
ptrsize=4
doublesize=8
byteorder=1234
doublekind=3
d_longlong=define
longlongsize=8
d_longdbl=define
longdblsize=12
longdblkind=3
ivtype='long'
ivsize=4
nvtype='double'
nvsize=8
Off_t='off_t'
lseeksize=8
alignbytes=4
prototype=define
Linker and Libraries:
ld='/usr/bin/gcc'
ldflags =' -fstack-protector-strong -L/usr/gnu/lib '
libpth=/usr/gcc/7/lib /usr/lib /usr/gnu/lib /usr/ccs/lib
libs=-lpthread -lsocket -lnsl -lgdbm -ldb -ldl -lm -lc
perllibs=-lpthread -lsocket -lnsl -ldl -lm -lc
libc=/lib/libc.so
so=so
useshrplib=true
libperl=libperl.so
gnulibc_version=''
Dynamic Linking:
dlsrc=dl_dlopen.xs
dlext=so
d_dlsymun=undef
ccdlflags=' -R /export/home/njh/perl5/perlbrew/perls/perl-5.36.0/lib/5.36.0/i86pc-solaris/CORE'
cccdlflags='-fPIC'
lddlflags='-shared -L/usr/gnu/lib -fstack-protector-strong'
Characteristics of this binary (from libperl):
Compile-time options:
HAS_TIMES
PERLIO_LAYERS
PERL_COPY_ON_WRITE
PERL_DONT_CREATE_GVSV
PERL_MALLOC_WRAP
PERL_OP_PARENT
PERL_PRESERVE_IVUV
PERL_USE_SAFE_PUTENV
USE_LARGE_FILES
USE_LOCALE
USE_LOCALE_COLLATE
USE_LOCALE_CTYPE
USE_LOCALE_NUMERIC
USE_LOCALE_TIME
USE_PERLIO
USE_PERL_ATOF
Built under solaris
Compiled at Jun 1 2022 17:22:38
%ENV:
PERL5LIB=""
PERL5OPT=""
PERL5_CPANPLUS_IS_RUNNING="13956"
PERL5_CPAN_IS_RUNNING="13956"
PERLBREW_HOME="/export/home/njh/.perlbrew"
PERLBREW_MANPATH="/export/home/njh/perl5/perlbrew/perls/perl-5.36.0/man"
PERLBREW_PATH="/export/home/njh/perl5/perlbrew/bin:/export/home/njh/perl5/perlbrew/perls/perl-5.36.0/bin"
PERLBREW_PERL="perl-5.36.0"
PERLBREW_ROOT="/export/home/njh/perl5/perlbrew"
PERLBREW_SHELLRC_VERSION="0.96"
PERLBREW_VERSION="0.96"
PERL_MM_USE_DEFAULT="1"
PERL_USE_UNSAFE_INC="1"
@INC:
/export/home/njh/perl5/perlbrew/perls/perl-5.36.0/lib/site_perl/5.36.0/i86pc-solaris
/export/home/njh/perl5/perlbrew/perls/perl-5.36.0/lib/site_perl/5.36.0
/export/home/njh/perl5/perlbrew/perls/perl-5.36.0/lib/5.36.0/i86pc-solaris
/export/home/njh/perl5/perlbrew/perls/perl-5.36.0/lib/5.36.0
.