Beam-Wire v1.021 Perl 5 v5.26.0 x86_64-linux-thread-multi
- Status
- Pass
- From
- Nigel Horne
- Dist
-
Beam-Wire v1.021
- Platform
- Perl 5 v5.26.0 x86_64-linux-thread-multi
- Date
- 2018-03-18 19:06:49
- ID
- 82ed0c8a-2adf-11e8-91ce-d3e3deac0b3f
This distribution has been tested as part of the CPAN Testers
project, supporting the Perl programming language. See
http://wiki.cpantesters.org/ for more information or email
questions to cpan-testers-discuss@perl.org
--
Dear Doug Bell,
This is a computer-generated report for Beam-Wire-1.021
on perl 5.26.0, created by CPAN-Reporter-1.2018.
Thank you for uploading your work to CPAN. Congratulations!
All tests were successful.
Sections of this report:
* Tester comments
* Program output
* Prerequisites
* Environment and other context
------------------------------
TESTER COMMENTS
------------------------------
Additional comments from tester:
this report is from an automated smoke testing program
and was not reviewed by a human for accuracy
------------------------------
PROGRAM OUTPUT
------------------------------
Output from '/usr/bin/make test':
PERL_DL_NONLAZY=1 "/home/njh/perl5/perlbrew/perls/perl-5.26.0/bin/perl5.26.0" "-MExtUtils::Command::MM" "-MTest::Harness" "-e" "undef *Test::Harness::Switches; test_harness(0, 'blib/lib', 'blib/arch')" t/*.t t/container/*.t t/dependency/*.t t/deprecated/*.t t/method/*.t t/regression/*.t t/service/*.t
#
# Versions for all modules listed in MYMETA.json (including optional ones):
#
# === Configure Requires ===
#
# Module Want Have
# ------------------------ -------- --------
# CPAN::Meta::Requirements 2.120620 2.140
# ExtUtils::MakeMaker any 7.30
# Module::Metadata any 1.000033
#
# === Build Requires ===
#
# Module Want Have
# ------------------- ---- ----
# ExtUtils::MakeMaker any 7.30
#
# === Test Requires ===
#
# Module Want Have
# ------------------- -------- --------
# ExtUtils::MakeMaker any 7.30
# File::Spec any 3.67
# IO::Handle any 1.36
# IPC::Open3 any 1.20
# Test::Deep any 1.127
# Test::Differences 0.64 0.64
# Test::Exception any 0.43
# Test::Lib any 0.002
# Test::More 1.001005 1.302106
#
# === Test Recommends ===
#
# Module Want Have
# ---------- -------- --------
# CPAN::Meta 2.120900 2.150010
#
# === Runtime Requires ===
#
# Module Want Have
# --------------- ----- --------
# Beam::Emitter any 1.007
# Beam::Service any 0.001
# Config::Any 0.23 0.32
# Data::DPath 0.51 0.57
# Module::Runtime any 0.016
# Moo any 2.003002
# Path::Tiny 0.055 0.104
# Throwable any 0.200013
# Types::Standard any 1.002001
# YAML any 1.24
#
# === Runtime Recommends ===
#
# Module Want Have
# ------ ---- ----
# JSON any 2.94
#
t/00-report-prereqs.t .............. ok
t/00-compile.t ..................... ok
t/container/override.t ............. ok
t/dependency/value.t ............... ok
t/dependency/call.t ................ ok
t/dependency/config.t .............. ok
t/dependency/anonymous.t ........... ok
t/deprecated/event_listeners.t ..... ok
t/container/config.t ............... ok
t/deprecated/method_call.t ......... ok
t/container/inner.t ................ ok
t/method/create_service.t .......... ok
t/exception.t ...................... ok
t/regression/60_unprefixed_meta.t .. ok
t/service/attributes.t ............. ok
t/service/class_args.t ............. ok
t/service/event_listener.t ......... ok
t/method/is_meta.t ................. ok
t/service/config.t ................. ok
t/service/extends.t ................ ok
t/service/value.t .................. ok
t/service/with.t ................... ok
t/service/method.t ................. ok
t/service/with_args.t .............. ok
t/service/lifecycle.t .............. ok
All tests successful.
Files=25, Tests=81, 0 wallclock secs ( 0.11 usr 0.02 sys + 4.72 cusr 0.75 csys = 5.60 CPU)
Result: PASS
------------------------------
PREREQUISITES
------------------------------
Prerequisite modules loaded:
requires:
Module Need Have
------------------------ -------- --------
Beam::Emitter 0 1.007
Beam::Service 0 0.001
Config::Any 0.23 0.32
Data::DPath 0.51 0.57
Module::Runtime 0 0.016
Moo 0 2.003002
Path::Tiny 0.055 0.104
Throwable 0 0.200013
Types::Standard 0 1.002001
YAML 0 1.24
build_requires:
Module Need Have
------------------------ -------- --------
ExtUtils::MakeMaker 0 7.30
File::Spec 0 3.67
IO::Handle 0 1.36
IPC::Open3 0 1.20
Test::Deep 0 1.127
Test::Differences 0.64 0.64
Test::Exception 0 0.43
Test::Lib 0 0.002
Test::More 1.001005 1.302106
configure_requires:
Module Need Have
------------------------ -------- --------
CPAN::Meta::Requirements 2.120620 2.140
ExtUtils::MakeMaker 0 7.30
Module::Metadata 0 1.000033
------------------------------
ENVIRONMENT AND OTHER CONTEXT
------------------------------
Environment variables:
AUTOMATED_TESTING = 1
HARNESS_OPTIONS = j10
LANG = en_GB.UTF-8
PATH = /home/njh/perl5/perlbrew/bin:/home/njh/perl5/perlbrew/perls/perl-5.26.0/bin:src/njh/smoker/bin:/usr/bin:/bin
PERL5LIB = /tmp/build/Throwable-0.200013-15/blib/arch:/tmp/build/Throwable-0.200013-15/blib/lib:/tmp/build/Data-DPath-0.57-14/blib/arch:/tmp/build/Data-DPath-0.57-14/blib/lib:/tmp/build/Iterator-Util-0.02-14/blib/arch:/tmp/build/Iterator-Util-0.02-14/blib/lib:/tmp/build/Iterator-0.03-14/blib/arch:/tmp/build/Iterator-0.03-14/blib/lib:/tmp/build/Config-Any-0.32-14/blib/arch:/tmp/build/Config-Any-0.32-14/blib/lib:/tmp/build/Beam-Service-0.001-14/blib/arch:/tmp/build/Beam-Service-0.001-14/blib/lib:/tmp/build/Beam-Emitter-1.007-14/blib/arch:/tmp/build/Beam-Emitter-1.007-14/blib/lib:/tmp/build/Test-Lib-0.002-14/blib/arch:/tmp/build/Test-Lib-0.002-14/blib/lib:/tmp/build/Test-API-0.010-14/blib/arch:/tmp/build/Test-API-0.010-14/blib/lib
PERL5OPT =
PERL5_CPANPLUS_IS_RUNNING = 23837
PERL5_CPAN_IS_RUNNING = 23837
PERLBREW_HOME = /home/njh/.perlbrew
PERLBREW_MANPATH = /home/njh/perl5/perlbrew/perls/perl-5.26.0/man
PERLBREW_PATH = /home/njh/perl5/perlbrew/bin:/home/njh/perl5/perlbrew/perls/perl-5.26.0/bin
PERLBREW_PERL = perl-5.26.0
PERLBREW_ROOT = /home/njh/perl5/perlbrew
PERLBREW_SHELLRC_VERSION = 0.82
PERLBREW_VERSION = 0.82
PERL_USE_UNSAFE_INC = 1
SHELL = /bin/sh
Perl special variables (and OS-specific diagnostics, for MSWin32):
$^X = /home/njh/perl5/perlbrew/perls/perl-5.26.0/bin/perl5.26.0
$UID/$EUID = 1000 / 1000
$GID = 1000 4 24 25 29 30 44 46 107 112 118 1000
$EGID = 1000 4 24 25 29 30 44 46 107 112 118 1000
Perl module toolchain versions installed:
Module Have
------------------- --------
CPAN 2.18
CPAN::Meta 2.150010
Cwd 3.67
ExtUtils::CBuilder 0.280226
ExtUtils::Command 7.30
ExtUtils::Install 2.14
ExtUtils::MakeMaker 7.30
ExtUtils::Manifest 1.70
ExtUtils::ParseXS 3.35
File::Spec 3.67
JSON 2.94
JSON::PP 2.94
Module::Build 0.4224
Module::Signature n/a
Parse::CPAN::Meta 2.150010
Test::Harness 3.39
Test::More 1.302106
YAML 1.24
YAML::Syck 1.30
version 0.9918
--
Summary of my perl5 (revision 5 version 26 subversion 0) configuration:
Platform:
osname=linux
osvers=4.9.0-3-amd64
archname=x86_64-linux-thread-multi
uname='linux microcenter 4.9.0-3-amd64 #1 smp debian 4.9.25-1 (2017-05-02) x86_64 gnulinux '
config_args='-de -Dprefix=/home/njh/perl5/perlbrew/perls/perl-5.26.0 -Duseithreads -Dusemultiplicity -Dusedevel -Accflags=-O2 -W -Wformat=2 -Wswitch -Wshadow -Wwrite-strings -Wuninitialized -Wall -pipe -mtune=native -march=native -fomit-frame-pointer -msse2 -msse -mmmx -mfpmath=sse -D_FORTIFY_SOURCE=2 -Wpointer-arith -Wstrict-prototypes -fstack-protector -Wstack-protector -Wextra -Wbad-function-cast -Wcast-align -Wcast-qual -Wdisabled-optimization -Wendif-labels -Wfloat-equal -Wformat-nonliteral -Winline -Wmissing-declarations -Wmissing-prototypes -Wnested-externs -Wpointer-arith -Wundef -Wformat-security -ftree-vectorize -fdiagnostics-color=auto -Aeval:scriptdir=/home/njh/perl5/perlbrew/perls/perl-5.26.0/bin'
hint=recommended
useposix=true
d_sigaction=define
useithreads=define
usemultiplicity=define
use64bitint=define
use64bitall=define
uselongdouble=undef
usemymalloc=n
default_inc_excludes_dot=define
bincompat5005=undef
Compiler:
cc='cc'
ccflags ='-D_REENTRANT -D_GNU_SOURCE -O2 -W -Wformat=2 -Wswitch -Wshadow -Wwrite-strings -Wuninitialized -Wall -pipe -mtune=native -march=native -fomit-frame-pointer -msse2 -msse -mmmx -mfpmath=sse -D_FORTIFY_SOURCE=2 -Wpointer-arith -Wstrict-prototypes -fstack-protector -Wstack-protector -Wextra -Wbad-function-cast -Wcast-align -Wcast-qual -Wdisabled-optimization -Wendif-labels -Wfloat-equal -Wformat-nonliteral -Winline -Wmissing-declarations -Wmissing-prototypes -Wnested-externs -Wpointer-arith -Wundef -Wformat-security -ftree-vectorize -fdiagnostics-color=auto -fwrapv -fno-strict-aliasing -fstack-protector-strong -I/usr/local/include -D_LARGEFILE_SOURCE -D_FILE_OFFSET_BITS=64'
optimize='-O2'
cppflags='-D_REENTRANT -D_GNU_SOURCE -O2 -W -Wformat=2 -Wswitch -Wshadow -Wwrite-strings -Wuninitialized -Wall -pipe -mtune=native -march=native -fomit-frame-pointer -msse2 -msse -mmmx -mfpmath=sse -D_FORTIFY_SOURCE=2 -Wpointer-arith -Wstrict-prototypes -fstack-protector -Wstack-protector -Wextra -Wbad-function-cast -Wcast-align -Wcast-qual -Wdisabled-optimization -Wendif-labels -Wfloat-equal -Wformat-nonliteral -Winline -Wmissing-declarations -Wmissing-prototypes -Wnested-externs -Wpointer-arith -Wundef -Wformat-security -ftree-vectorize -fdiagnostics-color=auto -fwrapv -fno-strict-aliasing -fstack-protector-strong -I/usr/local/include'
ccversion=''
gccversion='6.3.0 20170516'
gccosandvers=''
intsize=4
longsize=8
ptrsize=8
doublesize=8
byteorder=12345678
doublekind=3
d_longlong=define
longlongsize=8
d_longdbl=define
longdblsize=16
longdblkind=3
ivtype='long'
ivsize=8
nvtype='double'
nvsize=8
Off_t='off_t'
lseeksize=8
alignbytes=8
prototype=define
Linker and Libraries:
ld='cc'
ldflags =' -fstack-protector-strong -L/usr/local/lib'
libpth=/usr/local/lib /usr/lib/gcc/x86_64-linux-gnu/6/include-fixed /usr/include/x86_64-linux-gnu /usr/lib /lib/x86_64-linux-gnu /lib/../lib /usr/lib/x86_64-linux-gnu /usr/lib/../lib /lib
libs=-lpthread -lnsl -lgdbm -ldb -ldl -lm -lcrypt -lutil -lc -lgdbm_compat
perllibs=-lpthread -lnsl -ldl -lm -lcrypt -lutil -lc
libc=libc-2.24.so
so=so
useshrplib=false
libperl=libperl.a
gnulibc_version='2.24'
Dynamic Linking:
dlsrc=dl_dlopen.xs
dlext=so
d_dlsymun=undef
ccdlflags='-Wl,-E'
cccdlflags='-fPIC'
lddlflags='-shared -O2 -L/usr/local/lib -fstack-protector-strong'
Characteristics of this binary (from libperl):
Compile-time options:
HAS_TIMES
MULTIPLICITY
PERLIO_LAYERS
PERL_COPY_ON_WRITE
PERL_DONT_CREATE_GVSV
PERL_IMPLICIT_CONTEXT
PERL_MALLOC_WRAP
PERL_OP_PARENT
PERL_PRESERVE_IVUV
PERL_USE_DEVEL
USE_64_BIT_ALL
USE_64_BIT_INT
USE_ITHREADS
USE_LARGE_FILES
USE_LOCALE
USE_LOCALE_COLLATE
USE_LOCALE_CTYPE
USE_LOCALE_NUMERIC
USE_LOCALE_TIME
USE_PERLIO
USE_PERL_ATOF
USE_REENTRANT_API
Built under linux
Compiled at Jun 1 2017 23:16:30
%ENV:
PERL5LIB="/tmp/build/Throwable-0.200013-15/blib/arch:/tmp/build/Throwable-0.200013-15/blib/lib:/tmp/build/Data-DPath-0.57-14/blib/arch:/tmp/build/Data-DPath-0.57-14/blib/lib:/tmp/build/Iterator-Util-0.02-14/blib/arch:/tmp/build/Iterator-Util-0.02-14/blib/lib:/tmp/build/Iterator-0.03-14/blib/arch:/tmp/build/Iterator-0.03-14/blib/lib:/tmp/build/Config-Any-0.32-14/blib/arch:/tmp/build/Config-Any-0.32-14/blib/lib:/tmp/build/Beam-Service-0.001-14/blib/arch:/tmp/build/Beam-Service-0.001-14/blib/lib:/tmp/build/Beam-Emitter-1.007-14/blib/arch:/tmp/build/Beam-Emitter-1.007-14/blib/lib:/tmp/build/Test-Lib-0.002-14/blib/arch:/tmp/build/Test-Lib-0.002-14/blib/lib:/tmp/build/Test-API-0.010-14/blib/arch:/tmp/build/Test-API-0.010-14/blib/lib"
PERL5OPT=""
PERL5_CPANPLUS_IS_RUNNING="23837"
PERL5_CPAN_IS_RUNNING="23837"
PERLBREW_HOME="/home/njh/.perlbrew"
PERLBREW_MANPATH="/home/njh/perl5/perlbrew/perls/perl-5.26.0/man"
PERLBREW_PATH="/home/njh/perl5/perlbrew/bin:/home/njh/perl5/perlbrew/perls/perl-5.26.0/bin"
PERLBREW_PERL="perl-5.26.0"
PERLBREW_ROOT="/home/njh/perl5/perlbrew"
PERLBREW_SHELLRC_VERSION="0.82"
PERLBREW_VERSION="0.82"
PERL_USE_UNSAFE_INC="1"
@INC:
/tmp/build/Throwable-0.200013-15/blib/arch
/tmp/build/Throwable-0.200013-15/blib/lib
/tmp/build/Data-DPath-0.57-14/blib/arch
/tmp/build/Data-DPath-0.57-14/blib/lib
/tmp/build/Iterator-Util-0.02-14/blib/arch
/tmp/build/Iterator-Util-0.02-14/blib/lib
/tmp/build/Iterator-0.03-14/blib/arch
/tmp/build/Iterator-0.03-14/blib/lib
/tmp/build/Config-Any-0.32-14/blib/arch
/tmp/build/Config-Any-0.32-14/blib/lib
/tmp/build/Beam-Service-0.001-14/blib/arch
/tmp/build/Beam-Service-0.001-14/blib/lib
/tmp/build/Beam-Emitter-1.007-14/blib/arch
/tmp/build/Beam-Emitter-1.007-14/blib/lib
/tmp/build/Test-Lib-0.002-14/blib/arch
/tmp/build/Test-Lib-0.002-14/blib/lib
/tmp/build/Test-API-0.010-14/blib/arch
/tmp/build/Test-API-0.010-14/blib/lib
/home/njh/perl5/perlbrew/perls/perl-5.26.0/lib/site_perl/5.26.0/x86_64-linux-thread-multi
/home/njh/perl5/perlbrew/perls/perl-5.26.0/lib/site_perl/5.26.0
/home/njh/perl5/perlbrew/perls/perl-5.26.0/lib/5.26.0/x86_64-linux-thread-multi
/home/njh/perl5/perlbrew/perls/perl-5.26.0/lib/5.26.0
.