Dancer2-Plugin-Auth-Extensible-Provider-DBIxClass v0.0902 Perl 5 v5.30.2 x86_64-linux
- Status
- Pass
- From
- Slaven Rezić
- Dist
-
Dancer2-Plugin-Auth-Extensible-Provider-DBIxClass v0.0902
- Platform
- Perl 5 v5.30.2 x86_64-linux
- Date
- 2022-05-22 13:45:57
- ID
- 821af8a4-d9d5-11ec-a808-93cb2cbfd570
This distribution has been tested as part of the CPAN Testers
project, supporting the Perl programming language. See
http://wiki.cpantesters.org/ for more information or email
questions to cpan-testers-discuss@perl.org
--
Dear D Ruth Holloway,
This is a computer-generated report for Dancer2-Plugin-Auth-Extensible-Provider-DBIxClass-0.0902
on perl 5.30.2, created by CPAN-Reporter-1.2018.
Thank you for uploading your work to CPAN. Congratulations!
All tests were successful.
Sections of this report:
* Tester comments
* Program output
* Prerequisites
* Environment and other context
------------------------------
TESTER COMMENTS
------------------------------
Additional comments from tester:
none provided
------------------------------
PROGRAM OUTPUT
------------------------------
Output from '/usr/bin/make test':
PERL_DL_NONLAZY=1 "/opt/perl-5.30.2/bin/perl" "-MExtUtils::Command::MM" "-MTest::Harness" "-e" "undef *Test::Harness::Switches; test_harness(0, 'blib/lib', 'blib/arch')" t/*.t
t/00-compile.t ....................... ok
#
# Versions for all modules listed in MYMETA.json (including optional ones):
#
# === Configure Requires ===
#
# Module Want Have
# ------------------- ---- ----
# ExtUtils::MakeMaker any 7.62
#
# === Build Requires ===
#
# Module Want Have
# ------------------- ---- ----
# ExtUtils::MakeMaker any 7.62
#
# === Test Requires ===
#
# Module Want Have
# -------------------------------------------- ----- ----------
# DBIx::Class::Core any undef
# DBIx::Class::Schema any undef
# Dancer2 any 0.300003
# Dancer2::Plugin::Auth::Extensible 0.620 0.710
# Dancer2::Plugin::Auth::Extensible::Test any 0.710
# Dancer2::Plugin::Auth::Extensible::Test::App any 0.710
# Dancer2::Plugin::DBIx::Class any 1.06
# DateTime::Format::SQLite any 0.11
# ExtUtils::MakeMaker any 7.62
# File::Spec any 3.78
# HTTP::Cookies any 6.10
# HTTP::Request::Common any 6.27
# IO::Handle any 1.45
# IPC::Open3 any 1.20
# Plack::Test any undef
# SQL::Translator any 1.62
# Test::Deep any 1.130
# Test::MockObject any 1.20200122
# Test::More any 1.302190
# Test::Warn any 0.36
# base any 2.27
# lib any 0.65
# strict any 1.11
# warnings any 1.44
#
# === Test Recommends ===
#
# Module Want Have
# ---------- -------- --------
# CPAN::Meta 2.120900 2.150010
#
# === Runtime Requires ===
#
# Module Want Have
# ------------------------------------------------- ---- ----------
# Carp any 1.50
# DBIx::Class::ResultClass::HashRefInflator any undef
# Dancer2::Core::Types any 0.300003
# Dancer2::Plugin::Auth::Extensible::Role::Provider any 0.710
# DateTime any 1.57
# Modern::Perl any 1.20200211
# Moo any 2.005004
# Scalar::Util any 1.56
# String::CamelCase any 0.04
# namespace::clean any 0.27
#
t/00-report-prereqs.t ................ ok
t/01-deprecation.t ................... ok
t/02-provider-dbixclass.t ............ ok
t/03-provider-dbic-user_as_object.t .. ok
All tests successful.
Files=5, Tests=60, 7 wallclock secs ( 0.15 usr 0.03 sys + 5.79 cusr 0.33 csys = 6.30 CPU)
Result: PASS
------------------------------
PREREQUISITES
------------------------------
Prerequisite modules loaded:
requires:
Module Need Have
------------------------------------------------- ----- ----------
Carp 0 1.50
Dancer2::Core::Types 0 0.300003
Dancer2::Plugin::Auth::Extensible::Role::Provider 0 0.710
DateTime 0 1.57
DBIx::Class::ResultClass::HashRefInflator 0 0
Modern::Perl 0 1.20200211
Moo 0 2.005004
namespace::clean 0 0.27
perl 5.006 5.030002
Scalar::Util 0 1.56
String::CamelCase 0 0.04
build_requires:
Module Need Have
------------------------------------------------- ----- ----------
base 0 2.27
Dancer2 0 0.300003
Dancer2::Plugin::Auth::Extensible 0.620 0.710
Dancer2::Plugin::Auth::Extensible::Test 0 0.710
! Dancer2::Plugin::Auth::Extensible::Test::App 0 broken
Dancer2::Plugin::DBIx::Class 0 1.06
DateTime::Format::SQLite 0 0.11
DBIx::Class::Core 0 0
DBIx::Class::Schema 0 0
ExtUtils::MakeMaker 0 7.62
File::Spec 0 3.78
HTTP::Cookies 0 6.10
HTTP::Request::Common 0 6.27
IO::Handle 0 1.45
IPC::Open3 0 1.20
lib 0 0.65
Plack::Test 0 0
SQL::Translator 0 1.62
strict 0 1.11
Test::Deep 0 1.130
Test::MockObject 0 1.20200122
Test::More 0 1.302190
Test::Warn 0 0.36
warnings 0 1.44
configure_requires:
Module Need Have
------------------------------------------------- ----- ----------
ExtUtils::MakeMaker 0 7.62
perl 5.006 5.030002
------------------------------
ENVIRONMENT AND OTHER CONTEXT
------------------------------
Environment variables:
LANG = en_US.UTF-8
PATH = /usr/local/bin:/usr/bin:/bin:/usr/local/sbin:/usr/sbin:/sbin:/home/cpansand/bin/linux-gnu:/home/cpansand/bin/sh:/home/cpansand/bin:/usr/games:/home/cpansand/devel:/home/eserte/src/srezic-misc/scripts
PERL5LIB = /home/cpansand/.cpan/build/2022052213/Dancer2-Plugin-DBIx-Class-1.06-1/blib/arch:/home/cpansand/.cpan/build/2022052213/Dancer2-Plugin-DBIx-Class-1.06-1/blib/lib:/home/cpansand/.cpan/build/2022052213/DBIx-Class-Schema-ResultSetNames-1.03-1/blib/arch:/home/cpansand/.cpan/build/2022052213/DBIx-Class-Schema-ResultSetNames-1.03-1/blib/lib:/home/cpansand/.cpan/build/2022052213/Dancer2-Plugin-Auth-Extensible-0.710-1/blib/arch:/home/cpansand/.cpan/build/2022052213/Dancer2-Plugin-Auth-Extensible-0.710-1/blib/lib:/home/cpansand/.cpan/build/2022052213/Test-MockDateTime-0.02-0/blib/arch:/home/cpansand/.cpan/build/2022052213/Test-MockDateTime-0.02-0/blib/lib:/home/cpansand/.cpan/build/2022052213/DateTime-Format-DateParse-0.05-0/blib/arch:/home/cpansand/.cpan/build/2022052213/DateTime-Format-DateParse-0.05-0/blib/lib:/home/cpansand/.cpan/build/2022052213/Session-Token-1.503-1/blib/arch:/home/cpansand/.cpan/build/2022052213/Session-Token-1.503-1/blib/lib
PERL5OPT =
PERL5_CPANPLUS_IS_RUNNING = 16548
PERL5_CPAN_IS_RUNNING = 16548
PERL5_CPAN_IS_RUNNING_IN_RECURSION = 8181,16548
PERLDOC = -MPod::Perldoc::ToTextOverstrike
PERL_BATCH = yes
PERL_CANARY_STABILITY_NOPROMPT = 1
PERL_CPAN_REPORTER_CONFIG = /var/tmp/cpansmoker-1023/2022052210/cpanreporter_000_config.ini
PERL_EXTUTILS_AUTOINSTALL = --defaultdeps
PERL_USE_UNSAFE_INC = 1
SHELL = /usr/bin/zsh
TERM = screen
TMPDIR = /var/tmp/cpansmoker-1023/2022052210
Perl special variables (and OS-specific diagnostics, for MSWin32):
$^X = /opt/perl-5.30.2/bin/perl
$UID/$EUID = 1023 / 1023
$GID = 1023 1023
$EGID = 1023 1023
Perl module toolchain versions installed:
Module Have
------------------- --------
CPAN 2.22
CPAN::Meta 2.150010
Cwd 3.78
ExtUtils::CBuilder 0.280231
ExtUtils::Command 7.62
ExtUtils::Install 2.20
ExtUtils::MakeMaker 7.62
ExtUtils::Manifest 1.72
ExtUtils::ParseXS 3.40
File::Spec 3.78
JSON 4.05
JSON::PP 4.07
Module::Build 0.4231
Module::Signature 0.83
Parse::CPAN::Meta 2.150010
Test::Harness 3.42
Test::More 1.302190
YAML 1.30
YAML::Syck 1.32
version 0.9927
--
Summary of my perl5 (revision 5 version 30 subversion 2) configuration:
Platform:
osname=linux
osvers=3.10.0-1062.12.1.el7.x86_64
archname=x86_64-linux
uname='linux cloud3.bbbike.org 3.10.0-1062.12.1.el7.x86_64 #1 smp tue feb 4 23:02:59 utc 2020 x86_64 x86_64 x86_64 gnulinux '
config_args='-ds -e -Dprefix=/opt/perl-5.30.2 -Dcf_email=srezic@cpan.org'
hint=recommended
useposix=true
d_sigaction=define
useithreads=undef
usemultiplicity=undef
use64bitint=define
use64bitall=define
uselongdouble=undef
usemymalloc=n
default_inc_excludes_dot=define
bincompat5005=undef
Compiler:
cc='cc'
ccflags ='-fwrapv -fno-strict-aliasing -pipe -fstack-protector-strong -I/usr/local/include -D_LARGEFILE_SOURCE -D_FILE_OFFSET_BITS=64 -D_FORTIFY_SOURCE=2'
optimize='-O2'
cppflags='-fwrapv -fno-strict-aliasing -pipe -fstack-protector-strong -I/usr/local/include'
ccversion=''
gccversion='4.8.5 20150623 (Red Hat 4.8.5-39)'
gccosandvers=''
intsize=4
longsize=8
ptrsize=8
doublesize=8
byteorder=12345678
doublekind=3
d_longlong=define
longlongsize=8
d_longdbl=define
longdblsize=16
longdblkind=3
ivtype='long'
ivsize=8
nvtype='double'
nvsize=8
Off_t='off_t'
lseeksize=8
alignbytes=8
prototype=define
Linker and Libraries:
ld='cc'
ldflags =' -fstack-protector-strong -L/usr/local/lib'
libpth=/usr/local/lib /usr/lib /lib/../lib64 /usr/lib/../lib64 /lib /lib64 /usr/lib64 /usr/local/lib64
libs=-lpthread -lnsl -lgdbm -ldb -ldl -lm -lcrypt -lutil -lc -lgdbm_compat
perllibs=-lpthread -lnsl -ldl -lm -lcrypt -lutil -lc
libc=libc-2.17.so
so=so
useshrplib=false
libperl=libperl.a
gnulibc_version='2.17'
Dynamic Linking:
dlsrc=dl_dlopen.xs
dlext=so
d_dlsymun=undef
ccdlflags='-Wl,-E'
cccdlflags='-fPIC'
lddlflags='-shared -O2 -L/usr/local/lib -fstack-protector-strong'
Characteristics of this binary (from libperl):
Compile-time options:
HAS_TIMES
PERLIO_LAYERS
PERL_COPY_ON_WRITE
PERL_DONT_CREATE_GVSV
PERL_MALLOC_WRAP
PERL_OP_PARENT
PERL_PRESERVE_IVUV
USE_64_BIT_ALL
USE_64_BIT_INT
USE_LARGE_FILES
USE_LOCALE
USE_LOCALE_COLLATE
USE_LOCALE_CTYPE
USE_LOCALE_NUMERIC
USE_LOCALE_TIME
USE_PERLIO
USE_PERL_ATOF
Built under linux
Compiled at Mar 14 2020 22:35:05
%ENV:
PERL5LIB="/home/cpansand/.cpan/build/2022052213/Dancer2-Plugin-DBIx-Class-1.06-1/blib/arch:/home/cpansand/.cpan/build/2022052213/Dancer2-Plugin-DBIx-Class-1.06-1/blib/lib:/home/cpansand/.cpan/build/2022052213/DBIx-Class-Schema-ResultSetNames-1.03-1/blib/arch:/home/cpansand/.cpan/build/2022052213/DBIx-Class-Schema-ResultSetNames-1.03-1/blib/lib:/home/cpansand/.cpan/build/2022052213/Dancer2-Plugin-Auth-Extensible-0.710-1/blib/arch:/home/cpansand/.cpan/build/2022052213/Dancer2-Plugin-Auth-Extensible-0.710-1/blib/lib:/home/cpansand/.cpan/build/2022052213/Test-MockDateTime-0.02-0/blib/arch:/home/cpansand/.cpan/build/2022052213/Test-MockDateTime-0.02-0/blib/lib:/home/cpansand/.cpan/build/2022052213/DateTime-Format-DateParse-0.05-0/blib/arch:/home/cpansand/.cpan/build/2022052213/DateTime-Format-DateParse-0.05-0/blib/lib:/home/cpansand/.cpan/build/2022052213/Session-Token-1.503-1/blib/arch:/home/cpansand/.cpan/build/2022052213/Session-Token-1.503-1/blib/lib"
PERL5OPT=""
PERL5_CPANPLUS_IS_RUNNING="16548"
PERL5_CPAN_IS_RUNNING="16548"
PERL5_CPAN_IS_RUNNING_IN_RECURSION="8181,16548"
PERLDOC="-MPod::Perldoc::ToTextOverstrike"
PERL_BATCH="yes"
PERL_CANARY_STABILITY_NOPROMPT="1"
PERL_CPAN_REPORTER_CONFIG="/var/tmp/cpansmoker-1023/2022052210/cpanreporter_000_config.ini"
PERL_EXTUTILS_AUTOINSTALL="--defaultdeps"
PERL_USE_UNSAFE_INC="1"
@INC:
/home/cpansand/.cpan/build/2022052213/Dancer2-Plugin-DBIx-Class-1.06-1/blib/arch
/home/cpansand/.cpan/build/2022052213/Dancer2-Plugin-DBIx-Class-1.06-1/blib/lib
/home/cpansand/.cpan/build/2022052213/DBIx-Class-Schema-ResultSetNames-1.03-1/blib/arch
/home/cpansand/.cpan/build/2022052213/DBIx-Class-Schema-ResultSetNames-1.03-1/blib/lib
/home/cpansand/.cpan/build/2022052213/Dancer2-Plugin-Auth-Extensible-0.710-1/blib/arch
/home/cpansand/.cpan/build/2022052213/Dancer2-Plugin-Auth-Extensible-0.710-1/blib/lib
/home/cpansand/.cpan/build/2022052213/Test-MockDateTime-0.02-0/blib/arch
/home/cpansand/.cpan/build/2022052213/Test-MockDateTime-0.02-0/blib/lib
/home/cpansand/.cpan/build/2022052213/DateTime-Format-DateParse-0.05-0/blib/arch
/home/cpansand/.cpan/build/2022052213/DateTime-Format-DateParse-0.05-0/blib/lib
/home/cpansand/.cpan/build/2022052213/Session-Token-1.503-1/blib/arch
/home/cpansand/.cpan/build/2022052213/Session-Token-1.503-1/blib/lib
/opt/perl-5.30.2/lib/site_perl/5.30.2/x86_64-linux
/opt/perl-5.30.2/lib/site_perl/5.30.2
/opt/perl-5.30.2/lib/5.30.2/x86_64-linux
/opt/perl-5.30.2/lib/5.30.2
.