Directory-Queue v2.0 Perl 5 v5.14.4 i386-freebsd-thread-multi
- Status
- Pass
- From
- Nigel Horne
- Dist
-
Directory-Queue v2.0
- Platform
- Perl 5 v5.14.4 i386-freebsd-thread-multi
- Date
- 2018-04-10 14:21:47
- ID
- 80a4aa44-3cca-11e8-91ce-d3e3deac0b3f
This distribution has been tested as part of the CPAN Testers
project, supporting the Perl programming language. See
http://wiki.cpantesters.org/ for more information or email
questions to cpan-testers-discuss@perl.org
--
Dear Lionel Cons,
This is a computer-generated report for Directory-Queue-2.0
on perl 5.14.4, created by CPAN-Reporter-1.2018.
Thank you for uploading your work to CPAN. Congratulations!
All tests were successful.
Sections of this report:
* Tester comments
* Program output
* Prerequisites
* Environment and other context
------------------------------
TESTER COMMENTS
------------------------------
Additional comments from tester:
this report is from an automated smoke testing program
and was not reviewed by a human for accuracy
------------------------------
PROGRAM OUTPUT
------------------------------
Output from '/usr/bin/make test':
PERL_DL_NONLAZY=1 "/usr/home/njh/perl5/perlbrew/perls/perl-5.14.4/bin/perl" "-MExtUtils::Command::MM" "-MTest::Harness" "-e" "undef *Test::Harness::Switches; test_harness(0, 'blib/lib', 'blib/arch')" t/*.t
t/1main.t ...... ok
t/1normal.t .... ok
t/1null.t ...... ok
t/1simple.t .... ok
t/2frontend.t .. ok
t/2set.t ....... ok
t/2table.t ..... ok
t/3pod.t ....... ok
t/4podcov.t .... ok
All tests successful.
Files=9, Tests=247, 49 wallclock secs ( 1.11 usr 0.34 sys + 16.80 cusr 5.96 csys = 24.21 CPU)
Result: PASS
------------------------------
PREREQUISITES
------------------------------
Prerequisite modules loaded:
requires:
Module Need Have
------------------- ---- ---------
No::Worries 1.4 1.5
POSIX 0 1.24
Time::HiRes 0 1.9721_01
build_requires:
Module Need Have
------------------- ---- ---------
Encode 0 2.86
File::Temp 0 0.2304
Test::More 0 1.001014
configure_requires:
Module Need Have
------------------- ---- ---------
ExtUtils::MakeMaker 0 7.04
------------------------------
ENVIRONMENT AND OTHER CONTEXT
------------------------------
Environment variables:
AUTOMATED_TESTING = 1
PATH = /home/njh/perl5/perlbrew/bin:/home/njh/perl5/perlbrew/perls/perl-5.14.4/bin:src/njh/smoker/bin:/usr/local/bin:/bin:/usr/bin
PERL5LIB = /home/njh/.cpan/build/No-Worries-1.5-0/blib/arch:/home/njh/.cpan/build/No-Worries-1.5-0/blib/lib:/home/njh/.cpan/build/Test-Mockify-2.3-0/blib/arch:/home/njh/.cpan/build/Test-Mockify-2.3-0/blib/lib:/home/njh/.cpan/build/experimental-0.019-0/blib/arch:/home/njh/.cpan/build/experimental-0.019-0/blib/lib:/home/njh/.cpan/build/Test-MockObject-1.20161202-0/blib/arch:/home/njh/.cpan/build/Test-MockObject-1.20161202-0/blib/lib:/home/njh/.cpan/build/UNIVERSAL-isa-1.20171012-0/blib/arch:/home/njh/.cpan/build/UNIVERSAL-isa-1.20171012-0/blib/lib:/home/njh/.cpan/build/UNIVERSAL-can-1.20140328-0/blib/arch:/home/njh/.cpan/build/UNIVERSAL-can-1.20140328-0/blib/lib:/home/njh/.cpan/build/Sub-Override-0.09-0/blib/arch:/home/njh/.cpan/build/Sub-Override-0.09-0/blib/lib
PERL5OPT =
PERL5_CPANPLUS_IS_RUNNING = 10912
PERL5_CPAN_IS_RUNNING = 10912
PERLBREW_BASHRC_VERSION = 0.80
PERLBREW_HOME = /home/njh/.perlbrew
PERLBREW_MANPATH = /home/njh/perl5/perlbrew/perls/perl-5.14.4/man
PERLBREW_PATH = /home/njh/perl5/perlbrew/bin:/home/njh/perl5/perlbrew/perls/perl-5.14.4/bin
PERLBREW_PERL = perl-5.14.4
PERLBREW_ROOT = /home/njh/perl5/perlbrew
PERLBREW_VERSION = 0.80
SHELL = /bin/sh
Perl special variables (and OS-specific diagnostics, for MSWin32):
$^X = /usr/home/njh/perl5/perlbrew/perls/perl-5.14.4/bin/perl
$UID/$EUID = 1000 / 1000
$GID = 1000 1000 0
$EGID = 1000 1000 0
Perl module toolchain versions installed:
Module Have
------------------- --------
CPAN 2.14
CPAN::Meta 2.150005
Cwd 3.47
ExtUtils::CBuilder 0.280203
ExtUtils::Command 1.17
ExtUtils::Install 1.56
ExtUtils::MakeMaker 7.04
ExtUtils::Manifest 1.65
ExtUtils::ParseXS 3.24
File::Spec 3.47
JSON 2.90
JSON::PP 2.27400
Module::Build 0.4203
Module::Signature n/a
Parse::CPAN::Meta 1.4422
Test::Harness 3.30
Test::More 1.001014
YAML 1.23
YAML::Syck 1.29
version 0.88
--
Summary of my perl5 (revision 5 version 14 subversion 4) configuration:
Platform:
osname=freebsd, osvers=9.1-release, archname=i386-freebsd-thread-multi
uname='freebsd amber 9.1-release freebsd 9.1-release #0 r243826: tue dec 4 06:55:39 utc 2012 root@obrian.cse.buffalo.edu:usrobjusrsrcsysgeneric i386 '
config_args='-de -Dprefix=/home/njh/perl5/perlbrew/perls/perl-5.14.4 -Duseithreads -Dusemultiplicity -Accflags=-O2 -W -Wformat=2 -Wswitch -Wshadow -Wwrite-strings -Wuninitialized -Wall -pipe -mtune=native -march=native -fomit-frame-pointer -msse2 -msse -mmmx -mfpmath=sse -pedantic -D_FORTIFY_SOURCE=2 -Wpointer-arith -Wstrict-prototypes -fstack-protector -Wstack-protector -Wextra -Wbad-function-cast -Wcast-align -Wcast-qual -Wdisabled-optimization -Wendif-labels -Wfloat-equal -Wformat-nonliteral -Winline -Wmissing-declarations -Wmissing-prototypes -Wnested-externs -Wpointer-arith -Wundef -Wformat-security -ftree-vectorize -Aeval:scriptdir=/home/njh/perl5/perlbrew/perls/perl-5.14.4/bin'
hint=recommended, useposix=true, d_sigaction=define
useithreads=define, usemultiplicity=define
useperlio=define, d_sfio=undef, uselargefiles=define, usesocks=undef
use64bitint=undef, use64bitall=undef, uselongdouble=undef
usemymalloc=n, bincompat5005=undef
Compiler:
cc='cc', ccflags ='-DHAS_FPSETMASK -DHAS_FLOATINGPOINT_H -O2 -W -Wformat=2 -Wswitch -Wshadow -Wwrite-strings -Wuninitialized -Wall -pipe -mtune=native -march=native -fomit-frame-pointer -msse2 -msse -mmmx -mfpmath=sse -pedantic -D_FORTIFY_SOURCE=2 -Wpointer-arith -Wstrict-prototypes -fstack-protector -Wstack-protector -Wextra -Wbad-function-cast -Wcast-align -Wcast-qual -Wdisabled-optimization -Wendif-labels -Wfloat-equal -Wformat-nonliteral -Winline -Wmissing-declarations -Wmissing-prototypes -Wnested-externs -Wpointer-arith -Wundef -Wformat-security -ftree-vectorize -fno-strict-aliasing -I/usr/local/include',
optimize='-O',
cppflags='-DHAS_FPSETMASK -DHAS_FLOATINGPOINT_H -O2 -W -Wformat=2 -Wswitch -Wshadow -Wwrite-strings -Wuninitialized -Wall -pipe -mtune=native -march=native -fomit-frame-pointer -msse2 -msse -mmmx -mfpmath=sse -pedantic -D_FORTIFY_SOURCE=2 -Wpointer-arith -Wstrict-prototypes -fstack-protector -Wstack-protector -Wextra -Wbad-function-cast -Wcast-align -Wcast-qual -Wdisabled-optimization -Wendif-labels -Wfloat-equal -Wformat-nonliteral -Winline -Wmissing-declarations -Wmissing-prototypes -Wnested-externs -Wpointer-arith -Wundef -Wformat-security -ftree-vectorize -fno-strict-aliasing -I/usr/local/include'
ccversion='', gccversion='4.2.1 20070831 patched [FreeBSD]', gccosandvers=''
intsize=4, longsize=4, ptrsize=4, doublesize=8, byteorder=1234
d_longlong=define, longlongsize=8, d_longdbl=define, longdblsize=12
ivtype='long', ivsize=4, nvtype='double', nvsize=8, Off_t='off_t', lseeksize=8
alignbytes=4, prototype=define
Linker and Libraries:
ld='cc', ldflags ='-pthread -Wl,-E -fstack-protector -L/usr/local/lib'
libpth=/usr/lib /usr/local/lib
libs=-lm -lcrypt
perllibs=-lm -lcrypt
libc=, so=so, useshrplib=false, libperl=libperl.a
gnulibc_version=''
Dynamic Linking:
dlsrc=dl_dlopen.xs, dlext=so, d_dlsymun=undef, ccdlflags=' '
cccdlflags='-DPIC -fPIC', lddlflags='-shared -L/usr/local/lib -fstack-protector'
Characteristics of this binary (from libperl):
Compile-time options: MULTIPLICITY PERL_DONT_CREATE_GVSV
PERL_IMPLICIT_CONTEXT PERL_MALLOC_WRAP
PERL_PRESERVE_IVUV USE_ITHREADS USE_LARGE_FILES
USE_PERLIO USE_PERL_ATOF USE_REENTRANT_API
Built under freebsd
Compiled at Jul 31 2013 19:49:04
%ENV:
PERL5LIB="/home/njh/.cpan/build/No-Worries-1.5-0/blib/arch:/home/njh/.cpan/build/No-Worries-1.5-0/blib/lib:/home/njh/.cpan/build/Test-Mockify-2.3-0/blib/arch:/home/njh/.cpan/build/Test-Mockify-2.3-0/blib/lib:/home/njh/.cpan/build/experimental-0.019-0/blib/arch:/home/njh/.cpan/build/experimental-0.019-0/blib/lib:/home/njh/.cpan/build/Test-MockObject-1.20161202-0/blib/arch:/home/njh/.cpan/build/Test-MockObject-1.20161202-0/blib/lib:/home/njh/.cpan/build/UNIVERSAL-isa-1.20171012-0/blib/arch:/home/njh/.cpan/build/UNIVERSAL-isa-1.20171012-0/blib/lib:/home/njh/.cpan/build/UNIVERSAL-can-1.20140328-0/blib/arch:/home/njh/.cpan/build/UNIVERSAL-can-1.20140328-0/blib/lib:/home/njh/.cpan/build/Sub-Override-0.09-0/blib/arch:/home/njh/.cpan/build/Sub-Override-0.09-0/blib/lib"
PERL5OPT=""
PERL5_CPANPLUS_IS_RUNNING="10912"
PERL5_CPAN_IS_RUNNING="10912"
PERLBREW_BASHRC_VERSION="0.80"
PERLBREW_HOME="/home/njh/.perlbrew"
PERLBREW_MANPATH="/home/njh/perl5/perlbrew/perls/perl-5.14.4/man"
PERLBREW_PATH="/home/njh/perl5/perlbrew/bin:/home/njh/perl5/perlbrew/perls/perl-5.14.4/bin"
PERLBREW_PERL="perl-5.14.4"
PERLBREW_ROOT="/home/njh/perl5/perlbrew"
PERLBREW_VERSION="0.80"
@INC:
/home/njh/.cpan/build/No-Worries-1.5-0/blib/arch
/home/njh/.cpan/build/No-Worries-1.5-0/blib/lib
/home/njh/.cpan/build/Test-Mockify-2.3-0/blib/arch
/home/njh/.cpan/build/Test-Mockify-2.3-0/blib/lib
/home/njh/.cpan/build/experimental-0.019-0/blib/arch
/home/njh/.cpan/build/experimental-0.019-0/blib/lib
/home/njh/.cpan/build/Test-MockObject-1.20161202-0/blib/arch
/home/njh/.cpan/build/Test-MockObject-1.20161202-0/blib/lib
/home/njh/.cpan/build/UNIVERSAL-isa-1.20171012-0/blib/arch
/home/njh/.cpan/build/UNIVERSAL-isa-1.20171012-0/blib/lib
/home/njh/.cpan/build/UNIVERSAL-can-1.20140328-0/blib/arch
/home/njh/.cpan/build/UNIVERSAL-can-1.20140328-0/blib/lib
/home/njh/.cpan/build/Sub-Override-0.09-0/blib/arch
/home/njh/.cpan/build/Sub-Override-0.09-0/blib/lib
/home/njh/perl5/perlbrew/perls/perl-5.14.4/lib/site_perl/5.14.4/i386-freebsd-thread-multi
/home/njh/perl5/perlbrew/perls/perl-5.14.4/lib/site_perl/5.14.4
/home/njh/perl5/perlbrew/perls/perl-5.14.4/lib/5.14.4/i386-freebsd-thread-multi
/home/njh/perl5/perlbrew/perls/perl-5.14.4/lib/5.14.4
.