Org-Parser v0.554 Perl 5 v5.30.1 MSWin32-x64-multi-thread

Status
Pass
From
David Solimano
Dist
Org-Parser v0.554
Platform
Perl 5 v5.30.1 MSWin32-x64-multi-thread
Date
2020-12-30 17:41:21
ID
7f42f1b7-7f39-1014-8aaf-d431c753b980
This distribution has been tested as part of the CPAN Testers
project, supporting the Perl programming language.  See
http://wiki.cpantesters.org/ for more information or email
questions to cpan-testers-discuss@perl.org


--
Dear perlancar,

This is a computer-generated report for Org-Parser-0.554
on perl 5.30.1, created by CPAN-Reporter-1.2018.

Thank you for uploading your work to CPAN.  Congratulations!
All tests were successful.

Sections of this report:

    * Tester comments
    * Program output
    * Prerequisites
    * Environment and other context

------------------------------
TESTER COMMENTS
------------------------------

Additional comments from tester:

this report is from an automated smoke testing program
and was not reviewed by a human for accuracy

------------------------------
PROGRAM OUTPUT
------------------------------

Output from 'C:\STRAWB~1\c\bin\gmake.exe test':

"C:\Strawberry\perl\bin\perl.exe" "-MExtUtils::Command::MM" "-MTest::Harness" "-e" "undef *Test::Harness::Switches; test_harness(0, 'blib\lib', 'blib\arch')" t/*.t
t/00-compile.t ............... ok
t/01-basics.t ................ ok
t/author-critic.t ............ skipped: these tests are for testing by the author
t/author-pod-coverage.t ...... skipped: these tests are for testing by the author
t/author-pod-syntax.t ........ skipped: these tests are for testing by the author
t/base_element-field_name.t .. ok
t/base_element.t ............. ok
t/block.t .................... ok
t/comment.t .................. ok
t/document.t ................. ok
t/drawer.t ................... ok
t/fixed_width_section.t ...... ok
t/footnote.t ................. ok
t/headline-get_property.t .... ok
t/headline.t ................. ok
t/link_and_target.t .......... ok
t/list.t ..................... ok
t/radio_target.t ............. ok
t/regression-rt68443.t ....... ok
t/rt98375.t .................. ok
t/setting-todo.t ............. ok
t/setting.t .................. ok
t/table.t .................... ok
t/text.t ..................... ok
t/timerange.t ................ ok
t/timestamp.t ................ ok
t/unicode.t .................. ok
t/various.t .................. ok
All tests successful.
Files=28, Tests=120, 23 wallclock secs ( 0.11 usr +  0.14 sys =  0.25 CPU)
Result: PASS

------------------------------
PREREQUISITES
------------------------------

Prerequisite modules loaded:

requires:

    Module                      Need     Have    
    --------------------------- -------- --------
    Cwd                         0        3.78    
    DateTime                    0        1.51    
    DateTime::Event::Recurrence 0        0.19    
    Digest::MD5                 0        2.55    
    experimental                0        0.020   
    File::Slurper               0        0.012   
    if                          0        0.0608  
    List::MoreUtils             0        0.428   
    locale                      0        1.09    
    Log::ger                    0.037    0.037   
    Module::List                0        0.004   
    Module::Load                0        0.34    
    Moo                         0        2.003006
    Moo::Role                   0        2.003006
    perl                        5.010001 5.030001
    Scalar::Util                0        1.53    
    Storable                    3.08     3.15    
    Time::HiRes                 0        1.9760  
    utf8                        0        1.22    
    warnings                    0        1.44    

build_requires:

    Module                      Need     Have    
    --------------------------- -------- --------
    ExtUtils::MakeMaker         0        7.38    
    File::Spec                  0        3.78    
    File::Temp                  0.2307   0.2309  
    FindBin                     0        1.51    
    IO::Handle                  0        1.40    
    IPC::Open3                  0        1.20    
    lib                         0        0.65    
    Module::Loaded              0        0.08    
    Org::Dump                   0.551    0.552   
    strict                      0        1.11    
    Test::Exception             0        0.43    
    Test::More                  0.98     1.302169

configure_requires:

    Module                      Need     Have    
    --------------------------- -------- --------
    ExtUtils::MakeMaker         0        7.38    


------------------------------
ENVIRONMENT AND OTHER CONTEXT
------------------------------

Environment variables:

    AUTOMATED_TESTING = 1
    COMSPEC = C:\WINDOWS\system32\cmd.exe
    NUMBER_OF_PROCESSORS = 8
    PATH = C:\WINDOWS\system32;C:\WINDOWS;C:\WINDOWS\System32\Wbem;C:\WINDOWS\System32\WindowsPowerShell\v1.0\;C:\WINDOWS\System32\OpenSSH\;C:\Program Files\TortoiseSVN\bin;C:\RV\BIN;C:\Strawberry\c\bin;C:\Strawberry\perl\site\bin;C:\Strawberry\perl\bin;C:\Program Files\Microsoft SQL Server\130\Tools\Binn\;C:\Program Files\Microsoft SQL Server\Client SDK\ODBC\170\Tools\Binn\;C:\Program Files (x86)\Microsoft SQL Server\150\DTS\Binn\;C:\Program Files\SlikSvn\bin;C:\Program Files\dotnet\;C:\Users\solimanod\AppData\Local\Microsoft\WindowsApps;
    PERL5LIB = C:\STRAWB~1\cpan\build\Org-Dump-0.552-0/blib/arch;C:\STRAWB~1\cpan\build\Org-Dump-0.552-0/blib/lib;C:\STRAWB~1\cpan\build\String-Escape-2010.002-0/blib/arch;C:\STRAWB~1\cpan\build\String-Escape-2010.002-0/blib/lib;C:\STRAWB~1\cpan\build\Module-List-0.004-1/blib/arch;C:\STRAWB~1\cpan\build\Module-List-0.004-1/blib/lib;C:\STRAWB~1\cpan\build\Data-Dmp-0.240-2/blib/arch;C:\STRAWB~1\cpan\build\Data-Dmp-0.240-2/blib/lib;C:\STRAWB~1\cpan\build\Regexp-Stringify-0.06-2/blib/arch;C:\STRAWB~1\cpan\build\Regexp-Stringify-0.06-2/blib/lib;C:\STRAWB~1\cpan\build\Log-ger-0.037-1/blib/arch;C:\STRAWB~1\cpan\build\Log-ger-0.037-1/blib/lib;C:\STRAWB~1\cpan\build\DateTime-Event-Recurrence-0.19-0/blib/arch;C:\STRAWB~1\cpan\build\DateTime-Event-Recurrence-0.19-0/blib/lib;C:\STRAWB~1\cpan\build\DateTime-Set-0.3900-0/blib/arch;C:\STRAWB~1\cpan\build\DateTime-Set-0.3900-0/blib/lib;C:\STRAWB~1\cpan\build\Set-Infinite-0.65-0/blib/arch;C:\STRAWB~1\cpan\build\Set-Infinite-0.65-0/blib/lib;C:\STRAWB~1\cpan\build\Params-Validate-1.30-1/blib/arch;C:\STRAWB~1\cpan\build\Params-Validate-1.30-1/blib/lib
    PERL5OPT = 
    PERL5_CPANPLUS_IS_RUNNING = 106924
    PERL5_CPAN_IS_RUNNING = 106924
    PERL5_CPAN_IS_RUNNING_IN_RECURSION = 99900,106924
    PERL_CR_SMOKER_CURRENT = Org-Parser-0.554
    PERL_EXTUTILS_AUTOINSTALL = --defaultdeps
    PERL_MM_USE_DEFAULT = 1
    PERL_USE_UNSAFE_INC = 1
    PROCESSOR_IDENTIFIER = Intel64 Family 6 Model 158 Stepping 13, GenuineIntel
    TEMP = C:\Users\SOLIMA~1\AppData\Local\Temp

Perl special variables (and OS-specific diagnostics, for MSWin32):

    $^X = C:\Strawberry\perl\bin\perl.exe
    $UID/$EUID = 0 / 0
    $GID = 0
    $EGID = 0
    Win32::GetOSName = Win10
    Win32::GetOSVersion = , 10, 0, 19041, 2, 0, 0, 256, 1
    Win32::FsType = NTFS
    Win32::IsAdminUser = 0

Perl module toolchain versions installed:

    Module              Have    
    ------------------- --------
    CPAN                2.27    
    CPAN::Meta          2.150010
    Cwd                 3.78    
    ExtUtils::CBuilder  0.280231
    ExtUtils::Command   7.38    
    ExtUtils::Install   2.14    
    ExtUtils::MakeMaker 7.38    
    ExtUtils::Manifest  1.72    
    ExtUtils::ParseXS   3.40    
    File::Spec          3.78    
    JSON                4.02    
    JSON::PP            4.04    
    Module::Build       0.4229  
    Module::Signature   n/a     
    Parse::CPAN::Meta   2.150010
    Test::Harness       3.42    
    Test::More          1.302169
    YAML                1.29    
    YAML::Syck          n/a     
    version             0.9924  


--

Summary of my perl5 (revision 5 version 30 subversion 1) configuration:
   
  Platform:
    osname=MSWin32
    osvers=10.0.18363.476
    archname=MSWin32-x64-multi-thread
    uname='Win32 strawberry-perl 5.30.1.1 #1 Fri Nov 22 02:24:29 2019 x64'
    config_args='undef'
    hint=recommended
    useposix=true
    d_sigaction=undef
    useithreads=define
    usemultiplicity=define
    use64bitint=define
    use64bitall=undef
    uselongdouble=undef
    usemymalloc=n
    default_inc_excludes_dot=define
    bincompat5005=undef
  Compiler:
    cc='gcc'
    ccflags =' -s -O2 -DWIN32 -DWIN64 -DCONSERVATIVE -D__USE_MINGW_ANSI_STDIO -DPERL_TEXTMODE_SCRIPTS -DPERL_IMPLICIT_CONTEXT -DPERL_IMPLICIT_SYS -DUSE_PERLIO -fwrapv -fno-strict-aliasing -mms-bitfields'
    optimize='-s -O2'
    cppflags='-DWIN32'
    ccversion=''
    gccversion='8.3.0'
    gccosandvers=''
    intsize=4
    longsize=4
    ptrsize=8
    doublesize=8
    byteorder=12345678
    doublekind=3
    d_longlong=define
    longlongsize=8
    d_longdbl=define
    longdblsize=16
    longdblkind=3
    ivtype='long long'
    ivsize=8
    nvtype='double'
    nvsize=8
    Off_t='long long'
    lseeksize=8
    alignbytes=8
    prototype=define
  Linker and Libraries:
    ld='g++'
    ldflags ='-s -L"C:\STRAWB~1\perl\lib\CORE" -L"C:\STRAWB~1\c\lib"'
    libpth=C:\STRAWB~1\c\lib C:\STRAWB~1\c\x86_64-w64-mingw32\lib C:\STRAWB~1\c\lib\gcc\x86_64-w64-mingw32\8.3.0
    libs= -lmoldname -lkernel32 -luser32 -lgdi32 -lwinspool -lcomdlg32 -ladvapi32 -lshell32 -lole32 -loleaut32 -lnetapi32 -luuid -lws2_32 -lmpr -lwinmm -lversion -lodbc32 -lodbccp32 -lcomctl32
    perllibs= -lmoldname -lkernel32 -luser32 -lgdi32 -lwinspool -lcomdlg32 -ladvapi32 -lshell32 -lole32 -loleaut32 -lnetapi32 -luuid -lws2_32 -lmpr -lwinmm -lversion -lodbc32 -lodbccp32 -lcomctl32
    libc=
    so=dll
    useshrplib=true
    libperl=libperl530.a
    gnulibc_version=''
  Dynamic Linking:
    dlsrc=dl_win32.xs
    dlext=xs.dll
    d_dlsymun=undef
    ccdlflags=' '
    cccdlflags=' '
    lddlflags='-mdll -s -L"C:\STRAWB~1\perl\lib\CORE" -L"C:\STRAWB~1\c\lib"'


Characteristics of this binary (from libperl): 
  Compile-time options:
    HAS_TIMES
    HAVE_INTERP_INTERN
    MULTIPLICITY
    PERLIO_LAYERS
    PERL_COPY_ON_WRITE
    PERL_DONT_CREATE_GVSV
    PERL_IMPLICIT_CONTEXT
    PERL_IMPLICIT_SYS
    PERL_MALLOC_WRAP
    PERL_OP_PARENT
    PERL_PRESERVE_IVUV
    USE_64_BIT_INT
    USE_ITHREADS
    USE_LARGE_FILES
    USE_LOCALE
    USE_LOCALE_COLLATE
    USE_LOCALE_CTYPE
    USE_LOCALE_NUMERIC
    USE_LOCALE_TIME
    USE_PERLIO
    USE_PERL_ATOF
  Built under MSWin32
  Compiled at Nov 22 2019 02:30:43
  %ENV:
    PERL5LIB="C:\STRAWB~1\cpan\build\Org-Dump-0.552-0/blib/arch;C:\STRAWB~1\cpan\build\Org-Dump-0.552-0/blib/lib;C:\STRAWB~1\cpan\build\String-Escape-2010.002-0/blib/arch;C:\STRAWB~1\cpan\build\String-Escape-2010.002-0/blib/lib;C:\STRAWB~1\cpan\build\Module-List-0.004-1/blib/arch;C:\STRAWB~1\cpan\build\Module-List-0.004-1/blib/lib;C:\STRAWB~1\cpan\build\Data-Dmp-0.240-2/blib/arch;C:\STRAWB~1\cpan\build\Data-Dmp-0.240-2/blib/lib;C:\STRAWB~1\cpan\build\Regexp-Stringify-0.06-2/blib/arch;C:\STRAWB~1\cpan\build\Regexp-Stringify-0.06-2/blib/lib;C:\STRAWB~1\cpan\build\Log-ger-0.037-1/blib/arch;C:\STRAWB~1\cpan\build\Log-ger-0.037-1/blib/lib;C:\STRAWB~1\cpan\build\DateTime-Event-Recurrence-0.19-0/blib/arch;C:\STRAWB~1\cpan\build\DateTime-Event-Recurrence-0.19-0/blib/lib;C:\STRAWB~1\cpan\build\DateTime-Set-0.3900-0/blib/arch;C:\STRAWB~1\cpan\build\DateTime-Set-0.3900-0/blib/lib;C:\STRAWB~1\cpan\build\Set-Infinite-0.65-0/blib/arch;C:\STRAWB~1\cpan\build\Set-Infinite-0.65-0/blib/lib;C:\STRAWB~1\cpan\build\Params-Validate-1.30-1/blib/arch;C:\STRAWB~1\cpan\build\Params-Validate-1.30-1/blib/lib"
    PERL5_CPANPLUS_IS_RUNNING="106924"
    PERL5_CPAN_IS_RUNNING="106924"
    PERL5_CPAN_IS_RUNNING_IN_RECURSION="99900,106924"
    PERL_CR_SMOKER_CURRENT="Org-Parser-0.554"
    PERL_EXTUTILS_AUTOINSTALL="--defaultdeps"
    PERL_MM_USE_DEFAULT="1"
    PERL_USE_UNSAFE_INC="1"
  @INC:
    C:\STRAWB~1\cpan\build\Org-Dump-0.552-0/blib/arch
    C:\STRAWB~1\cpan\build\Org-Dump-0.552-0/blib/lib
    C:\STRAWB~1\cpan\build\String-Escape-2010.002-0/blib/arch
    C:\STRAWB~1\cpan\build\String-Escape-2010.002-0/blib/lib
    C:\STRAWB~1\cpan\build\Module-List-0.004-1/blib/arch
    C:\STRAWB~1\cpan\build\Module-List-0.004-1/blib/lib
    C:\STRAWB~1\cpan\build\Data-Dmp-0.240-2/blib/arch
    C:\STRAWB~1\cpan\build\Data-Dmp-0.240-2/blib/lib
    C:\STRAWB~1\cpan\build\Regexp-Stringify-0.06-2/blib/arch
    C:\STRAWB~1\cpan\build\Regexp-Stringify-0.06-2/blib/lib
    C:\STRAWB~1\cpan\build\Log-ger-0.037-1/blib/arch
    C:\STRAWB~1\cpan\build\Log-ger-0.037-1/blib/lib
    C:\STRAWB~1\cpan\build\DateTime-Event-Recurrence-0.19-0/blib/arch
    C:\STRAWB~1\cpan\build\DateTime-Event-Recurrence-0.19-0/blib/lib
    C:\STRAWB~1\cpan\build\DateTime-Set-0.3900-0/blib/arch
    C:\STRAWB~1\cpan\build\DateTime-Set-0.3900-0/blib/lib
    C:\STRAWB~1\cpan\build\Set-Infinite-0.65-0/blib/arch
    C:\STRAWB~1\cpan\build\Set-Infinite-0.65-0/blib/lib
    C:\STRAWB~1\cpan\build\Params-Validate-1.30-1/blib/arch
    C:\STRAWB~1\cpan\build\Params-Validate-1.30-1/blib/lib
    C:/Strawberry/perl/site/lib
    C:/Strawberry/perl/vendor/lib
    C:/Strawberry/perl/lib
    .