Dist-Zilla-PluginBundle-GitLab v1.0002 Perl 5 v5.20.0 x86_64-linux

Status
Pass
From
Nedzad Hrnjica (NHRNJICA)
Dist
Dist-Zilla-PluginBundle-GitLab v1.0002
Platform
Perl 5 v5.20.0 x86_64-linux
Date
2022-07-26 21:11:18
ID
7da6c0a2-0d27-11ed-83e5-bfb622f29030
This distribution has been tested as part of the CPAN Testers
project, supporting the Perl programming language.  See
http://wiki.cpantesters.org/ for more information or email
questions to cpan-testers-discuss@perl.org


--
Dear GEEKRUTH,

This is a computer-generated report for Dist-Zilla-PluginBundle-GitLab-1.0002
on perl 5.20.0, created by App::cpanminus::reporter 0.17 (1.7046).

Thank you for uploading your work to CPAN.  Congratulations!
All tests were successful.

Sections of this report:

    * Tester comments
    * Program output
    * Prerequisites
    * Environment and other context

------------------------------
TESTER COMMENTS
------------------------------

Additional comments from tester:

none provided

------------------------------
PROGRAM OUTPUT
------------------------------

Output from '':

Building and testing Dist-Zilla-PluginBundle-GitLab-1.0002
cp lib/Dist/Zilla/Plugin/GitLab/Create.pm blib/lib/Dist/Zilla/Plugin/GitLab/Create.pm
cp lib/Dist/Zilla/Plugin/GitLab/Update.pm blib/lib/Dist/Zilla/Plugin/GitLab/Update.pm
cp lib/Dist/Zilla/PluginBundle/GitLab.pm blib/lib/Dist/Zilla/PluginBundle/GitLab.pm
cp lib/Dist/Zilla/App/Command/gl.pm blib/lib/Dist/Zilla/App/Command/gl.pm
cp lib/Dist/Zilla/Plugin/GitLab/Meta.pm blib/lib/Dist/Zilla/Plugin/GitLab/Meta.pm
cp lib/Dist/Zilla/Plugin/GitLab.pm blib/lib/Dist/Zilla/Plugin/GitLab.pm
Manifying 6 pod documents
PERL_DL_NONLAZY=1 "/home/liveapp/.plenv/versions/5.20.0/bin/perl5.20.0" "-MExtUtils::Command::MM" "-MTest::Harness" "-e" "undef *Test::Harness::Switches; test_harness(0, 'blib/lib', 'blib/arch')" t/*.t t/tests/dist/zilla/app/command/*.t t/tests/dist/zilla/plugin/gitlab/*.t t/tests/dist/zilla/pluginbundle/*.t
t/00-compile.t ............................. ok
# 
# Versions for all modules listed in MYMETA.json (including optional ones):
# 
# === Configure Requires ===
# 
#     Module              Want Have
#     ------------------- ---- ----
#     ExtUtils::MakeMaker  any 7.64
# 
# === Build Requires ===
# 
#     Module              Want Have
#     ------------------- ---- ----
#     ExtUtils::MakeMaker  any 7.64
# 
# === Test Requires ===
# 
#     Module                Want     Have
#     --------------------- ---- --------
#     ExtUtils::MakeMaker    any     7.64
#     File::Spec             any     3.75
#     FindBin                any     1.51
#     IO::Handle             any     1.48
#     IPC::Open3             any     1.16
#     Path::Tiny             any    0.122
#     Test2::Tools::Compare  any 0.000145
#     Test2::Tools::Explain  any     0.02
#     Test2::Tools::JSON     any     0.05
#     Test2::V0              any 0.000145
#     Test::DZil             any    6.025
#     Test::More             any 1.302191
#     lib                    any     0.63
#     strict                 any     1.08
#     warnings               any     1.23
# 
# === Test Recommends ===
# 
#     Module         Want     Have
#     ---------- -------- --------
#     CPAN::Meta 2.120900 2.150010
# 
# === Runtime Requires ===
# 
#     Module                                Want       Have
#     ------------------------------------- ---- ----------
#     Carp                                   any       1.50
#     Class::Load                            any       0.25
#     Cwd                                    any       3.75
#     Data::Dumper                           any      2.151
#     Dist::Zilla::App                       any      6.025
#     Dist::Zilla::Dist::Minter              any      6.025
#     Dist::Zilla::Role::AfterMint           any      6.025
#     Dist::Zilla::Role::AfterRelease        any      6.025
#     Dist::Zilla::Role::MetaProvider        any      6.025
#     Dist::Zilla::Role::PluginBundle::Easy  any      6.025
#     Dist::Zilla::Role::TextTemplate        any      6.025
#     File::Basename                         any       2.85
#     Git::Wrapper                           any      0.048
#     HTTP::Tiny                             any      0.080
#     JSON::MaybeXS                          any   1.004003
#     List::Util                             any       1.62
#     Modern::Perl                           any 1.20220515
#     Moose                                  any     2.2201
#     Try::Tiny                              any       0.31
#     URL::Encode                            any       0.03
# 
t/00-report-prereqs.t ...................... ok
t/tests/dist/zilla/app/command/gl.t ........ skipped: Tests for dzil gl commands not yet written.
t/tests/dist/zilla/plugin/gitlab/create.t .. skipped: Tests not yet written.
t/tests/dist/zilla/plugin/gitlab/meta.t .... skipped: Tests not yet written.
t/tests/dist/zilla/plugin/gitlab/update.t .. ok
t/tests/dist/zilla/pluginbundle/gitlab.t ... skipped: Tests not yet written.
All tests successful.
Files=7, Tests=8,  2 wallclock secs ( 0.02 usr  0.01 sys +  2.35 cusr  0.28 csys =  2.66 CPU)
Result: PASS

------------------------------
PREREQUISITES
------------------------------

Prerequisite modules loaded:

    No requirements found

------------------------------
ENVIRONMENT AND OTHER CONTEXT
------------------------------

Environment variables:

    LANG = C.UTF-8
    PATH = /home/liveapp/.plenv/versions/5.20.0/bin:/home/liveapp/.plenv/libexec:/home/liveapp/.plenv/plugins/perl-build/bin:/home/liveapp/cpantesters.new/5.20.0/local/bin:/home/liveapp/.plenv/shims:/home/liveapp/.plenv/bin:/usr/local/sbin:/usr/local/bin:/usr/sbin:/usr/bin:/sbin:/bin:/usr/games:/usr/local/games:/snap/bin
    PERL5LIB = /home/liveapp/cpantesters.new/5.20.0/local/lib/perl5
    SHELL = /bin/bash
    TERM = xterm-256color

Perl special variables (and OS-specific diagnostics, for MSWin32):

    EGID = 1001 27 1001
    EUID = 1001
    EXECUTABLE_NAME = /home/liveapp/.plenv/versions/5.20.0/bin/perl5.20.0
    GID = 1001 27 1001
    UID = 1001

Perl module toolchain versions installed:

    Module              Have    
    ------------------- --------
    CPAN                2.05    
    CPAN::Meta          2.150010
    Cwd                 3.75    
    ExtUtils::CBuilder  0.280236
    ExtUtils::Command   7.64    
    ExtUtils::Install   2.06    
    ExtUtils::MakeMaker 7.64    
    ExtUtils::Manifest  1.70    
    ExtUtils::ParseXS   3.44    
    File::Spec          3.75    
    JSON                4.07    
    JSON::PP            4.10    
    Module::Build       0.4231  
    Module::Signature   n/a     
    Parse::CPAN::Meta   2.150010
    Test::Harness       3.44    
    Test::More          1.302191
    YAML                1.30    
    YAML::Syck          1.34    
    version             0.9929  


--

Summary of my perl5 (revision 5 version 20 subversion 0) configuration:
   
  Platform:
    osname=linux, osvers=5.4.0-91-generic, archname=x86_64-linux
    uname='linux supremeadmin 5.4.0-91-generic #102-ubuntu smp fri nov 5 16:31:28 utc 2021 x86_64 x86_64 x86_64 gnulinux '
    config_args='-Dprefix=/home/liveapp/.plenv/versions/5.20.0 -de -Dversiononly -A'eval:scriptdir=/home/liveapp/.plenv/versions/5.20.0/bin''
    hint=recommended, useposix=true, d_sigaction=define
    useithreads=undef, usemultiplicity=undef
    use64bitint=define, use64bitall=define, uselongdouble=undef
    usemymalloc=n, bincompat5005=undef
  Compiler:
    cc='cc', ccflags ='-fwrapv -fno-strict-aliasing -pipe -fstack-protector -I/usr/local/include -D_LARGEFILE_SOURCE -D_FILE_OFFSET_BITS=64',
    optimize='-O2',
    cppflags='-fwrapv -fno-strict-aliasing -pipe -fstack-protector -I/usr/local/include'
    ccversion='', gccversion='9.4.0', gccosandvers=''
    intsize=4, longsize=8, ptrsize=8, doublesize=8, byteorder=12345678
    d_longlong=define, longlongsize=8, d_longdbl=define, longdblsize=16
    ivtype='long', ivsize=8, nvtype='double', nvsize=8, Off_t='off_t', lseeksize=8
    alignbytes=8, prototype=define
  Linker and Libraries:
    ld='cc', ldflags =' -fstack-protector -L/usr/local/lib'
    libpth=/usr/local/lib /usr/include/x86_64-linux-gnu /usr/lib /lib/x86_64-linux-gnu /lib/../lib /usr/lib/x86_64-linux-gnu /usr/lib/../lib /lib
    libs=-lnsl -ldl -lm -lcrypt -lutil -lc
    perllibs=-lnsl -ldl -lm -lcrypt -lutil -lc
    libc=libc-2.31.so, so=so, useshrplib=false, libperl=libperl.a
    gnulibc_version='2.31'
  Dynamic Linking:
    dlsrc=dl_dlopen.xs, dlext=so, d_dlsymun=undef, ccdlflags='-Wl,-E'
    cccdlflags='-fPIC', lddlflags='-shared -O2 -L/usr/local/lib -fstack-protector'


Characteristics of this binary (from libperl): 
  Compile-time options: HAS_TIMES PERLIO_LAYERS PERL_DONT_CREATE_GVSV
                        PERL_HASH_FUNC_ONE_AT_A_TIME_HARD PERL_MALLOC_WRAP
                        PERL_NEW_COPY_ON_WRITE PERL_PRESERVE_IVUV
                        USE_64_BIT_ALL USE_64_BIT_INT USE_LARGE_FILES
                        USE_LOCALE USE_LOCALE_COLLATE USE_LOCALE_CTYPE
                        USE_LOCALE_NUMERIC USE_PERLIO USE_PERL_ATOF
  Locally applied patches:
	Devel::PatchPerl 2.08
  Built under linux
  Compiled at Jul 24 2022 12:48:23
  %ENV:
    PERL5LIB="/home/liveapp/cpantesters.new/5.20.0/local/lib/perl5"
  @INC:
    /home/liveapp/cpantesters.new/5.20.0/local/lib/perl5
    /home/liveapp/.plenv/versions/5.20.0/lib/perl5/site_perl/5.20.0/x86_64-linux
    /home/liveapp/.plenv/versions/5.20.0/lib/perl5/site_perl/5.20.0
    /home/liveapp/.plenv/versions/5.20.0/lib/perl5/5.20.0/x86_64-linux
    /home/liveapp/.plenv/versions/5.20.0/lib/perl5/5.20.0
    .