Encode v3.16 Perl 5 v5.8.9 cygwin-thread-multi

Status
Pass
From
Peter John Acklam (PJACKLAM)
Dist
Encode v3.16
Platform
Perl 5 v5.8.9 cygwin-thread-multi
Date
2022-02-05 14:02:22
ID
7cf2e827-6e81-1014-aab9-43f664b802d6
This distribution has been tested as part of the CPAN Testers
project, supporting the Perl programming language.  See
http://wiki.cpantesters.org/ for more information or email
questions to cpan-testers-discuss@perl.org


--
Dear Dan Kogai,

This is a computer-generated report for Encode-3.16
on perl 5.8.9, created by CPAN-Reporter-1.2018.

Thank you for uploading your work to CPAN.  Congratulations!
All tests were successful.

Sections of this report:

    * Tester comments
    * Program output
    * Prerequisites
    * Environment and other context

------------------------------
TESTER COMMENTS
------------------------------

Additional comments from tester:

this report is from an automated smoke testing program
and was not reviewed by a human for accuracy

------------------------------
PROGRAM OUTPUT
------------------------------

Output from '/usr/bin/make test':

make[1]: Entering directory '/cygdrive/c/opt/perl5/cygwin_nt-10.0-wow/3.3.3/i686/cpan/5.8.9/i686-cygwin-thread-multi/build/Encode-3.16-0/Byte'
make[1]: Leaving directory '/cygdrive/c/opt/perl5/cygwin_nt-10.0-wow/3.3.3/i686/cpan/5.8.9/i686-cygwin-thread-multi/build/Encode-3.16-0/Byte'
make[1]: Entering directory '/cygdrive/c/opt/perl5/cygwin_nt-10.0-wow/3.3.3/i686/cpan/5.8.9/i686-cygwin-thread-multi/build/Encode-3.16-0/CN'
make[1]: Leaving directory '/cygdrive/c/opt/perl5/cygwin_nt-10.0-wow/3.3.3/i686/cpan/5.8.9/i686-cygwin-thread-multi/build/Encode-3.16-0/CN'
make[1]: Entering directory '/cygdrive/c/opt/perl5/cygwin_nt-10.0-wow/3.3.3/i686/cpan/5.8.9/i686-cygwin-thread-multi/build/Encode-3.16-0/EBCDIC'
make[1]: Leaving directory '/cygdrive/c/opt/perl5/cygwin_nt-10.0-wow/3.3.3/i686/cpan/5.8.9/i686-cygwin-thread-multi/build/Encode-3.16-0/EBCDIC'
make[1]: Entering directory '/cygdrive/c/opt/perl5/cygwin_nt-10.0-wow/3.3.3/i686/cpan/5.8.9/i686-cygwin-thread-multi/build/Encode-3.16-0/JP'
make[1]: Leaving directory '/cygdrive/c/opt/perl5/cygwin_nt-10.0-wow/3.3.3/i686/cpan/5.8.9/i686-cygwin-thread-multi/build/Encode-3.16-0/JP'
make[1]: Entering directory '/cygdrive/c/opt/perl5/cygwin_nt-10.0-wow/3.3.3/i686/cpan/5.8.9/i686-cygwin-thread-multi/build/Encode-3.16-0/KR'
make[1]: Leaving directory '/cygdrive/c/opt/perl5/cygwin_nt-10.0-wow/3.3.3/i686/cpan/5.8.9/i686-cygwin-thread-multi/build/Encode-3.16-0/KR'
make[1]: Entering directory '/cygdrive/c/opt/perl5/cygwin_nt-10.0-wow/3.3.3/i686/cpan/5.8.9/i686-cygwin-thread-multi/build/Encode-3.16-0/Symbol'
make[1]: Leaving directory '/cygdrive/c/opt/perl5/cygwin_nt-10.0-wow/3.3.3/i686/cpan/5.8.9/i686-cygwin-thread-multi/build/Encode-3.16-0/Symbol'
make[1]: Entering directory '/cygdrive/c/opt/perl5/cygwin_nt-10.0-wow/3.3.3/i686/cpan/5.8.9/i686-cygwin-thread-multi/build/Encode-3.16-0/TW'
make[1]: Leaving directory '/cygdrive/c/opt/perl5/cygwin_nt-10.0-wow/3.3.3/i686/cpan/5.8.9/i686-cygwin-thread-multi/build/Encode-3.16-0/TW'
make[1]: Entering directory '/cygdrive/c/opt/perl5/cygwin_nt-10.0-wow/3.3.3/i686/cpan/5.8.9/i686-cygwin-thread-multi/build/Encode-3.16-0/Unicode'
make[1]: Leaving directory '/cygdrive/c/opt/perl5/cygwin_nt-10.0-wow/3.3.3/i686/cpan/5.8.9/i686-cygwin-thread-multi/build/Encode-3.16-0/Unicode'
PERL_DL_NONLAZY=1 /cygdrive/c/opt/perl5/cygwin_nt-10.0-wow/3.3.3/i686/perl/5.8.9/i686-cygwin-thread-multi/bin/perl5.8.9.exe "-MExtUtils::Command::MM" "-e" "test_harness(0, 'blib/lib', 'blib/arch')" t/*.t
t/Aliases..................ok
t/at-cn....................ok
t/at-tw....................ok
t/CJKT.....................ok
t/cow......................ok
t/decode...................ok
        5/17 skipped: various reasons
t/enc_data.................ok
t/enc_eucjp................ok
t/enc_module...............ok
t/enc_utf8.................ok
t/Encode...................ok
        1/2722 skipped: various reasons
t/Encoder..................ok
t/encoding-locale..........ok
t/encoding.................ok
t/fallback.................ok
t/from_to..................ok
t/grow.....................ok
t/gsm0338..................ok
t/guess....................ok
t/isa......................ok
t/jis7-fallback............ok
t/jperl....................ok
t/magic....................ok
t/mime-header..............ok
t/mime-name................ok
t/mime_header_iso2022jp....ok
t/perlio...................ok
t/piconv...................ok
t/rt113164.................ok
t/rt65541..................ok
t/rt76824..................ok
t/rt85489..................ok
t/rt86327..................ok
t/taint....................ok
t/truncated_utf8...........ok
        1/9 unexpectedly succeeded
TODO PASSED test 9

t/undef....................ok
t/Unicode..................ok
t/Unicode_trailing_nul.....# temp file: /tmp/Y8fW6pwIEx
ok
t/use-Encode-Alias.........ok
t/utf8ref..................ok
t/utf8strict...............ok
t/utf8warnings.............ok
t/whatwg-aliases...........skipped
        all skipped: For maintainers only
t/xml......................ok
All tests successful (1 subtest UNEXPECTEDLY SUCCEEDED), 1 test and 6 subtests skipped.
Passed TODO        Stat Wstat TODOs Pass  List of Passed
-------------------------------------------------------------------------------
t/truncated_utf8.t                1    1  9
Files=44, Tests=7778, 126 wallclock secs (23.10 cusr + 76.99 csys = 100.09 CPU)
make[1]: Entering directory '/cygdrive/c/opt/perl5/cygwin_nt-10.0-wow/3.3.3/i686/cpan/5.8.9/i686-cygwin-thread-multi/build/Encode-3.16-0/Byte'
No tests defined for Encode::Byte extension.
make[1]: Leaving directory '/cygdrive/c/opt/perl5/cygwin_nt-10.0-wow/3.3.3/i686/cpan/5.8.9/i686-cygwin-thread-multi/build/Encode-3.16-0/Byte'
make[1]: Entering directory '/cygdrive/c/opt/perl5/cygwin_nt-10.0-wow/3.3.3/i686/cpan/5.8.9/i686-cygwin-thread-multi/build/Encode-3.16-0/CN'
No tests defined for Encode::CN extension.
make[1]: Leaving directory '/cygdrive/c/opt/perl5/cygwin_nt-10.0-wow/3.3.3/i686/cpan/5.8.9/i686-cygwin-thread-multi/build/Encode-3.16-0/CN'
make[1]: Entering directory '/cygdrive/c/opt/perl5/cygwin_nt-10.0-wow/3.3.3/i686/cpan/5.8.9/i686-cygwin-thread-multi/build/Encode-3.16-0/EBCDIC'
No tests defined for Encode::EBCDIC extension.
make[1]: Leaving directory '/cygdrive/c/opt/perl5/cygwin_nt-10.0-wow/3.3.3/i686/cpan/5.8.9/i686-cygwin-thread-multi/build/Encode-3.16-0/EBCDIC'
make[1]: Entering directory '/cygdrive/c/opt/perl5/cygwin_nt-10.0-wow/3.3.3/i686/cpan/5.8.9/i686-cygwin-thread-multi/build/Encode-3.16-0/JP'
No tests defined for Encode::JP extension.
make[1]: Leaving directory '/cygdrive/c/opt/perl5/cygwin_nt-10.0-wow/3.3.3/i686/cpan/5.8.9/i686-cygwin-thread-multi/build/Encode-3.16-0/JP'
make[1]: Entering directory '/cygdrive/c/opt/perl5/cygwin_nt-10.0-wow/3.3.3/i686/cpan/5.8.9/i686-cygwin-thread-multi/build/Encode-3.16-0/KR'
No tests defined for Encode::KR extension.
make[1]: Leaving directory '/cygdrive/c/opt/perl5/cygwin_nt-10.0-wow/3.3.3/i686/cpan/5.8.9/i686-cygwin-thread-multi/build/Encode-3.16-0/KR'
make[1]: Entering directory '/cygdrive/c/opt/perl5/cygwin_nt-10.0-wow/3.3.3/i686/cpan/5.8.9/i686-cygwin-thread-multi/build/Encode-3.16-0/Symbol'
No tests defined for Encode::Symbol extension.
make[1]: Leaving directory '/cygdrive/c/opt/perl5/cygwin_nt-10.0-wow/3.3.3/i686/cpan/5.8.9/i686-cygwin-thread-multi/build/Encode-3.16-0/Symbol'
make[1]: Entering directory '/cygdrive/c/opt/perl5/cygwin_nt-10.0-wow/3.3.3/i686/cpan/5.8.9/i686-cygwin-thread-multi/build/Encode-3.16-0/TW'
No tests defined for Encode::TW extension.
make[1]: Leaving directory '/cygdrive/c/opt/perl5/cygwin_nt-10.0-wow/3.3.3/i686/cpan/5.8.9/i686-cygwin-thread-multi/build/Encode-3.16-0/TW'
make[1]: Entering directory '/cygdrive/c/opt/perl5/cygwin_nt-10.0-wow/3.3.3/i686/cpan/5.8.9/i686-cygwin-thread-multi/build/Encode-3.16-0/Unicode'
No tests defined for Encode::Unicode extension.
make[1]: Leaving directory '/cygdrive/c/opt/perl5/cygwin_nt-10.0-wow/3.3.3/i686/cpan/5.8.9/i686-cygwin-thread-multi/build/Encode-3.16-0/Unicode'

------------------------------
PREREQUISITES
------------------------------

Prerequisite modules loaded:

requires:

    Module              Need  Have    
    ------------------- ----- --------
    Exporter            5.57  5.63    
    parent              0.221 0.238   
    Storable            0     2.19    

build_requires:

    Module              Need  Have    
    ------------------- ----- --------
    ExtUtils::MakeMaker 0     6.68    
    Test::More          0.92  1.302188

configure_requires:

    Module              Need  Have    
    ------------------- ----- --------
    ExtUtils::MakeMaker 0     6.68    


------------------------------
ENVIRONMENT AND OTHER CONTEXT
------------------------------

Environment variables:

    AUTOMATED_TESTING = 1
    COMSPEC = C:\WINDOWS\system32\cmd.exe
    NUMBER_OF_PROCESSORS = 12
    PATH = /usr/site/gcc-11.2.0/bin:/opt/perl5/cygwin_nt-10.0-wow/3.3.3/i686/perl/5.8.9/i686-cygwin-thread-multi/bin:/opt/perl5/cygwin_nt-10.0-wow/3.3.3/i686/perl/5.8.9/i686-cygwin-thread-multi/local/bin:/usr/bin:/bin:/usr/local/bin
    PERL5LIB = /opt/perl5/cygwin_nt-10.0-wow/3.3.3/i686/cpan/5.8.9/i686-cygwin-thread-multi/build/parent-0.238-0/blib/arch:/opt/perl5/cygwin_nt-10.0-wow/3.3.3/i686/cpan/5.8.9/i686-cygwin-thread-multi/build/parent-0.238-0/blib/lib:/opt/perl5/cygwin_nt-10.0-wow/3.3.3/i686/cpan/5.8.9/i686-cygwin-thread-multi/build/Pod-Simple-3.43-0/blib/arch:/opt/perl5/cygwin_nt-10.0-wow/3.3.3/i686/cpan/5.8.9/i686-cygwin-thread-multi/build/Pod-Simple-3.43-0/blib/lib:/opt/perl5/cygwin_nt-10.0-wow/3.3.3/i686/cpan/5.8.9/i686-cygwin-thread-multi/build/Pod-Escapes-1.07-0/blib/arch:/opt/perl5/cygwin_nt-10.0-wow/3.3.3/i686/cpan/5.8.9/i686-cygwin-thread-multi/build/Pod-Escapes-1.07-0/blib/lib:/opt/perl5/cygwin_nt-10.0-wow/3.3.3/i686/cpan/5.8.9/i686-cygwin-thread-multi/build/ExtUtils-ParseXS-3.44-0/blib/arch:/opt/perl5/cygwin_nt-10.0-wow/3.3.3/i686/cpan/5.8.9/i686-cygwin-thread-multi/build/ExtUtils-ParseXS-3.44-0/blib/lib:/opt/perl5/cygwin_nt-10.0-wow/3.3.3/i686/cpan/5.8.9/i686-cygwin-thread-multi/build/ExtUtils-CBuilder-0.280236-0/blib/arch:/opt/perl5/cygwin_nt-10.0-wow/3.3.3/i686/cpan/5.8.9/i686-cygwin-thread-multi/build/ExtUtils-CBuilder-0.280236-0/blib/lib:/opt/perl5/cygwin_nt-10.0-wow/3.3.3/i686/cpan/5.8.9/i686-cygwin-thread-multi/build/Perl-OSType-1.010-0/blib/arch:/opt/perl5/cygwin_nt-10.0-wow/3.3.3/i686/cpan/5.8.9/i686-cygwin-thread-multi/build/Perl-OSType-1.010-0/blib/lib:/opt/perl5/cygwin_nt-10.0-wow/3.3.3/i686/cpan/5.8.9/i686-cygwin-thread-multi/build/Math-Summation-0.02-0/blib/arch:/opt/perl5/cygwin_nt-10.0-wow/3.3.3/i686/cpan/5.8.9/i686-cygwin-thread-multi/build/Math-Summation-0.02-0/blib/lib:/opt/perl5/cygwin_nt-10.0-wow/3.3.3/i686/perl/5.8.9/i686-cygwin-thread-multi/local/lib/perl5:/opt/perl5/cygwin_nt-10.0-wow/3.3.3/i686/perl/5.8.9/i686-cygwin-thread-multi/local/lib/site_perl:/opt/perl5/cygwin_nt-10.0-wow/3.3.3/i686/perl/5.8.9/i686-cygwin-thread-multi/local/lib
    PERL5OPT = 
    PERL5_CPANPLUS_IS_RUNNING = 9304
    PERL5_CPAN_IS_RUNNING = 9304
    PERL_CANARY_STABILITY_NOPROMPT = 1
    PERL_CPAN_REPORTER_CONFIG = /cygdrive/c/peter/.cpanreporter/config-cygwin-OS-A01-L0123.ini
    PERL_EXTUTILS_AUTOINSTALL = 1
    PERL_LOCAL_LIB_ROOT = /cygdrive/c/peter/perl5
    PERL_MB_OPT = --install_base "/cygdrive/c/peter/perl5"
    PERL_MM_OPT = INSTALL_BASE=/cygdrive/c/peter/perl5
    PERL_MM_USE_DEFAULT = 1
    PERL_TEST_CRITIC = 1
    PERL_TEST_CRITIC = 1
    PERL_TEST_POD = 1
    PERL_TEST_POD = 1
    PERL_USE_UNSAFE_INC = 1
    POD_TESTING = 1
    POD_TESTS = 1
    PROCESSOR_IDENTIFIER = Intel64 Family 6 Model 158 Stepping 10, GenuineIntel
    SHELL = /bin/bash
    TEMP = /tmp
    TERM = xterm

Perl special variables (and OS-specific diagnostics, for MSWin32):

    $^X = /cygdrive/c/opt/perl5/cygwin_nt-10.0-wow/3.3.3/i686/perl/5.8.9/i686-cygwin-thread-multi/bin/perl5.8.9
    $UID/$EUID = 1061331 / 1061331
    $GID = 1049089 1049089 545 4 66049 11 15 4095 66048 1104222 1150627 1098011 1051245 1113266 1089123 1139839 1090502 1141767 1081310 1090413 1061909 1058653 1081942 1122108 1125494 1137338 1137546 1088201 1143577 1138331 1151869 1090906 1093944 1122107 1051228 1057394 1141985 1068783 1138202 1056539 1057337 1089132 1100278 1051354 1104220 1059243 1089865 1138328 1087957 1105777 1150082 1135663 1152822 1049649 1152548 1125495 1152552 1139179 1069945 1059531 1090104 1090492 1068897 1081637 1095782 1075170 1144155 1139332 1146142 1111057 1137882 1069144 1154615 1081620 70145 1049147 1136188 1083352 401408
    $EGID = 1049089 1049089 545 4 66049 11 15 4095 66048 1104222 1150627 1098011 1051245 1113266 1089123 1139839 1090502 1141767 1081310 1090413 1061909 1058653 1081942 1122108 1125494 1137338 1137546 1088201 1143577 1138331 1151869 1090906 1093944 1122107 1051228 1057394 1141985 1068783 1138202 1056539 1057337 1089132 1100278 1051354 1104220 1059243 1089865 1138328 1087957 1105777 1150082 1135663 1152822 1049649 1152548 1125495 1152552 1139179 1069945 1059531 1090104 1090492 1068897 1081637 1095782 1075170 1144155 1139332 1146142 1111057 1137882 1069144 1154615 1081620 70145 1049147 1136188 1083352 401408

Perl module toolchain versions installed:

    Module              Have    
    ------------------- --------
    CPAN                2.29    
    CPAN::Meta          2.150010
    Cwd                 3.75    
    ExtUtils::CBuilder  0.280236
    ExtUtils::Command   1.16    
    ExtUtils::Install   1.54    
    ExtUtils::MakeMaker 6.68    
    ExtUtils::Manifest  1.60    
    ExtUtils::ParseXS   3.44    
    File::Spec          3.75    
    JSON                n/a     
    JSON::PP            4.06    
    Module::Build       n/a     
    Module::Signature   n/a     
    Parse::CPAN::Meta   2.150010
    Test::Harness       2.64    
    Test::More          1.302188
    YAML                1.30    
    YAML::Syck          n/a     
    version             0.88    


--

Summary of my perl5 (revision 5 version 8 subversion 9) configuration:
  Platform:
    osname=cygwin, osvers=3.3.3(0.34153), archname=cygwin-thread-multi
    uname='cygwin_nt-10.0-wow os-a01-l0123 3.3.3(0.34153) 2021-12-03 16:31 i686 cygwin '
    config_args='-de -Dmksymlinks -Uinc_version_list -Uinstallusrbinperl -Dcc=gcc -Dld=g++ -Dusethreads -Dusemultiplicity -Uuse64bitint -Dprefix=/opt/perl5/cygwin_nt-10.0-wow/3.3.3/i686/perl/5.8.9/i686-cygwin-thread-multi -Darchname=i686-cygwin-thread-multi'
    hint=recommended, useposix=true, d_sigaction=define
    usethreads=define use5005threads=undef useithreads=define usemultiplicity=define
    useperlio=define d_sfio=undef uselargefiles=define usesocks=undef
    use64bitint=undef use64bitall=undef uselongdouble=undef
    usemymalloc=y, bincompat5005=undef
  Compiler:
    cc='gcc', ccflags ='-DPERL_USE_SAFE_PUTENV -U__STRICT_ANSI__ -fpcc-struct-return -pipe -I/usr/local/include',
    optimize='-O3',
    cppflags='-DPERL_USE_SAFE_PUTENV -U__STRICT_ANSI__ -fpcc-struct-return -pipe -I/usr/local/include -D__GNUC__'
    ccversion='', gccversion='11.2.0', gccosandvers=''
    intsize=4, longsize=4, ptrsize=4, doublesize=8, byteorder=1234
    d_longlong=define, longlongsize=8, d_longdbl=define, longdblsize=12
    ivtype='long', ivsize=4, nvtype='double', nvsize=8, Off_t='off_t', lseeksize=8
    alignbytes=8, prototype=define
  Linker and Libraries:
    ld='g++', ldflags =' -Wl,--enable-auto-import -Wl,--export-all-symbols -Wl,--stack,8388608 -Wl,--enable-auto-image-base -L/usr/local/lib'
    libpth=/usr/local/lib /usr/lib /lib
    libs=-ldl
    perllibs=-ldl
    libc=/usr/lib/libc.a, so=dll, useshrplib=true, libperl=libperl.a
    gnulibc_version=''
  Dynamic Linking:
    dlsrc=dl_dlopen.xs, dlext=dll, d_dlsymun=undef, ccdlflags=' '
    cccdlflags=' ', lddlflags=' --shared  -Wl,--enable-auto-import -Wl,--export-all-symbols -Wl,--stack,8388608 -Wl,--enable-auto-image-base -L/usr/local/lib'


Characteristics of this binary (from libperl): 
  Compile-time options: MULTIPLICITY MYMALLOC PERL_IMPLICIT_CONTEXT
                        PERL_USE_SAFE_PUTENV USE_FAST_STDIO USE_ITHREADS
                        USE_LARGE_FILES USE_PERLIO USE_REENTRANT_API
  Built under cygwin
  Compiled at Dec 10 2021 17:42:01
  %ENV:
    PERL5LIB="/opt/perl5/cygwin_nt-10.0-wow/3.3.3/i686/cpan/5.8.9/i686-cygwin-thread-multi/build/parent-0.238-0/blib/arch:/opt/perl5/cygwin_nt-10.0-wow/3.3.3/i686/cpan/5.8.9/i686-cygwin-thread-multi/build/parent-0.238-0/blib/lib:/opt/perl5/cygwin_nt-10.0-wow/3.3.3/i686/cpan/5.8.9/i686-cygwin-thread-multi/build/Pod-Simple-3.43-0/blib/arch:/opt/perl5/cygwin_nt-10.0-wow/3.3.3/i686/cpan/5.8.9/i686-cygwin-thread-multi/build/Pod-Simple-3.43-0/blib/lib:/opt/perl5/cygwin_nt-10.0-wow/3.3.3/i686/cpan/5.8.9/i686-cygwin-thread-multi/build/Pod-Escapes-1.07-0/blib/arch:/opt/perl5/cygwin_nt-10.0-wow/3.3.3/i686/cpan/5.8.9/i686-cygwin-thread-multi/build/Pod-Escapes-1.07-0/blib/lib:/opt/perl5/cygwin_nt-10.0-wow/3.3.3/i686/cpan/5.8.9/i686-cygwin-thread-multi/build/ExtUtils-ParseXS-3.44-0/blib/arch:/opt/perl5/cygwin_nt-10.0-wow/3.3.3/i686/cpan/5.8.9/i686-cygwin-thread-multi/build/ExtUtils-ParseXS-3.44-0/blib/lib:/opt/perl5/cygwin_nt-10.0-wow/3.3.3/i686/cpan/5.8.9/i686-cygwin-thread-multi/build/ExtUtils-CBuilder-0.280236-0/blib/arch:/opt/perl5/cygwin_nt-10.0-wow/3.3.3/i686/cpan/5.8.9/i686-cygwin-thread-multi/build/ExtUtils-CBuilder-0.280236-0/blib/lib:/opt/perl5/cygwin_nt-10.0-wow/3.3.3/i686/cpan/5.8.9/i686-cygwin-thread-multi/build/Perl-OSType-1.010-0/blib/arch:/opt/perl5/cygwin_nt-10.0-wow/3.3.3/i686/cpan/5.8.9/i686-cygwin-thread-multi/build/Perl-OSType-1.010-0/blib/lib:/opt/perl5/cygwin_nt-10.0-wow/3.3.3/i686/cpan/5.8.9/i686-cygwin-thread-multi/build/Math-Summation-0.02-0/blib/arch:/opt/perl5/cygwin_nt-10.0-wow/3.3.3/i686/cpan/5.8.9/i686-cygwin-thread-multi/build/Math-Summation-0.02-0/blib/lib:/opt/perl5/cygwin_nt-10.0-wow/3.3.3/i686/perl/5.8.9/i686-cygwin-thread-multi/local/lib/perl5:/opt/perl5/cygwin_nt-10.0-wow/3.3.3/i686/perl/5.8.9/i686-cygwin-thread-multi/local/lib/site_perl:/opt/perl5/cygwin_nt-10.0-wow/3.3.3/i686/perl/5.8.9/i686-cygwin-thread-multi/local/lib"
    PERL5OPT=""
    PERL5_CPANPLUS_IS_RUNNING="9304"
    PERL5_CPAN_IS_RUNNING="9304"
    PERL_CANARY_STABILITY_NOPROMPT="1"
    PERL_CPAN_REPORTER_CONFIG="/cygdrive/c/peter/.cpanreporter/config-cygwin-OS-A01-L0123.ini"
    PERL_EXTUTILS_AUTOINSTALL="1"
    PERL_LOCAL_LIB_ROOT="/cygdrive/c/peter/perl5"
    PERL_MB_OPT="--install_base "/cygdrive/c/peter/perl5""
    PERL_MM_OPT="INSTALL_BASE=/cygdrive/c/peter/perl5"
    PERL_MM_USE_DEFAULT="1"
    PERL_TEST_CRITIC="1"
    PERL_TEST_POD="1"
    PERL_USE_UNSAFE_INC="1"
    CYGWIN=""
  @INC:
    /opt/perl5/cygwin_nt-10.0-wow/3.3.3/i686/cpan/5.8.9/i686-cygwin-thread-multi/build/parent-0.238-0/blib/arch
    /opt/perl5/cygwin_nt-10.0-wow/3.3.3/i686/cpan/5.8.9/i686-cygwin-thread-multi/build/parent-0.238-0/blib/lib
    /opt/perl5/cygwin_nt-10.0-wow/3.3.3/i686/cpan/5.8.9/i686-cygwin-thread-multi/build/Pod-Simple-3.43-0/blib/arch
    /opt/perl5/cygwin_nt-10.0-wow/3.3.3/i686/cpan/5.8.9/i686-cygwin-thread-multi/build/Pod-Simple-3.43-0/blib/lib
    /opt/perl5/cygwin_nt-10.0-wow/3.3.3/i686/cpan/5.8.9/i686-cygwin-thread-multi/build/Pod-Escapes-1.07-0/blib/arch
    /opt/perl5/cygwin_nt-10.0-wow/3.3.3/i686/cpan/5.8.9/i686-cygwin-thread-multi/build/Pod-Escapes-1.07-0/blib/lib
    /opt/perl5/cygwin_nt-10.0-wow/3.3.3/i686/cpan/5.8.9/i686-cygwin-thread-multi/build/ExtUtils-ParseXS-3.44-0/blib/arch
    /opt/perl5/cygwin_nt-10.0-wow/3.3.3/i686/cpan/5.8.9/i686-cygwin-thread-multi/build/ExtUtils-ParseXS-3.44-0/blib/lib
    /opt/perl5/cygwin_nt-10.0-wow/3.3.3/i686/cpan/5.8.9/i686-cygwin-thread-multi/build/ExtUtils-CBuilder-0.280236-0/blib/arch
    /opt/perl5/cygwin_nt-10.0-wow/3.3.3/i686/cpan/5.8.9/i686-cygwin-thread-multi/build/ExtUtils-CBuilder-0.280236-0/blib/lib
    /opt/perl5/cygwin_nt-10.0-wow/3.3.3/i686/cpan/5.8.9/i686-cygwin-thread-multi/build/Perl-OSType-1.010-0/blib/arch
    /opt/perl5/cygwin_nt-10.0-wow/3.3.3/i686/cpan/5.8.9/i686-cygwin-thread-multi/build/Perl-OSType-1.010-0/blib/lib
    /opt/perl5/cygwin_nt-10.0-wow/3.3.3/i686/cpan/5.8.9/i686-cygwin-thread-multi/build/Math-Summation-0.02-0/blib/arch
    /opt/perl5/cygwin_nt-10.0-wow/3.3.3/i686/cpan/5.8.9/i686-cygwin-thread-multi/build/Math-Summation-0.02-0/blib/lib
    /opt/perl5/cygwin_nt-10.0-wow/3.3.3/i686/perl/5.8.9/i686-cygwin-thread-multi/local/lib/perl5/5.8.9
    /opt/perl5/cygwin_nt-10.0-wow/3.3.3/i686/perl/5.8.9/i686-cygwin-thread-multi/local/lib/perl5/cygwin-thread-multi
    /opt/perl5/cygwin_nt-10.0-wow/3.3.3/i686/perl/5.8.9/i686-cygwin-thread-multi/local/lib/perl5
    /opt/perl5/cygwin_nt-10.0-wow/3.3.3/i686/perl/5.8.9/i686-cygwin-thread-multi/local/lib/site_perl/5.8.9/cygwin-thread-multi
    /opt/perl5/cygwin_nt-10.0-wow/3.3.3/i686/perl/5.8.9/i686-cygwin-thread-multi/local/lib/site_perl/5.8.9
    /opt/perl5/cygwin_nt-10.0-wow/3.3.3/i686/perl/5.8.9/i686-cygwin-thread-multi/local/lib/site_perl
    /opt/perl5/cygwin_nt-10.0-wow/3.3.3/i686/perl/5.8.9/i686-cygwin-thread-multi/local/lib/5.8.9/cygwin-thread-multi
    /opt/perl5/cygwin_nt-10.0-wow/3.3.3/i686/perl/5.8.9/i686-cygwin-thread-multi/local/lib/5.8.9
    /opt/perl5/cygwin_nt-10.0-wow/3.3.3/i686/perl/5.8.9/i686-cygwin-thread-multi/local/lib
    /opt/perl5/cygwin_nt-10.0-wow/3.3.3/i686/perl/5.8.9/i686-cygwin-thread-multi/lib/5.8.9/cygwin-thread-multi
    /opt/perl5/cygwin_nt-10.0-wow/3.3.3/i686/perl/5.8.9/i686-cygwin-thread-multi/lib/5.8.9
    /opt/perl5/cygwin_nt-10.0-wow/3.3.3/i686/perl/5.8.9/i686-cygwin-thread-multi/lib/site_perl/5.8.9/cygwin-thread-multi
    /opt/perl5/cygwin_nt-10.0-wow/3.3.3/i686/perl/5.8.9/i686-cygwin-thread-multi/lib/site_perl/5.8.9
    .