Beam-Wire v1.021 Perl 5 v5.26.2 x86_64-linux

Status
Pass
From
Ioan Rogers
Dist
Beam-Wire v1.021
Platform
Perl 5 v5.26.2 x86_64-linux
Date
2018-04-18 03:42:16
ID
7cd814c8-42ba-11e8-93db-6970e04d06bb
This distribution has been tested as part of the CPAN Testers
project, supporting the Perl programming language.  See
http://wiki.cpantesters.org/ for more information or email
questions to cpan-testers-discuss@perl.org


--
Dear PREACTION,

This is a computer-generated report for Beam-Wire-1.021
on perl 5.26.2, created by App::cpanminus::reporter 0.17 (1.7043).

Thank you for uploading your work to CPAN.  Congratulations!
All tests were successful.

Sections of this report:

    * Tester comments
    * Program output
    * Prerequisites
    * Environment and other context

------------------------------
TESTER COMMENTS
------------------------------

Additional comments from tester:

none provided

------------------------------
PROGRAM OUTPUT
------------------------------

Output from '':

Building and testing Beam-Wire-1.021
cp lib/Beam/Wire/Help/Config.pod blib/lib/Beam/Wire/Help/Config.pod
cp lib/Beam/Wire.pm blib/lib/Beam/Wire.pm
PERL_DL_NONLAZY=1 "/home/ioan/.plenv/versions/5.26.2/bin/perl5.26.2" "-MExtUtils::Command::MM" "-MTest::Harness" "-e" "undef *Test::Harness::Switches; test_harness(0, 'blib/lib', 'blib/arch')" t/*.t t/container/*.t t/dependency/*.t t/deprecated/*.t t/method/*.t t/regression/*.t t/service/*.t
# 
# Versions for all modules listed in MYMETA.json (including optional ones):
# 
# === Configure Requires ===
# 
#     Module                       Want     Have
#     ------------------------ -------- --------
#     CPAN::Meta::Requirements 2.120620    2.140
#     ExtUtils::MakeMaker           any     7.24
#     Module::Metadata              any 1.000033
# 
# === Build Requires ===
# 
#     Module              Want Have
#     ------------------- ---- ----
#     ExtUtils::MakeMaker  any 7.24
# 
# === Test Requires ===
# 
#     Module                  Want     Have
#     ------------------- -------- --------
#     ExtUtils::MakeMaker      any     7.24
#     File::Spec               any     3.67
#     IO::Handle               any     1.36
#     IPC::Open3               any     1.20
#     Test::Deep               any    1.127
#     Test::Differences       0.64     0.64
#     Test::Exception          any     0.43
#     Test::Lib                any    0.002
#     Test::More          1.001005 1.302135
# 
# === Test Recommends ===
# 
#     Module         Want     Have
#     ---------- -------- --------
#     CPAN::Meta 2.120900 2.150010
# 
# === Runtime Requires ===
# 
#     Module           Want     Have
#     --------------- ----- --------
#     Beam::Emitter     any    1.007
#     Beam::Service     any    0.001
#     Config::Any      0.23     0.32
#     Data::DPath      0.51     0.57
#     Module::Runtime   any    0.016
#     Moo               any 2.003004
#     Path::Tiny      0.055    0.104
#     Throwable         any 0.200013
#     Types::Standard   any 1.002002
#     YAML              any     1.24
# 
# === Runtime Recommends ===
# 
#     Module Want    Have
#     ------ ---- -------
#     JSON    any 2.97001
# 
t/00-report-prereqs.t .............. ok
t/00-compile.t ..................... ok
t/container/inner.t ................ ok
t/container/config.t ............... ok
t/container/override.t ............. ok
t/dependency/anonymous.t ........... ok
t/dependency/config.t .............. ok
t/dependency/call.t ................ ok
t/dependency/value.t ............... ok
t/deprecated/event_listeners.t ..... ok
t/deprecated/method_call.t ......... ok
t/exception.t ...................... ok
t/method/create_service.t .......... ok
t/method/is_meta.t ................. ok
t/regression/60_unprefixed_meta.t .. ok
t/service/attributes.t ............. ok
t/service/class_args.t ............. ok
t/service/config.t ................. ok
t/service/event_listener.t ......... ok
t/service/lifecycle.t .............. ok
t/service/extends.t ................ ok
t/service/method.t ................. ok
t/service/value.t .................. ok
t/service/with.t ................... ok
t/service/with_args.t .............. ok
All tests successful.
Files=25, Tests=81,  3 wallclock secs ( 0.17 usr  0.03 sys +  9.28 cusr  0.83 csys = 10.31 CPU)
Result: PASS

------------------------------
PREREQUISITES
------------------------------

Prerequisite modules loaded:

    No requirements found

------------------------------
ENVIRONMENT AND OTHER CONTEXT
------------------------------

Environment variables:

    HARNESS_OPTIONS = j4
    LANG = en_GB.UTF-8
    PATH = /home/ioan/.plenv/versions/5.26.2/bin:/home/ioan/.plenv/libexec:/home/ioan/.plenv/plugins/perl-build/bin:/home/ioan/.cargo/bin:/home/ioan/.perl6/bin:/opt/rakudo-pkg/bin:/home/ioan/.plenv/shims:~/.plenv/bin::/home/ioan/.local/bin:/usr/local/bin:/usr/bin:/bin:/usr/local/sbin:/sbin:/usr/sbin:/usr/games
    PERL_CPANM_OPT = --prompt --no-man-pages --verify --mirror https://cpan.metacpan.org
    SHELL = /bin/bash
    TERM = xterm-256color

Perl special variables (and OS-specific diagnostics, for MSWin32):

    EGID = 1335000001 135 979 1335000000 1335000001 1335000003
    EUID = 1335000001
    EXECUTABLE_NAME = /home/ioan/.plenv/versions/5.26.2/bin/perl5.26.2
    GID = 1335000001 135 979 1335000000 1335000001 1335000003
    UID = 1335000001

Perl module toolchain versions installed:

    Module              Have      
    ------------------- ----------
    CPAN                2.18      
    CPAN::Meta          2.150010  
    Cwd                 3.67      
    ExtUtils::CBuilder  0.280225  
    ExtUtils::Command   7.24      
    ExtUtils::Install   2.04      
    ExtUtils::MakeMaker 7.24      
    ExtUtils::Manifest  1.70      
    ExtUtils::ParseXS   3.34      
    File::Spec          3.67      
    JSON                2.97001   
    JSON::PP            2.27400_02
    Module::Build       0.4224    
    Module::Signature   0.81      
    Parse::CPAN::Meta   2.150010  
    Test::Harness       3.38      
    Test::More          1.302135  
    YAML                1.24      
    YAML::Syck          n/a       
    version             0.9917    


--

Summary of my perl5 (revision 5 version 26 subversion 2) configuration:
   
  Platform:
    osname=linux
    osvers=4.15.14-300.fc27.x86_64
    archname=x86_64-linux
    uname='linux despair.home.rgrs.ca 4.15.14-300.fc27.x86_64 #1 smp thu mar 29 16:13:44 utc 2018 x86_64 x86_64 x86_64 gnulinux '
    config_args='-Dprefix=/home/ioan/.plenv/versions/5.26.2 -de -Dusedevel -Dcc=clang -Doptimize=-O3 -Dccflags-march=native -Dman1dir=none -Dman3dir=none -A'eval:scriptdir=/home/ioan/.plenv/versions/5.26.2/bin''
    hint=recommended
    useposix=true
    d_sigaction=define
    useithreads=undef
    usemultiplicity=undef
    use64bitint=define
    use64bitall=define
    uselongdouble=undef
    usemymalloc=n
    default_inc_excludes_dot=define
    bincompat5005=undef
  Compiler:
    cc='clang'
    ccflags ='-fno-strict-aliasing -pipe -fstack-protector-strong -I/usr/local/include -D_LARGEFILE_SOURCE -D_FILE_OFFSET_BITS=64 -D_FORTIFY_SOURCE=2'
    optimize='-O3'
    cppflags='-fno-strict-aliasing -pipe -fstack-protector-strong -I/usr/local/include'
    ccversion=''
    gccversion='4.2.1 Compatible Clang 5.0.1 (tags/RELEASE_501/final)'
    gccosandvers=''
    intsize=4
    longsize=8
    ptrsize=8
    doublesize=8
    byteorder=12345678
    doublekind=3
    d_longlong=define
    longlongsize=8
    d_longdbl=define
    longdblsize=16
    longdblkind=3
    ivtype='long'
    ivsize=8
    nvtype='double'
    nvsize=8
    Off_t='off_t'
    lseeksize=8
    alignbytes=8
    prototype=define
  Linker and Libraries:
    ld='clang'
    ldflags =' -fstack-protector-strong -L/usr/local/lib'
    libpth=/usr/local/lib /usr/lib64/clang/5.0.1/lib /usr/lib /lib/../lib64 /usr/lib/../lib64 /lib /lib64 /usr/lib64 /usr/local/lib64
    libs=-lpthread -lnsl -ldl -lm -lcrypt -lutil -lc
    perllibs=-lpthread -lnsl -ldl -lm -lcrypt -lutil -lc
    libc=libc-2.26.so
    so=so
    useshrplib=false
    libperl=libperl.a
    gnulibc_version='2.26'
  Dynamic Linking:
    dlsrc=dl_dlopen.xs
    dlext=so
    d_dlsymun=undef
    ccdlflags='-Wl,-E'
    cccdlflags='-fPIC'
    lddlflags='-shared -O3 -L/usr/local/lib -fstack-protector-strong'


Characteristics of this binary (from libperl): 
  Compile-time options:
    HAS_TIMES
    PERLIO_LAYERS
    PERL_COPY_ON_WRITE
    PERL_DONT_CREATE_GVSV
    PERL_MALLOC_WRAP
    PERL_OP_PARENT
    PERL_PRESERVE_IVUV
    PERL_USE_DEVEL
    USE_64_BIT_ALL
    USE_64_BIT_INT
    USE_LARGE_FILES
    USE_LOCALE
    USE_LOCALE_COLLATE
    USE_LOCALE_CTYPE
    USE_LOCALE_NUMERIC
    USE_LOCALE_TIME
    USE_PERLIO
    USE_PERL_ATOF
  Locally applied patches:
    Devel::PatchPerl 1.40
  Built under linux
  Compiled at Apr 17 2018 16:32:01
  %ENV:
    PERL_CPANM_OPT="--prompt --no-man-pages --verify --mirror https://cpan.metacpan.org"
  @INC:
    /home/ioan/.plenv/versions/5.26.2/lib/perl5/site_perl/5.26.2/x86_64-linux
    /home/ioan/.plenv/versions/5.26.2/lib/perl5/site_perl/5.26.2
    /home/ioan/.plenv/versions/5.26.2/lib/perl5/5.26.2/x86_64-linux
    /home/ioan/.plenv/versions/5.26.2/lib/perl5/5.26.2