Import-Base v1.004 Perl 5 v5.26.1 x86_64-linux-ld
- Status
- Pass
- From
- Ioan Rogers
- Dist
-
Import-Base v1.004
- Platform
- Perl 5 v5.26.1 x86_64-linux-ld
- Date
- 2018-02-03 18:17:25
- ID
- 7c79d7f4-090e-11e8-b547-92aa3167bea0
This distribution has been tested as part of the CPAN Testers
project, supporting the Perl programming language. See
http://wiki.cpantesters.org/ for more information or email
questions to cpan-testers-discuss@perl.org
--
Dear PREACTION,
This is a computer-generated report for Import-Base-1.004
on perl 5.26.1, created by App::cpanminus::reporter 0.17 (1.7043).
Thank you for uploading your work to CPAN. Congratulations!
All tests were successful.
Sections of this report:
* Tester comments
* Program output
* Prerequisites
* Environment and other context
------------------------------
TESTER COMMENTS
------------------------------
Additional comments from tester:
none provided
------------------------------
PROGRAM OUTPUT
------------------------------
Output from '':
Building and testing Import-Base-1.004
cp lib/Import/Base.pm blib/lib/Import/Base.pm
PERL_DL_NONLAZY=1 "/home/ioan/.plenv/versions/5.26.1/bin/perl5.26.1" "-MExtUtils::Command::MM" "-MTest::Harness" "-e" "undef *Test::Harness::Switches; test_harness(0, 'blib/lib', 'blib/arch')" t/*.t t/use-case/*.t
t/export.t ............. ok
t/exclude.t ............ ok
t/runtime.t ............ ok
t/00-compile.t ......... ok
t/order.t .............. ok
t/subrefs.t ............ ok
t/base.t ............... ok
t/use-case/dancer2.t ... skipped: Test requires Dancer2 >= 0.166001_01
#
# Versions for all modules listed in MYMETA.json (including optional ones):
#
# === Configure Requires ===
#
# Module Want Have
# ------------------- ---- ----
# ExtUtils::MakeMaker any 7.24
#
# === Build Requires ===
#
# Module Want Have
# ------------------- ---- ----
# ExtUtils::MakeMaker any 7.24
#
# === Test Requires ===
#
# Module Want Have
# ------------------- ---- --------
# Carp any 1.42
# ExtUtils::MakeMaker any 7.24
# File::Spec any 3.67
# IO::Handle any 1.36
# IPC::Open3 any 1.20
# Test::More any 1.302120
#
# === Test Recommends ===
#
# Module Want Have
# ---------- -------- --------
# CPAN::Meta 2.120900 2.150010
#
# === Runtime Requires ===
#
# Module Want Have
# --------------- -------- --------
# Import::Into 1.002005 1.002005
# Module::Runtime any 0.016
# mro any 1.20
# strict any 1.11
# warnings any 1.37
#
t/00-report-prereqs.t .. ok
t/use-case/moo.t ....... ok
t/version.t ............ ok
All tests successful.
Files=11, Tests=17, 0 wallclock secs ( 0.05 usr 0.00 sys + 0.70 cusr 0.09 csys = 0.84 CPU)
Result: PASS
------------------------------
PREREQUISITES
------------------------------
Prerequisite modules loaded:
No requirements found
------------------------------
ENVIRONMENT AND OTHER CONTEXT
------------------------------
Environment variables:
HARNESS_OPTIONS = j8
LANG = en_GB.UTF-8
PATH = /home/ioan/.plenv/versions/5.26.1/bin:/home/ioan/.plenv/libexec:/home/ioan/.plenv/plugins/perl-build/bin:/home/ioan/.cargo/bin:/home/ioan/.perl6/bin:/home/ioan/.plenv/shims:~/.plenv/bin::/usr/local/bin:/usr/bin:/bin:/usr/local/sbin:/sbin:/usr/sbin:/usr/games
PERL_CPANM_OPT = --prompt --no-man-pages --verify --mirror https://cpan.metacpan.org
SHELL = /bin/bash
TERM = xterm-256color
Perl special variables (and OS-specific diagnostics, for MSWin32):
EGID = 1335000001 1335000000 1335000001 1335000003
EUID = 1335000001
EXECUTABLE_NAME = /home/ioan/.plenv/versions/5.26.1/bin/perl5.26.1
GID = 1335000001 1335000000 1335000001 1335000003
UID = 1335000001
Perl module toolchain versions installed:
Module Have
------------------- ----------
CPAN 2.18
CPAN::Meta 2.150010
Cwd 3.67
ExtUtils::CBuilder 0.280225
ExtUtils::Command 7.24
ExtUtils::Install 2.04
ExtUtils::MakeMaker 7.24
ExtUtils::Manifest 1.70
ExtUtils::ParseXS 3.34
File::Spec 3.67
JSON 2.97000
JSON::PP 2.27400_02
Module::Build 0.4224
Module::Signature 0.81
Parse::CPAN::Meta 2.150010
Test::Harness 3.38
Test::More 1.302120
YAML 1.24
YAML::Syck n/a
version 0.9917
--
Summary of my perl5 (revision 5 version 26 subversion 1) configuration:
Platform:
osname=linux
osvers=4.13.16-300.fc27.x86_64
archname=x86_64-linux-ld
uname='linux surprise.home.rgrs.ca 4.13.16-300.fc27.x86_64 #1 smp mon nov 27 18:19:43 utc 2017 x86_64 x86_64 x86_64 gnulinux '
config_args='-Dprefix=/home/ioan/.plenv/versions/5.26.1 -de -Dusedevel -Dcc=clang -Doptimize=-O2 -g -Dccflags-march=native -flto -fstack-protector-strong -Wformat -Werror=format-security -fsanitize=address -fsanitize=undefined -fno-omit-frame-pointer -fsanitize=thread -DPERL_HASH_FUNC_SIPHASH -Dcppflags=-Wdate-time -D_FORTIFY_SOURCE=2 -Dldflags-Wl,-z,relro -fsanitize=address -fsanitize=thread -fsanitize=undefined -Dusemorebits -Dman1dir=none -Dman3dir=none -A'eval:scriptdir=/home/ioan/.plenv/versions/5.26.1/bin''
hint=recommended
useposix=true
d_sigaction=define
useithreads=undef
usemultiplicity=undef
use64bitint=define
use64bitall=define
uselongdouble=define
usemymalloc=n
default_inc_excludes_dot=define
bincompat5005=undef
Compiler:
cc='clang'
ccflags ='-fno-strict-aliasing -pipe -fstack-protector-strong -I/usr/local/include -D_LARGEFILE_SOURCE -D_FILE_OFFSET_BITS=64 -D_FORTIFY_SOURCE=2'
optimize='-O2 -g'
cppflags='-Wdate-time -D_FORTIFY_SOURCE=2 -fno-strict-aliasing -pipe -fstack-protector-strong -I/usr/local/include'
ccversion=''
gccversion='4.2.1 Compatible Clang 4.0.1 (tags/RELEASE_401/final)'
gccosandvers=''
intsize=4
longsize=8
ptrsize=8
doublesize=8
byteorder=12345678
doublekind=3
d_longlong=define
longlongsize=8
d_longdbl=define
longdblsize=16
longdblkind=3
ivtype='long'
ivsize=8
nvtype='long double'
nvsize=16
Off_t='off_t'
lseeksize=8
alignbytes=16
prototype=define
Linker and Libraries:
ld='clang'
ldflags =' -fstack-protector-strong -L/usr/local/lib'
libpth=/usr/local/lib /usr/bin/../lib64/clang/4.0.1/lib /usr/lib /lib/../lib64 /usr/lib/../lib64 /lib /lib64 /usr/lib64 /usr/local/lib64
libs=-lpthread -lnsl -ldl -lm -lcrypt -lutil -lc
perllibs=-lpthread -lnsl -ldl -lm -lcrypt -lutil -lc
libc=libc-2.26.so
so=so
useshrplib=false
libperl=libperl.a
gnulibc_version='2.26'
Dynamic Linking:
dlsrc=dl_dlopen.xs
dlext=so
d_dlsymun=undef
ccdlflags='-Wl,-E'
cccdlflags='-fPIC'
lddlflags='-shared -O2 -g -L/usr/local/lib -fstack-protector-strong'
Characteristics of this binary (from libperl):
Compile-time options:
HAS_TIMES
PERLIO_LAYERS
PERL_COPY_ON_WRITE
PERL_DONT_CREATE_GVSV
PERL_MALLOC_WRAP
PERL_OP_PARENT
PERL_PRESERVE_IVUV
PERL_USE_DEVEL
USE_64_BIT_ALL
USE_64_BIT_INT
USE_LARGE_FILES
USE_LOCALE
USE_LOCALE_COLLATE
USE_LOCALE_CTYPE
USE_LOCALE_NUMERIC
USE_LOCALE_TIME
USE_LONG_DOUBLE
USE_PERLIO
USE_PERL_ATOF
Locally applied patches:
Devel::PatchPerl 1.48
Built under linux
Compiled at Dec 3 2017 21:34:15
%ENV:
PERL_CPANM_OPT="--prompt --no-man-pages --verify --mirror https://cpan.metacpan.org"
@INC:
/home/ioan/.plenv/versions/5.26.1/lib/perl5/site_perl/5.26.1/x86_64-linux-ld
/home/ioan/.plenv/versions/5.26.1/lib/perl5/site_perl/5.26.1
/home/ioan/.plenv/versions/5.26.1/lib/perl5/5.26.1/x86_64-linux-ld
/home/ioan/.plenv/versions/5.26.1/lib/perl5/5.26.1