App-perlimports v0.000025 Perl 5 v5.28.2 MSWin32-x86-multi-thread-64int
- Status
- Pass
- From
- Alexandr Ciornii (CHORNY)
- Dist
-
App-perlimports v0.000025
- Platform
- Perl 5 v5.28.2 MSWin32-x86-multi-thread-64int
- Date
- 2021-10-14 12:40:16
- ID
- 788da813-6bf6-1014-bce5-bff6b5ce7cdd
This distribution has been tested as part of the CPAN Testers
project, supporting the Perl programming language. See
http://wiki.cpantesters.org/ for more information or email
questions to cpan-testers-discuss@perl.org
--
Dear Olaf Alders,
This is a computer-generated report for App-perlimports-0.000025
on perl 5.28.2, created by CPAN-Reporter-1.2018.
Thank you for uploading your work to CPAN. Congratulations!
All tests were successful.
Sections of this report:
* Tester comments
* Program output
* Prerequisites
* Environment and other context
------------------------------
TESTER COMMENTS
------------------------------
Additional comments from tester:
this report is from an automated smoke testing program
and was not reviewed by a human for accuracy
------------------------------
PROGRAM OUTPUT
------------------------------
Output from 'C:\STRAWB~1\c\bin\gmake.exe test':
"C:\Strawberry282\perl\bin\perl.exe" "-MExtUtils::Command::MM" "-MTest::Harness" "-e" "undef *Test::Harness::Switches; test_harness(0, 'blib\lib', 'blib\arch')" t/*.t t/ExportInspector/*.t t/cpan-modules/*.t
#
# Versions for all modules listed in MYMETA.json (including optional ones):
#
# === Configure Requires ===
#
# Module Want Have
# ------------------- ---- ----
# ExtUtils::MakeMaker any 7.34
#
# === Build Requires ===
#
# Module Want Have
# ------------------- ---- ----
# ExtUtils::MakeMaker any 7.34
#
# === Test Requires ===
#
# Module Want Have
# ---------------------- ---- --------
# ExtUtils::MakeMaker any 7.34
# File::Spec any 3.75
# Log::Dispatch::Array any 1.003
# Sub::Exporter any 0.987
# Test::Differences any 0.67
# Test::More any 1.302162
# Test::Needs any 0.002006
# Test::RequiresInternet any 0.05
# Test::Script 1.27 1.29
# Test::Warnings any 0.026
# lib any 0.64
#
# === Test Recommends ===
#
# Module Want Have
# ---------- -------- --------
# CPAN::Meta 2.120900 2.150010
#
# === Runtime Requires ===
#
# Module Want Have
# ---------------------------- -------- --------
# Capture::Tiny any 0.48
# Class::Inspector 1.36 1.36
# Data::Dumper any 2.173
# Data::UUID any 1.224
# File::Basename any 2.85
# Getopt::Long::Descriptive any 0.103
# List::Util any 1.60
# Log::Dispatch 2.70 2.70
# Memoize any 1.03_01
# Module::Runtime any 0.016
# Moo any 2.003004
# Moo::Role any 2.003004
# MooX::StrictConstructor any 0.011
# PPI 1.270 1.270
# PPIx::Utils::Classification any 0.003
# Path::Tiny any 0.108
# Perl::Tidy 20210402 20210717
# Pod::Usage any 1.69
# Ref::Util any 0.204
# Sereal::Decoder any 4.007
# Sereal::Encoder any 4.007
# Sub::HandlesVia any 0.016
# Symbol::Get 0.10 0.10
# Text::SimpleTable::AutoWidth any 0.09
# Try::Tiny any 0.30
# Types::Standard any 1.004004
# strict any 1.11
# utf8 any 1.21
# warnings any 1.42
#
t/00-report-prereqs.t ............ ok
t/after.t ........................ ok
t/annotations.t .................. ok
t/args-in-import.t ............... ok
t/carp.t ......................... ok
t/cast-in-regex.t ................ ok
t/cast.t ......................... ok
t/cli.t .......................... ok
t/cpan-modules/pithub.t .......... skipped: Need Pithub
t/cpan-modules/test2-v0.t ........ ok
t/datetime.t ..................... ok
t/do-block.t ..................... ok
t/Document.t ..................... ok
t/dump-perl-exports.t ............ ok
t/dupes.t ........................ ok
t/english.t ...................... ok
t/explodes.t ..................... ok
t/export-tags.t .................. skipped: Need HTTP::Status 6.28 (have 6.18)
t/exported-variables.t ........... ok
t/ExportInspector/load.t ......... ok
t/ExportInspector/SubExporter.t .. skipped: Need MetaCPAN::Moose
t/find-bin.t ..................... ok
t/fully-qualified.t .............. ok
t/func-in-use.t .................. ok
t/func-in-var.t .................. ok
t/geo-ip.t ....................... ok
t/hash-in-regex.t ................ ok
t/hash-key.t ..................... ok
t/heredoc.t ...................... ok
t/ignored-modules.t .............. ok
t/import-error.t ................. ok
t/interpolation.t ................ ok
t/is-ignored.t ................... ok
t/lookalike-words.t .............. ok
t/meta.t ......................... ok
t/method.t ....................... ok
t/module-with-inner-packages.t ... ok
t/moo.t .......................... ok
t/moose-types.t .................. ok
t/moose.t ........................ ok
t/moosex-types-moose.t ........... ok
t/nested-quotes.t ................ ok
t/never-exports.t ................ ok
t/padding.t ...................... ok
t/perl-imports.t ................. ok
t/perl.t ......................... ok
t/pragma.t ....................... ok
t/preserve-spaces.t .............. ok
t/qualified-bareword.t ........... ok
t/quoted-var.t ................... ok
t/re-export-via-sub-exporter.t ... ok
t/regex-replacement.t ............ skipped: Need IP::Random 1.200230
t/require.t ...................... ok
t/Sandbox.t ...................... ok
t/script-with-inner-packages.t ... ok
t/skip-all.t ..................... ok
t/socket.t ....................... ok
t/switches-in-import.t ........... ok
t/symbol-as-method-call.t ........ skipped: Need Object::Tap
t/symbol-in-export.t ............. ok
t/test-most.t .................... ok
t/typeglob.t ..................... ok
t/use-and-require.t .............. ok
t/var-in-regex.t ................. ok
t/variable.t ..................... ok
t/with-version.t ................. skipped: Need Cpanel::JSON::XS 4.19 (have 4.11)
All tests successful.
Files=66, Tests=139, 248 wallclock secs ( 0.29 usr + 0.38 sys = 0.67 CPU)
Result: PASS
------------------------------
PREREQUISITES
------------------------------
Prerequisite modules loaded:
requires:
Module Need Have
---------------------------- -------- --------
Capture::Tiny 0 0.48
Class::Inspector 1.36 1.36
Data::Dumper 0 2.173
Data::UUID 0 1.224
File::Basename 0 2.85
Getopt::Long::Descriptive 0 0.103
List::Util 0 1.60
Log::Dispatch 2.70 2.70
Memoize 0 1.03_01
Module::Runtime 0 0.016
Moo 0 2.003004
Moo::Role 0 2.003004
MooX::StrictConstructor 0 0.011
Path::Tiny 0 0.108
perl 5.008 5.028002
Perl::Tidy 20210402 20210717
Pod::Usage 0 1.69
PPI 1.270 1.270
PPIx::Utils::Classification 0 0.003
Ref::Util 0 0.204
Sereal::Decoder 0 4.007
Sereal::Encoder 0 4.007
strict 0 1.11
Sub::HandlesVia 0 0.016
Symbol::Get 0.10 0.10
Text::SimpleTable::AutoWidth 0 0.09
Try::Tiny 0 0.30
Types::Standard 0 1.004004
utf8 0 1.21
warnings 0 1.42
build_requires:
Module Need Have
---------------------------- -------- --------
ExtUtils::MakeMaker 0 7.34
File::Spec 0 3.75
lib 0 0.64
Log::Dispatch::Array 0 1.003
Sub::Exporter 0 0.987
Test::Differences 0 0.67
Test::More 0 1.302162
Test::Needs 0 0.002006
Test::RequiresInternet 0 0.05
Test::Script 1.27 1.29
Test::Warnings 0 0.026
configure_requires:
Module Need Have
---------------------------- -------- --------
ExtUtils::MakeMaker 0 7.34
perl 5.008 5.028002
------------------------------
ENVIRONMENT AND OTHER CONTEXT
------------------------------
Environment variables:
AUTOMATED_TESTING = 1
COMSPEC = C:\WINDOWS\system32\cmd.exe
NUMBER_OF_PROCESSORS = 1
PATH = C:\WINDOWS\system32;C:\WINDOWS;C:\WINDOWS\System32\Wbem;C:\Git\cmd;C:\Strawberry282\c\bin;C:\Strawberry282\perl\site\bin;C:\Strawberry282\perl\bin
PERL5LIB = C:\STRAWB~1\cpan\build\Test-Script-1.29-0/blib/arch;C:\STRAWB~1\cpan\build\Test-Script-1.29-0/blib/lib;C:\STRAWB~1\cpan\build\Symbol-Get-0.10-0/blib/arch;C:\STRAWB~1\cpan\build\Symbol-Get-0.10-0/blib/lib;C:\STRAWB~1\cpan\build\Call-Context-0.03-0/blib/arch;C:\STRAWB~1\cpan\build\Call-Context-0.03-0/blib/lib;C:\STRAWB~1\cpan\build\Sub-HandlesVia-0.016-0/blib/arch;C:\STRAWB~1\cpan\build\Sub-HandlesVia-0.016-0/blib/lib;C:\STRAWB~1\cpan\build\Scalar-List-Utils-1.60-0/blib/arch;C:\STRAWB~1\cpan\build\Scalar-List-Utils-1.60-0/blib/lib;C:\STRAWB~1\cpan\build\Perl-Tidy-20210717-0/blib/arch;C:\STRAWB~1\cpan\build\Perl-Tidy-20210717-0/blib/lib;C:\STRAWB~1\cpan\build\PPIx-Utils-0.003-0/blib/arch;C:\STRAWB~1\cpan\build\PPIx-Utils-0.003-0/blib/lib;C:\STRAWB~1\cpan\build\PPI-1.270-0/blib/arch;C:\STRAWB~1\cpan\build\PPI-1.270-0/blib/lib;C:\STRAWB~1\cpan\build\MooX-StrictConstructor-0.011-0/blib/arch;C:\STRAWB~1\cpan\build\MooX-StrictConstructor-0.011-0/blib/lib;C:\STRAWB~1\cpan\build\Log-Dispatch-2.70-0/blib/arch;C:\STRAWB~1\cpan\build\Log-Dispatch-2.70-0/blib/lib;C:\STRAWB~1\cpan\build\Class-Inspector-1.36-0/blib/arch;C:\STRAWB~1\cpan\build\Class-Inspector-1.36-0/blib/lib
PERL5OPT =
PERL5_CPANPLUS_IS_RUNNING = 220
PERL5_CPAN_IS_RUNNING = 220
PERL5_CPAN_IS_RUNNING_IN_RECURSION = 1496,220
PERL_CR_SMOKER_CURRENT = App-perlimports-0.000025
PERL_CR_SMOKER_RUNONCE = 1
PERL_EXTUTILS_AUTOINSTALL = --defaultdeps
PERL_MM_USE_DEFAULT = 1
PERL_USE_UNSAFE_INC = 1
PROCESSOR_IDENTIFIER = x86 Family 16 Model 5 Stepping 3, AuthenticAMD
TEMP = C:\DOCUME~1\a\LOCALS~1\Temp
Perl special variables (and OS-specific diagnostics, for MSWin32):
$^X = C:\Strawberry282\perl\bin\perl.exe
$UID/$EUID = 0 / 0
$GID = 0
$EGID = 0
Win32::GetOSName = WinXP/.Net
Win32::GetOSVersion = Service Pack 3, 5, 1, 2600, 2, 3, 0, 256, 1
Win32::FsType = NTFS
Win32::IsAdminUser = 1
Perl module toolchain versions installed:
Module Have
------------------- --------
CPAN 2.26
CPAN::Meta 2.150010
Cwd 3.75
ExtUtils::CBuilder 0.280231
ExtUtils::Command 7.34
ExtUtils::Install 2.14
ExtUtils::MakeMaker 7.34
ExtUtils::Manifest 1.72
ExtUtils::ParseXS 3.39
File::Spec 3.75
JSON 4.02
JSON::PP 4.02
Module::Build 0.4229
Module::Signature n/a
Parse::CPAN::Meta 2.150010
Test::Harness 3.42
Test::More 1.302162
YAML 1.27
YAML::Syck 1.31
version 0.9924
--
Summary of my perl5 (revision 5 version 28 subversion 2) configuration:
Platform:
osname=MSWin32
osvers=5.1.2600
archname=MSWin32-x86-multi-thread-64int
uname='Win32 strawberry-perl 5.28.2.1 #1 Mon Apr 22 21:59:01 2019 i386'
config_args='undef'
hint=recommended
useposix=true
d_sigaction=undef
useithreads=define
usemultiplicity=define
use64bitint=define
use64bitall=undef
uselongdouble=undef
usemymalloc=n
default_inc_excludes_dot=define
bincompat5005=undef
Compiler:
cc='gcc'
ccflags =' -s -O2 -DWIN32 -D__USE_MINGW_ANSI_STDIO -DPERL_TEXTMODE_SCRIPTS -DPERL_IMPLICIT_CONTEXT -DPERL_IMPLICIT_SYS -DUSE_PERLIO -fwrapv -fno-strict-aliasing -mms-bitfields'
optimize='-s -O2'
cppflags='-DWIN32'
ccversion=''
gccversion='7.1.0'
gccosandvers=''
intsize=4
longsize=4
ptrsize=4
doublesize=8
byteorder=12345678
doublekind=3
d_longlong=define
longlongsize=8
d_longdbl=define
longdblsize=12
longdblkind=3
ivtype='long long'
ivsize=8
nvtype='double'
nvsize=8
Off_t='long long'
lseeksize=8
alignbytes=8
prototype=define
Linker and Libraries:
ld='g++'
ldflags ='-s -L"C:\STRAWB~1\perl\lib\CORE" -L"C:\STRAWB~1\c\lib"'
libpth=C:\STRAWB~1\c\lib C:\STRAWB~1\c\i686-w64-mingw32\lib C:\STRAWB~1\c\lib\gcc\i686-w64-mingw32\7.1.0
libs= -lmoldname -lkernel32 -luser32 -lgdi32 -lwinspool -lcomdlg32 -ladvapi32 -lshell32 -lole32 -loleaut32 -lnetapi32 -luuid -lws2_32 -lmpr -lwinmm -lversion -lodbc32 -lodbccp32 -lcomctl32
perllibs= -lmoldname -lkernel32 -luser32 -lgdi32 -lwinspool -lcomdlg32 -ladvapi32 -lshell32 -lole32 -loleaut32 -lnetapi32 -luuid -lws2_32 -lmpr -lwinmm -lversion -lodbc32 -lodbccp32 -lcomctl32
libc=
so=dll
useshrplib=true
libperl=libperl528.a
gnulibc_version=''
Dynamic Linking:
dlsrc=dl_win32.xs
dlext=xs.dll
d_dlsymun=undef
ccdlflags=' '
cccdlflags=' '
lddlflags='-mdll -s -L"C:\STRAWB~1\perl\lib\CORE" -L"C:\STRAWB~1\c\lib"'
Characteristics of this binary (from libperl):
Compile-time options:
HAS_TIMES
HAVE_INTERP_INTERN
MULTIPLICITY
PERLIO_LAYERS
PERL_COPY_ON_WRITE
PERL_DONT_CREATE_GVSV
PERL_IMPLICIT_CONTEXT
PERL_IMPLICIT_SYS
PERL_MALLOC_WRAP
PERL_OP_PARENT
PERL_PRESERVE_IVUV
USE_64_BIT_INT
USE_ITHREADS
USE_LARGE_FILES
USE_LOCALE
USE_LOCALE_COLLATE
USE_LOCALE_CTYPE
USE_LOCALE_NUMERIC
USE_LOCALE_TIME
USE_PERLIO
USE_PERL_ATOF
Built under MSWin32
Compiled at Apr 22 2019 22:09:26
%ENV:
PERL5LIB="C:\STRAWB~1\cpan\build\Test-Script-1.29-0/blib/arch;C:\STRAWB~1\cpan\build\Test-Script-1.29-0/blib/lib;C:\STRAWB~1\cpan\build\Symbol-Get-0.10-0/blib/arch;C:\STRAWB~1\cpan\build\Symbol-Get-0.10-0/blib/lib;C:\STRAWB~1\cpan\build\Call-Context-0.03-0/blib/arch;C:\STRAWB~1\cpan\build\Call-Context-0.03-0/blib/lib;C:\STRAWB~1\cpan\build\Sub-HandlesVia-0.016-0/blib/arch;C:\STRAWB~1\cpan\build\Sub-HandlesVia-0.016-0/blib/lib;C:\STRAWB~1\cpan\build\Scalar-List-Utils-1.60-0/blib/arch;C:\STRAWB~1\cpan\build\Scalar-List-Utils-1.60-0/blib/lib;C:\STRAWB~1\cpan\build\Perl-Tidy-20210717-0/blib/arch;C:\STRAWB~1\cpan\build\Perl-Tidy-20210717-0/blib/lib;C:\STRAWB~1\cpan\build\PPIx-Utils-0.003-0/blib/arch;C:\STRAWB~1\cpan\build\PPIx-Utils-0.003-0/blib/lib;C:\STRAWB~1\cpan\build\PPI-1.270-0/blib/arch;C:\STRAWB~1\cpan\build\PPI-1.270-0/blib/lib;C:\STRAWB~1\cpan\build\MooX-StrictConstructor-0.011-0/blib/arch;C:\STRAWB~1\cpan\build\MooX-StrictConstructor-0.011-0/blib/lib;C:\STRAWB~1\cpan\build\Log-Dispatch-2.70-0/blib/arch;C:\STRAWB~1\cpan\build\Log-Dispatch-2.70-0/blib/lib;C:\STRAWB~1\cpan\build\Class-Inspector-1.36-0/blib/arch;C:\STRAWB~1\cpan\build\Class-Inspector-1.36-0/blib/lib"
PERL5_CPANPLUS_IS_RUNNING="220"
PERL5_CPAN_IS_RUNNING="220"
PERL5_CPAN_IS_RUNNING_IN_RECURSION="1496,220"
PERL_CR_SMOKER_CURRENT="App-perlimports-0.000025"
PERL_CR_SMOKER_RUNONCE="1"
PERL_EXTUTILS_AUTOINSTALL="--defaultdeps"
PERL_MM_USE_DEFAULT="1"
PERL_USE_UNSAFE_INC="1"
@INC:
C:\STRAWB~1\cpan\build\Test-Script-1.29-0/blib/arch
C:\STRAWB~1\cpan\build\Test-Script-1.29-0/blib/lib
C:\STRAWB~1\cpan\build\Symbol-Get-0.10-0/blib/arch
C:\STRAWB~1\cpan\build\Symbol-Get-0.10-0/blib/lib
C:\STRAWB~1\cpan\build\Call-Context-0.03-0/blib/arch
C:\STRAWB~1\cpan\build\Call-Context-0.03-0/blib/lib
C:\STRAWB~1\cpan\build\Sub-HandlesVia-0.016-0/blib/arch
C:\STRAWB~1\cpan\build\Sub-HandlesVia-0.016-0/blib/lib
C:\STRAWB~1\cpan\build\Scalar-List-Utils-1.60-0/blib/arch
C:\STRAWB~1\cpan\build\Scalar-List-Utils-1.60-0/blib/lib
C:\STRAWB~1\cpan\build\Perl-Tidy-20210717-0/blib/arch
C:\STRAWB~1\cpan\build\Perl-Tidy-20210717-0/blib/lib
C:\STRAWB~1\cpan\build\PPIx-Utils-0.003-0/blib/arch
C:\STRAWB~1\cpan\build\PPIx-Utils-0.003-0/blib/lib
C:\STRAWB~1\cpan\build\PPI-1.270-0/blib/arch
C:\STRAWB~1\cpan\build\PPI-1.270-0/blib/lib
C:\STRAWB~1\cpan\build\MooX-StrictConstructor-0.011-0/blib/arch
C:\STRAWB~1\cpan\build\MooX-StrictConstructor-0.011-0/blib/lib
C:\STRAWB~1\cpan\build\Log-Dispatch-2.70-0/blib/arch
C:\STRAWB~1\cpan\build\Log-Dispatch-2.70-0/blib/lib
C:\STRAWB~1\cpan\build\Class-Inspector-1.36-0/blib/arch
C:\STRAWB~1\cpan\build\Class-Inspector-1.36-0/blib/lib
C:/Strawberry282/perl/site/lib
C:/Strawberry282/perl/vendor/lib
C:/Strawberry282/perl/lib
.