Path-Tiny v0.144 Perl 5 v5.32.1 MSWin32-x86-multi-thread-64int
- Status
- Pass
- From
- aero
- Dist
-
Path-Tiny v0.144
- Platform
- Perl 5 v5.32.1 MSWin32-x86-multi-thread-64int
- Date
- 2022-12-02 09:21:57
- ID
- 768eaf3f-759e-1014-9db8-ba8b14370e8b
This distribution has been tested as part of the CPAN Testers
project, supporting the Perl programming language. See
http://wiki.cpantesters.org/ for more information or email
questions to cpan-testers-discuss@perl.org
--
Dear David Golden,
This is a computer-generated report for Path-Tiny-0.144
on perl 5.32.1, created by CPAN-Reporter-1.2018.
Thank you for uploading your work to CPAN. Congratulations!
All tests were successful.
Sections of this report:
* Tester comments
* Program output
* Prerequisites
* Environment and other context
------------------------------
TESTER COMMENTS
------------------------------
Additional comments from tester:
none provided
------------------------------
PROGRAM OUTPUT
------------------------------
Output from 'C:\strawberry-perl-5.32-32bit\c\bin\gmake.exe test':
"C:\strawberry-perl-5.32-32bit\perl\bin\perl.exe" "-MExtUtils::Command::MM" "-MTest::Harness" "-e" "undef *Test::Harness::Switches; test_harness(0, 'blib\lib', 'blib\arch')" t/*.t
#
# Versions for all modules listed in MYMETA.json (including optional ones):
#
# === Configure Requires ===
#
# Module Want Have
# ------------------- ---- ----
# ExtUtils::MakeMaker 6.17 7.64
#
# === Configure Suggests ===
#
# Module Want Have
# -------- ------- ----
# JSON::PP 2.27300 4.12
#
# === Build Requires ===
#
# Module Want Have
# ------------------- ---- ----
# ExtUtils::MakeMaker any 7.64
#
# === Test Requires ===
#
# Module Want Have
# --------------------- ---- --------
# Digest::MD5 any 2.58
# ExtUtils::MakeMaker any 7.64
# File::Basename any 2.85
# File::Spec 0.86 3.78
# File::Spec::Functions any 3.78
# File::Spec::Unix any 3.78
# File::Temp 0.19 0.2311
# Test::More 0.96 1.302191
# lib any 0.65
# open any 1.12
#
# === Test Recommends ===
#
# Module Want Have
# ------------------ -------- --------
# CPAN::Meta 2.120900 2.150010
# Test::FailWarnings any 0.008
# Test::MockRandom any 1.01
#
# === Runtime Requires ===
#
# Module Want Have
# ------------------ ---- ------
# Carp any 1.50
# Cwd any 3.78
# Digest 1.03 1.20
# Digest::SHA 5.45 6.03
# Encode any 3.19
# Exporter 5.57 5.74
# Fcntl any 1.13
# File::Compare any 1.1006
# File::Copy any 2.34
# File::Glob any 1.33
# File::Path 2.07 2.18
# File::Spec 0.86 3.78
# File::Temp 0.19 0.2311
# File::stat any 1.09
# constant any 1.33
# overload any 1.31
# strict any 1.11
# warnings any 1.47
# warnings::register any 1.04
#
# === Runtime Recommends ===
#
# Module Want Have
# ------------- ---- ----
# Unicode::UTF8 0.58 0.62
#
t/00-report-prereqs.t ............. ok
t/basename.t ...................... ok
t/basic.t ......................... ok
t/children.t ...................... ok
t/chmod.t ......................... ok
t/digest.t ........................ ok
t/exception.t ..................... ok
t/exports.t ....................... ok
t/filesystem.t .................... ok
t/has_same_bytes.t ................ ok
t/input_output.t .................. ok
t/input_output_no_PU_UU.t ......... ok
t/input_output_no_UU.t ............ ok
t/locking.t ....................... ok
t/mkdir.t ......................... ok
t/mkpath.t ........................ ok
t/mutable_tree_while_iterating.t .. ok
t/normalize.t ..................... ok
t/overloading.t ................... ok
t/parent.t ........................ ok
t/recurse.t ....................... ok
t/rel-abs.t ....................... ok
t/sig_die.t ....................... ok
t/size.t .......................... ok
t/subsumes.t ...................... ok
t/symlinks.t ...................... skipped: No symlink support
t/temp.t .......................... ok
t/visit.t ......................... ok
t/zz-atomic.t ..................... ok
t/zzz-spec.t ...................... ok
All tests successful.
Files=30, Tests=1785, 9 wallclock secs ( 0.36 usr + 0.05 sys = 0.41 CPU)
Result: PASS
------------------------------
PREREQUISITES
------------------------------
Prerequisite modules loaded:
requires:
Module Need Have
--------------------- -------- --------
Carp 0 1.50
constant 0 1.33
Cwd 0 3.78
Digest 1.03 1.20
Digest::SHA 5.45 6.03
Encode 0 3.19
Exporter 5.57 5.74
Fcntl 0 1.13
File::Compare 0 1.1006
File::Copy 0 2.34
File::Glob 0 1.33
File::Path 2.07 2.18
File::Spec 0.86 3.78
File::stat 0 1.09
File::Temp 0.19 0.2311
overload 0 1.31
perl 5.008001 5.032001
strict 0 1.11
warnings 0 1.47
warnings::register 0 1.04
build_requires:
Module Need Have
--------------------- -------- --------
Digest::MD5 0 2.58
ExtUtils::MakeMaker 0 7.64
File::Basename 0 2.85
File::Spec 0.86 3.78
File::Spec::Functions 0 3.78
File::Spec::Unix 0 3.78
File::Temp 0.19 0.2311
lib 0 0.65
open 0 1.12
Test::More 0.96 1.302191
configure_requires:
Module Need Have
--------------------- -------- --------
ExtUtils::MakeMaker 6.17 7.64
perl 5.008001 5.032001
opt_requires:
Module Need Have
--------------------- -------- --------
Unicode::UTF8 0.58 0.62
opt_build_requires:
Module Need Have
--------------------- -------- --------
CPAN::Meta 2.120900 2.150010
Test::FailWarnings 0 0.008
Test::MockRandom 0 1.01
------------------------------
ENVIRONMENT AND OTHER CONTEXT
------------------------------
Environment variables:
COMSPEC = C:\Windows\system32\cmd.exe
NONINTERACTIVE_TESTING = 1
NUMBER_OF_PROCESSORS = 12
PATH = C:\strawberry-perl-5.32-32bit\perl\site\bin;C:\strawberry-perl-5.32-32bit\perl\bin;C:\strawberry-perl-5.32-32bit\c\bin;C:\Windows\system32;C:\Windows;C:\Windows\System32\Wbem;C:\Windows\System32\WindowsPowerShell\v1.0\;C:\Windows\System32\OpenSSH\;C:\Program Files\Microsoft VS Code\bin;C:\Program Files\Kubernetes\Minikube;C:\HashiCorp\Vagrant\bin;C:\Program Files\Git\cmd;C:\Users\owner\AppData\Local\Microsoft\WindowsApps;;C:\Tcl\bin;C:\Users\owner\AppData\Local\Programs\Rancher Desktop\resources\resources\win32\bin;C:\Users\owner\AppData\Local\Programs\Rancher Desktop\resources\resources\linux\bin
PERL5LIB =
PERL5OPT =
PERL5_CPANPLUS_IS_RUNNING = 13908
PERL5_CPAN_IS_RUNNING = 13908
PERL_MM_USE_DEFAULT = 1
PERL_USE_UNSAFE_INC = 1
PROCESSOR_IDENTIFIER = AMD64 Family 23 Model 104 Stepping 1, AuthenticAMD
TEMP = C:\Users\owner\AppData\Local\Temp
TERM = dumb
Perl special variables (and OS-specific diagnostics, for MSWin32):
$^X = C:\strawberry-perl-5.32-32bit\perl\bin\perl.exe
$UID/$EUID = 0 / 0
$GID = 0
$EGID = 0
Win32::GetOSName = Win10
Win32::GetOSVersion = , 10, 0, 19045, 2, 0, 0, 256, 1
Win32::FsType = NTFS
Win32::IsAdminUser = 0
Perl module toolchain versions installed:
Module Have
------------------- --------
CPAN 2.34
CPAN::Meta 2.150010
Cwd 3.78
ExtUtils::CBuilder 0.280236
ExtUtils::Command 7.64
ExtUtils::Install 2.20
ExtUtils::MakeMaker 7.64
ExtUtils::Manifest 1.73
ExtUtils::ParseXS 3.44
File::Spec 3.78
JSON 4.10
JSON::PP 4.12
Module::Build 0.4231
Module::Signature 0.88
Parse::CPAN::Meta 2.150010
Test::Harness 3.44
Test::More 1.302191
YAML 1.30
YAML::Syck n/a
version 0.9929
--
Summary of my perl5 (revision 5 version 32 subversion 1) configuration:
Platform:
osname=MSWin32
osvers=10.0.19042.746
archname=MSWin32-x86-multi-thread-64int
uname='Win32 strawberry-perl 5.32.1.1 #1 Sun Jan 24 12:17:47 2021 i386'
config_args='undef'
hint=recommended
useposix=true
d_sigaction=undef
useithreads=define
usemultiplicity=define
use64bitint=define
use64bitall=undef
uselongdouble=undef
usemymalloc=n
default_inc_excludes_dot=define
bincompat5005=undef
Compiler:
cc='gcc'
ccflags =' -DWIN32 -D__USE_MINGW_ANSI_STDIO -DPERL_TEXTMODE_SCRIPTS -DPERL_IMPLICIT_CONTEXT -DPERL_IMPLICIT_SYS -DUSE_PERLIO -fwrapv -fno-strict-aliasing -mms-bitfields'
optimize='-s -O2'
cppflags='-DWIN32'
ccversion=''
gccversion='8.3.0'
gccosandvers=''
intsize=4
longsize=4
ptrsize=4
doublesize=8
byteorder=12345678
doublekind=3
d_longlong=define
longlongsize=8
d_longdbl=define
longdblsize=12
longdblkind=3
ivtype='long long'
ivsize=8
nvtype='double'
nvsize=8
Off_t='long long'
lseeksize=8
alignbytes=8
prototype=define
Linker and Libraries:
ld='g++.exe'
ldflags ='-s -L"C:\strawberry-perl-5.32-32bit\perl\lib\CORE" -L"C:\strawberry-perl-5.32-32bit\c\lib"'
libpth=C:\strawberry-perl-5.32-32bit\c\lib C:\strawberry-perl-5.32-32bit\c\i686-w64-mingw32\lib C:\strawberry-perl-5.32-32bit\c\lib\gcc\i686-w64-mingw32\8.3.0
libs= -lmoldname -lkernel32 -luser32 -lgdi32 -lwinspool -lcomdlg32 -ladvapi32 -lshell32 -lole32 -loleaut32 -lnetapi32 -luuid -lws2_32 -lmpr -lwinmm -lversion -lodbc32 -lodbccp32 -lcomctl32
perllibs= -lmoldname -lkernel32 -luser32 -lgdi32 -lwinspool -lcomdlg32 -ladvapi32 -lshell32 -lole32 -loleaut32 -lnetapi32 -luuid -lws2_32 -lmpr -lwinmm -lversion -lodbc32 -lodbccp32 -lcomctl32
libc=
so=dll
useshrplib=true
libperl=libperl532.a
gnulibc_version=''
Dynamic Linking:
dlsrc=dl_win32.xs
dlext=xs.dll
d_dlsymun=undef
ccdlflags=' '
cccdlflags=' '
lddlflags='-mdll -s -L"C:\strawberry-perl-5.32-32bit\perl\lib\CORE" -L"C:\strawberry-perl-5.32-32bit\c\lib"'
Characteristics of this binary (from libperl):
Compile-time options:
HAS_TIMES
HAVE_INTERP_INTERN
MULTIPLICITY
PERLIO_LAYERS
PERL_COPY_ON_WRITE
PERL_DONT_CREATE_GVSV
PERL_IMPLICIT_CONTEXT
PERL_IMPLICIT_SYS
PERL_MALLOC_WRAP
PERL_OP_PARENT
PERL_PRESERVE_IVUV
USE_64_BIT_INT
USE_ITHREADS
USE_LARGE_FILES
USE_LOCALE
USE_LOCALE_COLLATE
USE_LOCALE_CTYPE
USE_LOCALE_NUMERIC
USE_LOCALE_TIME
USE_PERLIO
USE_PERL_ATOF
Built under MSWin32
Compiled at Jan 24 2021 12:22:49
%ENV:
PERL5_CPANPLUS_IS_RUNNING="13908"
PERL5_CPAN_IS_RUNNING="13908"
PERL_MM_USE_DEFAULT="1"
PERL_USE_UNSAFE_INC="1"
@INC:
C:/strawberry-perl-5.32-32bit/perl/site/lib/MSWin32-x86-multi-thread-64int
C:/strawberry-perl-5.32-32bit/perl/site/lib
C:/strawberry-perl-5.32-32bit/perl/vendor/lib
C:/strawberry-perl-5.32-32bit/perl/lib
.