CHI v0.61 Perl 5 v5.38.0 armv6l-linux

Status
Pass
From
gregor herrmann
Dist
CHI v0.61
Platform
Perl 5 v5.38.0 armv6l-linux
Date
2023-07-18 00:24:29
ID
75cdfb28-2501-11ee-a6f3-a892ce8c88f7
This distribution has been tested as part of the CPAN Testers
project, supporting the Perl programming language.  See
http://wiki.cpantesters.org/ for more information or email
questions to cpan-testers-discuss@perl.org


--
Dear Alexander Becker,

This is a computer-generated report for CHI-0.61
on perl 5.38.0, created by CPAN-Reporter-1.2019.

Thank you for uploading your work to CPAN.  Congratulations!
All tests were successful.

Sections of this report:

    * Tester comments
    * Program output
    * Prerequisites
    * Environment and other context

------------------------------
TESTER COMMENTS
------------------------------

Additional comments from tester:

this report is from an automated smoke testing program
and was not reviewed by a human for accuracy

------------------------------
PROGRAM OUTPUT
------------------------------

Output from '/usr/bin/make test':

PERL_DL_NONLAZY=1 "/srv/smoker/perl5/perlbrew/perls/perl-5.38.0/bin/perl" "-MExtUtils::Command::MM" "-MTest::Harness" "-e" "undef *Test::Harness::Switches; test_harness(0, 'blib/lib', 'blib/arch')" t/*.t
# Testing CHI 0.61, Perl 5.038000, /srv/smoker/perl5/perlbrew/perls/perl-5.38.0/bin/perl
t/00-load.t ............................. ok
t/author-03-pod.t ....................... skipped: these tests are for testing by the author
t/author-file-driver.t .................. skipped: these tests are for testing by the author
t/author-no-data-serializer.t ........... skipped: these tests are for testing by the author
t/author-RequiredModules.t .............. skipped: these tests are for testing by the author
t/Bugs.t ................................ ok
t/Config.t .............................. ok
t/Constants.t ........................... ok
t/Driver-Memory.t ....................... ok
t/Driver-RawMemory.t .................... ok
t/GetError.t ............................ ok
t/Initialize.t .......................... ok
t/release-dependent.t ................... skipped: these tests are for release candidate testing
t/Sanity.t .............................. ok
t/SetError.t ............................ ok
t/smoke-Driver-CacheCache.t ............. ok
t/smoke-Driver-FastMmap.t ............... skipped: one of required modules not installed: Cache::FastMmap
t/smoke-Driver-File-DepthZero.t ......... ok
t/smoke-Driver-File.t ................... ok
t/smoke-Driver-NonMoose.t ............... ok
t/smoke-Driver-Subcache-l1_cache.t ...... ok
t/smoke-Driver-Subcache-mirror_cache.t .. ok
t/smoke-Null.t .......................... ok
t/Subcache.t ............................ ok
t/Subclass.t ............................ ok
t/Util.t ................................ ok
All tests successful.
Files=26, Tests=6054, 408 wallclock secs (13.57 usr  1.63 sys + 270.04 cusr 24.54 csys = 309.78 CPU)
Result: PASS

------------------------------
PREREQUISITES
------------------------------

Prerequisite modules loaded:

requires:

    Module                          Need     Have    
    ------------------------------- -------- --------
    Carp::Assert                    0.20     0.22    
    Class::Load                     0        0.25    
    Data::UUID                      0        1.226   
    Digest::JHash                   0        0.10    
    Digest::MD5                     0        2.58_01 
    File::Spec                      0.80     3.88    
    Hash::MoreUtils                 0        0.06    
    JSON::MaybeXS                   1.003003 1.004005
    List::MoreUtils                 0.13     0.430   
    Log::Any                        0.08     1.716   
    Moo                             1.003    2.005005
    MooX::Types::MooseLike          0.23     0.29    
    MooX::Types::MooseLike::Base    0        0.29    
    MooX::Types::MooseLike::Numeric 0        1.03    
    Storable                        0        3.32    
    String::RewritePrefix           0        0.009   
    Task::Weaken                    0        1.06    
    Time::Duration                  1.06     1.21    
    Time::Duration::Parse           0.03     0.16    
    Time::HiRes                     1.30     1.9775  
    Try::Tiny                       0.05     0.31    

build_requires:

    Module                          Need     Have    
    ------------------------------- -------- --------
    Cache::FileCache                0        0       
    Date::Parse                     0        2.33    
    ExtUtils::MakeMaker             0        7.70    
    Module::Mask                    0        0.06    
    Test::Builder                   0        1.302195
    Test::Class                     0        0.52    
    Test::Deep                      0        1.204   
    Test::Exception                 0        0.43    
    Test::More                      0        1.302195
    Test::Warn                      0        0.37    

configure_requires:

    Module                          Need     Have    
    ------------------------------- -------- --------
    ExtUtils::MakeMaker             0        7.70    


------------------------------
ENVIRONMENT AND OTHER CONTEXT
------------------------------

Environment variables:

    AUTOMATED_TESTING = 1
    LC_CTYPE = de_AT.utf8
    LD_LIBRARY_PATH = /usr/lib/libeatmydata
    NONINTERACTIVE_TESTING = 1
    PATH = /srv/smoker/bin:/usr/lib/ccache:/srv/smoker/perl5/bin:/srv/smoker/perl5/perlbrew/bin:/srv/smoker/perl5/perlbrew/perls/perl-5.38.0/bin:/usr/local/bin:/usr/bin:/bin:/usr/local/games:/usr/games
    PERL5LIB = /srv/smoker/perl5/lib/perl5
    PERL5OPT = 
    PERL5_CPANPLUS_IS_RUNNING = 10081
    PERL5_CPAN_IS_RUNNING = 10081
    PERL5_CPAN_IS_RUNNING_IN_RECURSION = 10451,10081
    PERLBREW_HOME = /srv/smoker/.perlbrew
    PERLBREW_MANPATH = /srv/smoker/perl5/perlbrew/perls/perl-5.38.0/man
    PERLBREW_PATH = /srv/smoker/perl5/perlbrew/bin:/srv/smoker/perl5/perlbrew/perls/perl-5.38.0/bin
    PERLBREW_PERL = perl-5.38.0
    PERLBREW_ROOT = /srv/smoker/perl5/perlbrew
    PERLBREW_SHELLRC_VERSION = 0.97
    PERLBREW_VERSION = 0.97
    PERL_CPANM_OPT = --prompt  --configure-timeout 300 --build-timeout 18000 --test-timeout 18000 --from https://www.cpan.org
    PERL_CR_SMOKER_CURRENT = JTM-Boilerplate-2.231980
    PERL_EXTUTILS_AUTOINSTALL = --defaultdeps
    PERL_LOCAL_LIB_ROOT = /srv/smoker/perl5
    PERL_MB_OPT = --install_base "/srv/smoker/perl5"
    PERL_MM_OPT = INSTALL_BASE=/srv/smoker/perl5
    PERL_MM_USE_DEFAULT = 1
    PERL_TEST_TIME_OUT_FACTOR = 3
    PERL_TEST_TIME_OUT_FACTOR = 3
    PERL_USE_UNSAFE_INC = 1
    SHELL = /bin/bash
    TERM = screen-256color

Perl special variables (and OS-specific diagnostics, for MSWin32):

    $^X = /srv/smoker/perl5/perlbrew/perls/perl-5.38.0/bin/perl
    $UID/$EUID = 1111 / 1111
    $GID = 65534 65534
    $EGID = 65534 65534

Perl module toolchain versions installed:

    Module              Have    
    ------------------- --------
    CPAN                2.36    
    CPAN::Meta          2.150010
    Cwd                 3.89    
    ExtUtils::CBuilder  0.280238
    ExtUtils::Command   7.70    
    ExtUtils::Install   2.22    
    ExtUtils::MakeMaker 7.70    
    ExtUtils::Manifest  1.73    
    ExtUtils::ParseXS   3.51    
    File::Spec          3.88    
    JSON                4.10    
    JSON::PP            4.16    
    Module::Build       0.4234  
    Module::Signature   n/a     
    Parse::CPAN::Meta   2.150010
    Test2               1.302195
    Test::Harness       3.44    
    Test::More          1.302195
    YAML                1.30    
    YAML::Syck          n/a     
    version             0.9929  


--

Summary of my perl5 (revision 5 version 38 subversion 0) configuration:
   
  Platform:
    osname=linux
    osvers=6.1.21+
    archname=armv6l-linux
    uname='linux smoker 6.1.21+ #1642 mon apr 3 17:19:14 bst 2023 armv6l gnulinux '
    config_args='-de -Dprefix=/srv/smoker/perl5/perlbrew/perls/perl-5.38.0 -Aeval:scriptdir=/srv/smoker/perl5/perlbrew/perls/perl-5.38.0/bin'
    hint=recommended
    useposix=true
    d_sigaction=define
    useithreads=undef
    usemultiplicity=undef
    use64bitint=undef
    use64bitall=undef
    uselongdouble=undef
    usemymalloc=n
    default_inc_excludes_dot=define
  Compiler:
    cc='cc'
    ccflags ='-fwrapv -fno-strict-aliasing -pipe -fstack-protector-strong -I/usr/local/include -D_LARGEFILE_SOURCE -D_FILE_OFFSET_BITS=64 -D_FORTIFY_SOURCE=2'
    optimize='-O2'
    cppflags='-fwrapv -fno-strict-aliasing -pipe -fstack-protector-strong -I/usr/local/include'
    ccversion=''
    gccversion='12.2.0'
    gccosandvers=''
    intsize=4
    longsize=4
    ptrsize=4
    doublesize=8
    byteorder=1234
    doublekind=3
    d_longlong=define
    longlongsize=8
    d_longdbl=define
    longdblsize=8
    longdblkind=0
    ivtype='long'
    ivsize=4
    nvtype='double'
    nvsize=8
    Off_t='off_t'
    lseeksize=8
    alignbytes=8
    prototype=define
  Linker and Libraries:
    ld='cc'
    ldflags =' -fstack-protector-strong -L/usr/local/lib'
    libpth=/usr/local/lib /usr/lib/arm-linux-gnueabihf /usr/lib
    libs=-lpthread -ldb -ldl -lm -lcrypt -lutil -lc
    perllibs=-lpthread -ldl -lm -lcrypt -lutil -lc
    libc=/lib/arm-linux-gnueabihf/libc.so.6
    so=so
    useshrplib=false
    libperl=libperl.a
    gnulibc_version='2.36'
  Dynamic Linking:
    dlsrc=dl_dlopen.xs
    dlext=so
    d_dlsymun=undef
    ccdlflags='-Wl,-E'
    cccdlflags='-fPIC'
    lddlflags='-shared -O2 -L/usr/local/lib -fstack-protector-strong'


Characteristics of this binary (from libperl): 
  Compile-time options:
    HAS_LONG_DOUBLE
    HAS_STRTOLD
    HAS_TIMES
    PERLIO_LAYERS
    PERL_COPY_ON_WRITE
    PERL_DONT_CREATE_GVSV
    PERL_HASH_FUNC_ZAPHOD32
    PERL_HASH_USE_SBOX32
    PERL_MALLOC_WRAP
    PERL_OP_PARENT
    PERL_PRESERVE_IVUV
    PERL_USE_SAFE_PUTENV
    USE_LARGE_FILES
    USE_LOCALE
    USE_LOCALE_COLLATE
    USE_LOCALE_CTYPE
    USE_LOCALE_NUMERIC
    USE_LOCALE_TIME
    USE_PERLIO
    USE_PERL_ATOF
  Built under linux
  Compiled at Jul  3 2023 19:30:21
  %ENV:
    PERL5LIB="/srv/smoker/perl5/lib/perl5"
    PERL5OPT=""
    PERL5_CPANPLUS_IS_RUNNING="10081"
    PERL5_CPAN_IS_RUNNING="10081"
    PERL5_CPAN_IS_RUNNING_IN_RECURSION="10451,10081"
    PERLBREW_HOME="/srv/smoker/.perlbrew"
    PERLBREW_MANPATH="/srv/smoker/perl5/perlbrew/perls/perl-5.38.0/man"
    PERLBREW_PATH="/srv/smoker/perl5/perlbrew/bin:/srv/smoker/perl5/perlbrew/perls/perl-5.38.0/bin"
    PERLBREW_PERL="perl-5.38.0"
    PERLBREW_ROOT="/srv/smoker/perl5/perlbrew"
    PERLBREW_SHELLRC_VERSION="0.97"
    PERLBREW_VERSION="0.97"
    PERL_CPANM_OPT="--prompt  --configure-timeout 300 --build-timeout 18000 --test-timeout 18000 --from https://www.cpan.org"
    PERL_CR_SMOKER_CURRENT="JTM-Boilerplate-2.231980"
    PERL_EXTUTILS_AUTOINSTALL="--defaultdeps"
    PERL_LOCAL_LIB_ROOT="/srv/smoker/perl5"
    PERL_MB_OPT="--install_base "/srv/smoker/perl5""
    PERL_MM_OPT="INSTALL_BASE=/srv/smoker/perl5"
    PERL_MM_USE_DEFAULT="1"
    PERL_TEST_TIME_OUT_FACTOR="3"
    PERL_USE_UNSAFE_INC="1"
  @INC:
    /srv/smoker/perl5/lib/perl5/5.38.0/armv6l-linux
    /srv/smoker/perl5/lib/perl5/5.38.0
    /srv/smoker/perl5/lib/perl5/armv6l-linux
    /srv/smoker/perl5/lib/perl5
    /srv/smoker/perl5/perlbrew/perls/perl-5.38.0/lib/site_perl/5.38.0/armv6l-linux
    /srv/smoker/perl5/perlbrew/perls/perl-5.38.0/lib/site_perl/5.38.0
    /srv/smoker/perl5/perlbrew/perls/perl-5.38.0/lib/5.38.0/armv6l-linux
    /srv/smoker/perl5/perlbrew/perls/perl-5.38.0/lib/5.38.0
    .