FunctionalPerl v0.72.66 Perl 5 v5.20.1 MSWin32-x86-multi-thread-64int
- Status
- Pass
- From
- Alexandr Ciornii (CHORNY)
- Dist
-
FunctionalPerl v0.72.66
- Platform
- Perl 5 v5.20.1 MSWin32-x86-multi-thread-64int
- Date
- 2021-05-24 14:13:19
- ID
- 7521fea7-6bf4-1014-b98c-2700fc01aed0
This distribution has been tested as part of the CPAN Testers
project, supporting the Perl programming language. See
http://wiki.cpantesters.org/ for more information or email
questions to cpan-testers-discuss@perl.org
--
Dear Christian Jaeger,
This is a computer-generated report for FunctionalPerl-0.72.66
on perl 5.20.1, created by CPAN-Reporter-1.2014.
Thank you for uploading your work to CPAN. Congratulations!
All tests were successful.
Sections of this report:
* Tester comments
* Program output
* Prerequisites
* Environment and other context
------------------------------
TESTER COMMENTS
------------------------------
Additional comments from tester:
this report is from an automated smoke testing program
and was not reviewed by a human for accuracy
------------------------------
PROGRAM OUTPUT
------------------------------
Output from 'C:\STRAWB~1\c\bin\dmake.exe test':
"C:\Strawberry201\perl\bin\perl.exe" "-MExtUtils::Command::MM" "-MTest::Harness" "-e" "undef *Test::Harness::Switches; test_harness(0, 'blib\lib', 'blib\arch')" t/*.t
t/csv_to_xml.t ........................... skipped: on Windows (no shell support)
t/dbi.t .................................. ok
t/examples-csv-to-json.t ................. ok
times for fib: user = 0.261, system = 0.12, cuser = 0, csystem = 0
times for fibonacci: user = 0.34, system = 0, cuser = 0, csystem = 0
t/examples-fibs.t ........................ ok
t/examples-functional-classes.t .......... ok
t/examples-hiring-without-whiteboards.t .. skipped: dependency Term::ReadLine::Gnu not present at lib/FP/Repl/Dependencies.pm line 44.
t/examples-logic.t ....................... skipped: could not use FP::Repl::Dependencies
t/examples-perlweekly-111-1.t ............ skipped: Perl v5.32.1 required--this is only v5.20.1, stopped at (eval 77) line 2.
times: user = 0.081, system = 0.11, cuser = 0, csystem = 0
times: user = 0.13, system = 0.191, cuser = 0, csystem = 0
times: user = 0.11, system = 0.2, cuser = 0, csystem = 0
t/examples-perlweekly-113-1.t ............ ok
t/examples-perlweekly-113-2.t ............ ok
t/examples-primes.t ...................... ok
t/functional_XML-t-div.t ................. ok
t/functional_XML-test.t .................. ok
not activating since running in test mode at ../.htmlgen//../lib/FP/Repl/AutoTrap.pm line 64.
NOTE: can't load FP::SortedPureArray: Can't locate List/BinarySearch.pm in @INC (you may need to install the List::BinarySearch module) (@INC contains: ../.htmlgen/ ../.htmlgen//../lib C:\STRAWB~1\cpan\build\FunctionalPerl-0.72.66-DS7zoY\blib\lib C:\STRAWB~1\cpan\build\FunctionalPerl-0.72.66-DS7zoY\blib\arch C:\STRAWB~1\cpan\build\Test-Pod-Snippets-0.07-L20iCb/blib/arch C:\STRAWB~1\cpan\build\Test-Pod-Snippets-0.07-L20iCb/blib/lib C:/Strawberry201/perl/site/lib C:/Strawberry201/perl/vendor/lib C:/Strawberry201/perl/lib .) at ../.htmlgen//../lib/FP/SortedPureArray.pm line 57. at ../.htmlgen//../lib/FunctionalPerl.pm line 310.
t/htmlgen.t .............................. ok
t/intro-basics.t ......................... skipped: could not use FP::Repl::Dependencies
t/perl-goto-leak.t ....................... skipped: on Windows (no shell support)
t/perl-weaken-coderef-correctness.t ...... skipped: on Windows (no shell support)
t/perl-weaken-coderef.t .................. skipped: on Windows (no shell support)
Argument "2/8" isn't numeric in numeric eq (==) at lib/FP/Collection.pm line 104.
Argument "2/8" isn't numeric in numeric eq (==) at lib/FP/Collection.pm line 104.
Argument "3/8" isn't numeric in numeric eq (==) at lib/FP/Collection.pm line 104.
Argument "2/8" isn't numeric in numeric eq (==) at lib/FP/Collection.pm line 104.
Argument "3/8" isn't numeric in numeric eq (==) at lib/FP/Collection.pm line 104.
Argument "2/8" isn't numeric in numeric eq (==) at lib/FP/Collection.pm line 104.
NOTE: can't load FP::SortedPureArray: Can't locate List/BinarySearch.pm in @INC (you may need to install the List::BinarySearch module) (@INC contains: ./.htmlgen ./lib ./meta C:\STRAWB~1\cpan\build\FunctionalPerl-0.72.66-DS7zoY\blib\lib C:\STRAWB~1\cpan\build\FunctionalPerl-0.72.66-DS7zoY\blib\arch C:\STRAWB~1\cpan\build\Test-Pod-Snippets-0.07-L20iCb/blib/arch C:\STRAWB~1\cpan\build\Test-Pod-Snippets-0.07-L20iCb/blib/lib C:/Strawberry201/perl/site/lib C:/Strawberry201/perl/vendor/lib C:/Strawberry201/perl/lib .) at lib/FP/SortedPureArray.pm line 57. at lib/FunctionalPerl.pm line 310.
t/pod_snippets.t ......................... ok
t/predicates.t ........................... ok
t/repl.t ................................. skipped: dependency Term::ReadLine::Gnu not present at lib/FP/Repl/Dependencies.pm line 44.
not activating since running in test mode at lib/FP/Repl/AutoTrap.pm line 64.
NOTE: can't load FP::SortedPureArray: Can't locate List/BinarySearch.pm in @INC (you may need to install the List::BinarySearch module) (@INC contains: ./.htmlgen ./lib ./meta C:\STRAWB~1\cpan\build\FunctionalPerl-0.72.66-DS7zoY\blib\lib C:\STRAWB~1\cpan\build\FunctionalPerl-0.72.66-DS7zoY\blib\arch C:\STRAWB~1\cpan\build\Test-Pod-Snippets-0.07-L20iCb/blib/arch C:\STRAWB~1\cpan\build\Test-Pod-Snippets-0.07-L20iCb/blib/lib C:/Strawberry201/perl/site/lib C:/Strawberry201/perl/vendor/lib C:/Strawberry201/perl/lib .) at lib/FP/SortedPureArray.pm line 57. at lib/FunctionalPerl.pm line 310.
positive_inf: got '1.#INF' at lib/FP/Equal/t.pm line 101.
positive_inf: got '1.#INF' at lib/FP/Equal/t.pm line 101.
negative_inf: got '-1.#INF' at lib/FP/Equal/t.pm line 107.
Reference is already weak at lib/FP/Stream.pm line 769.
t/require_and_run_tests.t ................ ok
t/skip-internal.t ........................ ok
t/skip-leak.t ............................ skipped: on Windows (no shell support)
t/skip.t ................................. skipped: on Windows (no shell support)
t/testlazy.t ............................. skipped: on Windows (no shell support)
t/testlazy10.t ........................... skipped: on Windows (no shell support)
t/trampoline-fix.t ....................... skipped: Test requires module 'BSD::Resource' but it's not found
All tests successful.
Files=28, Tests=126, 64 wallclock secs ( 0.45 usr + 0.23 sys = 0.68 CPU)
Result: PASS
------------------------------
PREREQUISITES
------------------------------
Prerequisite modules loaded:
requires:
Module Need Have
------------------- -------- --------
autobox 0 2.83
base 0 2.22
Digest 0 1.17
File::Path 0 2.09
Getopt::Long 0 2.45
Import::Into 0 1.002004
Math::BigInt 0 1.9993
NEXT 0 0.65
overload 0 1.22
perl 5.016004 5.020001
PerlIO::utf8_strict 0 0.005
Safe::Isa 0 1.000005
Scalar::Util 0 1.41
Symbol 0 1.07
Test::More 0.96 1.001006
utf8 0 1.13_01
warnings 0 1.23
build_requires:
Module Need Have
------------------- -------- --------
Capture::Tiny 0 0.25
DBD::CSV 0 0.48
DBI 0 1.631
ExtUtils::MakeMaker 0 7.04
Sub::Util 0 1.41
Test::Pod::Snippets 0 0.07
Test::Requires 0 0.08
Text::CSV 0 1.32
URI 0 1.67
configure_requires:
Module Need Have
------------------- -------- --------
ExtUtils::MakeMaker 0 7.04
------------------------------
ENVIRONMENT AND OTHER CONTEXT
------------------------------
Environment variables:
AUTOMATED_TESTING = 1
COMSPEC = C:\WINDOWS\system32\cmd.exe
NUMBER_OF_PROCESSORS = 1
PATH = C:\WINDOWS\system32;C:\WINDOWS;C:\WINDOWS\System32\Wbem;C:\Strawberry201\c\bin;C:\Strawberry201\perl\site\bin;C:\Strawberry201\perl\bin;C:\Git\cmd
PERL5LIB = C:\STRAWB~1\cpan\build\Test-Pod-Snippets-0.07-L20iCb/blib/arch;C:\STRAWB~1\cpan\build\Test-Pod-Snippets-0.07-L20iCb/blib/lib
PERL5OPT =
PERL5_CPANPLUS_IS_RUNNING = 384
PERL5_CPAN_IS_RUNNING = 384
PERL5_CPAN_IS_RUNNING_IN_RECURSION = 1716,384
PERL_CR_SMOKER_CURRENT = FunctionalPerl-0.72.66
PERL_CR_SMOKER_RUNONCE = 1
PERL_EXTUTILS_AUTOINSTALL = --defaultdeps
PERL_MM_USE_DEFAULT = 1
PROCESSOR_IDENTIFIER = x86 Family 16 Model 5 Stepping 3, AuthenticAMD
TEMP = C:\DOCUME~1\c\LOCALS~1\Temp
Perl special variables (and OS-specific diagnostics, for MSWin32):
$^X = C:\Strawberry201\perl\bin\perl.exe
$UID/$EUID = 0 / 0
$GID = 0
$EGID = 0
Win32::GetOSName = WinXP/.Net
Win32::GetOSVersion = Service Pack 3, 5, 1, 2600, 2, 3, 0, 256, 1
Win32::FsType = NTFS
Win32::IsAdminUser = 1
Perl module toolchain versions installed:
Module Have
------------------- --------
CPAN 2.05
CPAN::Meta 2.142060
Cwd 3.48
ExtUtils::CBuilder 0.280219
ExtUtils::Command 1.18
ExtUtils::Install 1.68
ExtUtils::MakeMaker 7.04
ExtUtils::Manifest 1.66
ExtUtils::ParseXS 3.24
File::Spec 3.48
JSON 2.90
JSON::PP 2.27203
Module::Build 0.4211
Module::Signature 0.78
Parse::CPAN::Meta 1.4414
Test::Harness 3.33
Test::More 1.001006
YAML 1.15
YAML::Syck 1.29
version 0.9909
--
Summary of my perl5 (revision 5 version 20 subversion 1) configuration:
Platform:
osname=MSWin32, osvers=6.3, archname=MSWin32-x86-multi-thread-64int
uname='Win32 strawberry-perl 5.20.1.1 #1 Mon Sep 15 18:25:23 2014 i386'
config_args='undef'
hint=recommended, useposix=true, d_sigaction=undef
useithreads=define, usemultiplicity=define
use64bitint=define, use64bitall=undef, uselongdouble=undef
usemymalloc=n, bincompat5005=undef
Compiler:
cc='gcc', ccflags =' -s -O2 -DWIN32 -DPERL_TEXTMODE_SCRIPTS -DPERL_IMPLICIT_CONTEXT -DPERL_IMPLICIT_SYS -DUSE_PERLIO -fwrapv -fno-strict-aliasing -mms-bitfields',
optimize='-s -O2',
cppflags='-DWIN32'
ccversion='', gccversion='4.8.3', gccosandvers=''
intsize=4, longsize=4, ptrsize=4, doublesize=8, byteorder=12345678
d_longlong=define, longlongsize=8, d_longdbl=define, longdblsize=12
ivtype='long long', ivsize=8, nvtype='double', nvsize=8, Off_t='long long', lseeksize=8
alignbytes=8, prototype=define
Linker and Libraries:
ld='g++', ldflags ='-s -L"C:\STRAWB~1\perl\lib\CORE" -L"C:\STRAWB~1\c\lib"'
libpth=C:\STRAWB~1\c\lib C:\STRAWB~1\c\i686-w64-mingw32\lib C:\STRAWB~1\c\lib\gcc\i686-w64-mingw32\4.8.3
libs=-lmoldname -lkernel32 -luser32 -lgdi32 -lwinspool -lcomdlg32 -ladvapi32 -lshell32 -lole32 -loleaut32 -lnetapi32 -luuid -lws2_32 -lmpr -lwinmm -lversion -lodbc32 -lodbccp32 -lcomctl32
perllibs=-lmoldname -lkernel32 -luser32 -lgdi32 -lwinspool -lcomdlg32 -ladvapi32 -lshell32 -lole32 -loleaut32 -lnetapi32 -luuid -lws2_32 -lmpr -lwinmm -lversion -lodbc32 -lodbccp32 -lcomctl32
libc=, so=dll, useshrplib=true, libperl=libperl520.a
gnulibc_version=''
Dynamic Linking:
dlsrc=dl_win32.xs, dlext=xs.dll, d_dlsymun=undef, ccdlflags=' '
cccdlflags=' ', lddlflags='-mdll -s -L"C:\STRAWB~1\perl\lib\CORE" -L"C:\STRAWB~1\c\lib"'
Characteristics of this binary (from libperl):
Compile-time options: HAS_TIMES HAVE_INTERP_INTERN MULTIPLICITY
PERLIO_LAYERS PERL_DONT_CREATE_GVSV
PERL_HASH_FUNC_ONE_AT_A_TIME_HARD
PERL_IMPLICIT_CONTEXT PERL_IMPLICIT_SYS
PERL_MALLOC_WRAP PERL_NEW_COPY_ON_WRITE
PERL_PRESERVE_IVUV USE_64_BIT_INT USE_ITHREADS
USE_LARGE_FILES USE_LOCALE USE_LOCALE_COLLATE
USE_LOCALE_CTYPE USE_LOCALE_NUMERIC USE_PERLIO
USE_PERL_ATOF
Built under MSWin32
Compiled at Sep 15 2014 18:29:20
%ENV:
PERL5LIB="C:\STRAWB~1\cpan\build\Test-Pod-Snippets-0.07-L20iCb/blib/arch;C:\STRAWB~1\cpan\build\Test-Pod-Snippets-0.07-L20iCb/blib/lib"
PERL5_CPANPLUS_IS_RUNNING="384"
PERL5_CPAN_IS_RUNNING="384"
PERL5_CPAN_IS_RUNNING_IN_RECURSION="1716,384"
PERL_CR_SMOKER_CURRENT="FunctionalPerl-0.72.66"
PERL_CR_SMOKER_RUNONCE="1"
PERL_EXTUTILS_AUTOINSTALL="--defaultdeps"
PERL_MM_USE_DEFAULT="1"
@INC:
C:\STRAWB~1\cpan\build\Test-Pod-Snippets-0.07-L20iCb/blib/arch
C:\STRAWB~1\cpan\build\Test-Pod-Snippets-0.07-L20iCb/blib/lib
C:/Strawberry201/perl/site/lib
C:/Strawberry201/perl/vendor/lib
C:/Strawberry201/perl/lib
.