Moo v2.005005 Perl 5 v5.20.2 amd64-freebsd-thread-multi
- Status
- Pass
- From
- Slaven Rezić
- Dist
-
Moo v2.005005
- Platform
- Perl 5 v5.20.2 amd64-freebsd-thread-multi
- Date
- 2023-12-31 08:20:28
- ID
- 74ae41f8-a7b5-11ee-9e03-bef16d8775ea
This distribution has been tested as part of the CPAN Testers
project, supporting the Perl programming language. See
http://wiki.cpantesters.org/ for more information or email
questions to cpan-testers-discuss@perl.org
--
Dear Graham Knop,
This is a computer-generated report for Moo-2.005005
on perl 5.20.2, created by CPAN-Reporter-1.2011.
Thank you for uploading your work to CPAN. Congratulations!
All tests were successful.
Sections of this report:
* Tester comments
* Program output
* Prerequisites
* Environment and other context
------------------------------
TESTER COMMENTS
------------------------------
Additional comments from tester:
none provided
------------------------------
PROGRAM OUTPUT
------------------------------
Output from '/usr/bin/make test':
PERL_DL_NONLAZY=1 /usr/local/bin/perl5 -It/lib "-MTestEnv=" "-MExtUtils::Command::MM" "-MTest::Harness" "-e" "undef *Test::Harness::Switches; test_harness(0, 'blib/lib', 'blib/arch')" t/*.t
t/accessor-coerce.t ................ ok
t/accessor-default.t ............... ok
t/accessor-generator-extension.t ... ok
t/accessor-handles.t ............... ok
t/accessor-isa.t ................... ok
t/accessor-mixed.t ................. ok
t/accessor-pred-clear.t ............ ok
t/accessor-reader-writer.t ......... ok
t/accessor-roles.t ................. ok
t/accessor-shortcuts.t ............. ok
t/accessor-trigger.t ............... ok
t/accessor-weaken-pre-5_8_3.t ...... ok
t/accessor-weaken.t ................ ok
t/buildall-subconstructor.t ........ ok
t/buildall.t ....................... ok
t/buildargs-error.t ................ ok
t/buildargs.t ...................... ok
t/coerce-1.t ....................... ok
t/compose-conflicts.t .............. ok
t/compose-non-role.t ............... ok
t/compose-roles.t .................. ok
t/constructor-modify.t ............. ok
t/croak-locations.t ................ ok
t/demolish-basics.t ................ ok
t/demolish-bugs-eats_exceptions.t .. ok
t/demolish-bugs-eats_mini.t ........ ok
t/demolish-global_destruction.t .... ok
t/demolish-throw.t ................. ok
t/does.t ........................... ok
t/extend-constructor.t ............. ok
t/extends-non-moo.t ................ ok
t/extends-role.t ................... ok
t/foreignbuildargs.t ............... ok
t/global_underscore.t .............. ok
t/has-array.t ...................... ok
t/has-before-extends.t ............. ok
t/has-plus.t ....................... ok
t/init-arg.t ....................... ok
t/isa-interfere.t .................. ok
t/lazy_isa.t ....................... ok
t/load_module.t .................... ok
t/load_module_error.t .............. ok
t/load_module_role_tiny.t .......... ok
t/long-package-name.t .............. ok
t/method-generate-accessor.t ....... ok
t/method-generate-constructor.t .... ok
t/modifiers.t ...................... ok
t/modify_lazy_handlers.t ........... ok
t/moo-accessors.t .................. ok
t/moo-c3.t ......................... ok
t/moo-object.t ..................... ok
t/moo-utils-_name_coderef.t ........ ok
t/moo-utils-_subname-Sub-Name.t .... ok
t/moo-utils-_subname.t ............. ok
t/moo-utils.t ...................... ok
t/moo.t ............................ ok
t/mutual-requires.t ................ ok
t/no-build.t ....................... ok
t/no-moo.t ......................... ok
t/non-moo-extends-c3.t ............. ok
t/non-moo-extends.t ................ ok
t/not-both.t ....................... ok
t/not-methods.t .................... ok
t/overloaded-coderefs.t ............ ok
t/overridden-core-funcs.t .......... ok
t/role-conflicts-moox.t ............ ok
t/sub-and-handles.t ................ ok
t/subconstructor.t ................. ok
t/undef-bug.t ...................... ok
t/use-after-no.t ................... ok
t/zzz-check-breaks.t ............... ok
All tests successful.
Files=71, Tests=841, 6 wallclock secs ( 0.12 usr 0.28 sys + 2.31 cusr 0.68 csys = 3.40 CPU)
Result: PASS
------------------------------
PREREQUISITES
------------------------------
Prerequisite modules loaded:
requires:
Module Need Have
------------------------ -------- --------
Carp 0 1.3301
Class::Method::Modifiers 1.10 2.15
Exporter 0 5.71
perl 5.006 5.020002
Role::Tiny 2.002003 2.002004
Scalar::Util 1.00 1.41
Sub::Defer 2.006006 2.006008
Sub::Quote 2.006006 2.006008
build_requires:
Module Need Have
------------------------ -------- --------
Test::More 0.94 1.001002
configure_requires:
Module Need Have
------------------------ -------- --------
ExtUtils::MakeMaker 0 6.98
opt_requires:
Module Need Have
------------------------ -------- --------
! Class::XSAccessor 1.18 n/a
Sub::Util 0 1.41
opt_build_requires:
Module Need Have
------------------------ -------- --------
CPAN::Meta::Requirements 0 2.125
Parse::CPAN::Meta 1.4200 1.4414
------------------------------
ENVIRONMENT AND OTHER CONTEXT
------------------------------
Environment variables:
LC_ALL = de_DE.ISO8859-1
PATH = /usr/local/bin:/usr/bin:/bin:/usr/local/sbin:/usr/sbin:/sbin:/home/cpansand/bin/freebsd9.3:/home/cpansand/bin/sh:/home/cpansand/bin:/usr/games:/home/cpansand/devel:/usr/home/eserte/src/srezic-misc/scripts
PERL5LIB = /home/cpansand/.cpan/build/2023123108/Sub-Quote-2.006008-wW455Q/blib/arch:/home/cpansand/.cpan/build/2023123108/Sub-Quote-2.006008-wW455Q/blib/lib:/home/cpansand/.cpan/build/2023123108/Class-Method-Modifiers-2.15-yNSeiY/blib/arch:/home/cpansand/.cpan/build/2023123108/Class-Method-Modifiers-2.15-yNSeiY/blib/lib:/home/cpansand/.cpan/build/2023123108/Role-Tiny-2.002004-kJV7JN/blib/arch:/home/cpansand/.cpan/build/2023123108/Role-Tiny-2.002004-kJV7JN/blib/lib:/home/cpansand/.cpan/build/2023123108/Test-Pod-1.52-uDHiiI/blib/arch:/home/cpansand/.cpan/build/2023123108/Test-Pod-1.52-uDHiiI/blib/lib
PERL5OPT =
PERL5_CPANPLUS_IS_RUNNING = 73046
PERL5_CPAN_IS_RUNNING = 73046
PERL5_CPAN_IS_RUNNING_IN_RECURSION = 73033,73046
PERLDOC = -MPod::Perldoc::ToTextOverstrike
PERL_BATCH = yes
PERL_CANARY_STABILITY_NOPROMPT = 1
PERL_CPAN_REPORTER_CONFIG = /var/tmp/cpansmoker-1023/2023123108/cpanreporter_001_config.ini
PERL_EXTUTILS_AUTOINSTALL = --defaultdeps
SHELL = /usr/local/bin/zsh
TERM = screen
TMPDIR = /var/tmp/cpansmoker-1023/2023123108
Perl special variables (and OS-specific diagnostics, for MSWin32):
$^X = /usr/local/bin/perl5
$UID/$EUID = 1023 / 1023
$GID = 1023 1023
$EGID = 1023 1023
Perl module toolchain versions installed:
Module Have
------------------- --------
CPAN 2.05
CPAN::Meta 2.140640
Cwd 3.48_01
ExtUtils::CBuilder 0.280217
ExtUtils::Command 1.18
ExtUtils::Install 1.67
ExtUtils::MakeMaker 6.98
ExtUtils::Manifest 1.63
ExtUtils::ParseXS 3.24
File::Spec 3.48_01
JSON 2.90
JSON::PP 2.27203
Module::Build 0.4205
Module::Signature n/a
Parse::CPAN::Meta 1.4414
Test::Harness 3.30
Test::More 1.001002
YAML 1.14
YAML::Syck 1.27
version 0.9912
--
Summary of my perl5 (revision 5 version 20 subversion 2) configuration:
Platform:
osname=freebsd, osvers=9.3-release-p13, archname=amd64-freebsd-thread-multi
uname='freebsd 93amd64-default-job-01 9.3-release-p13 freebsd 9.3-release-p13 amd64 '
config_args='-sde -Dprefix=/usr/local -Dlibperl=libperl.so.5.20.2 -Darchlib=/usr/local/lib/perl5/5.20/mach -Dprivlib=/usr/local/lib/perl5/5.20 -Dman3dir=/usr/local/lib/perl5/5.20/perl/man/man3 -Dman1dir=/usr/local/man/man1 -Dsitearch=/usr/local/lib/perl5/site_perl/mach/5.20 -Dsitelib=/usr/local/lib/perl5/site_perl -Dscriptdir=/usr/local/bin -Dsiteman3dir=/usr/local/lib/perl5/site_perl/man/man3 -Dsiteman1dir=/usr/local/man/man1 -Ui_malloc -Ui_iconv -Uinstallusrbinperl -Dusenm=n -Dcc=cc -Duseshrplib -Dinc_version_list=none -Dcf_by=perl -Dcf_email=perl@FreeBSD.org -Dcf_time=Sat Feb 14 18:26:43 UTC 2015 -Alddlflags=-L/wrkdirs/usr/ports/lang/perl5.20/work/perl-5.20.2 -L/usr/local/lib/perl5/5.20/mach/CORE -Wl,-rpath=/usr/local/lib/perl5/5.20/mach/CORE -lperl -Dshrpldflags=$(LDDLFLAGS:N-L/wrkdirs/usr/ports/lang/perl5.20/work/perl-5.20.2:N-L/usr/local/lib/perl5/5.20/mach/CORE:N-Wl,-rpath=/usr/local/lib/perl5/5.20/mach/CORE:N-lperl) -Wl,-soname,$(LIBPERL:R) -Dotherlibdirs=/usr/local/lib/perl5/site_perl/5.20:/usr/local/lib/perl5/site_perl/5.20/mach -Doptimize=-O2 -pipe -fstack-protector -fno-strict-aliasing -Ui_gdbm -Dusemultiplicity=y -Duse64bitint -Dusethreads=y -Dusemymalloc=n'
hint=recommended, useposix=true, d_sigaction=define
useithreads=define, usemultiplicity=define
use64bitint=define, use64bitall=define, uselongdouble=undef
usemymalloc=n, bincompat5005=undef
Compiler:
cc='cc', ccflags ='-DHAS_FPSETMASK -DHAS_FLOATINGPOINT_H -fno-strict-aliasing -pipe -fstack-protector -I/usr/local/include',
optimize='-O2 -pipe -fstack-protector -fno-strict-aliasing',
cppflags='-DHAS_FPSETMASK -DHAS_FLOATINGPOINT_H -fno-strict-aliasing -pipe -fstack-protector -I/usr/local/include'
ccversion='', gccversion='4.2.1 20070831 patched [FreeBSD]', gccosandvers=''
intsize=4, longsize=8, ptrsize=8, doublesize=8, byteorder=12345678
d_longlong=define, longlongsize=8, d_longdbl=define, longdblsize=16
ivtype='long', ivsize=8, nvtype='double', nvsize=8, Off_t='off_t', lseeksize=8
alignbytes=8, prototype=define
Linker and Libraries:
ld='cc', ldflags ='-lpthread -Wl,-E -fstack-protector -L/usr/local/lib'
libpth=/usr/lib /usr/local/lib /usr/include/gcc/4.2 /usr/lib
libs=-lm -lcrypt -lutil
perllibs=-lm -lcrypt -lutil
libc=, so=so, useshrplib=true, libperl=libperl.so.5.20.2
gnulibc_version=''
Dynamic Linking:
dlsrc=dl_dlopen.xs, dlext=so, d_dlsymun=undef, ccdlflags=' -Wl,-R/usr/local/lib/perl5/5.20/mach/CORE'
cccdlflags='-DPIC -fPIC', lddlflags='-shared -L/wrkdirs/usr/ports/lang/perl5.20/work/perl-5.20.2 -L/usr/local/lib/perl5/5.20/mach/CORE -Wl,-rpath=/usr/local/lib/perl5/5.20/mach/CORE -lperl -L/usr/local/lib -fstack-protector'
Characteristics of this binary (from libperl):
Compile-time options: HAS_TIMES MULTIPLICITY PERLIO_LAYERS
PERL_DONT_CREATE_GVSV
PERL_HASH_FUNC_ONE_AT_A_TIME_HARD
PERL_IMPLICIT_CONTEXT PERL_MALLOC_WRAP
PERL_NEW_COPY_ON_WRITE PERL_PRESERVE_IVUV
USE_64_BIT_ALL USE_64_BIT_INT USE_ITHREADS
USE_LARGE_FILES USE_LOCALE USE_LOCALE_COLLATE
USE_LOCALE_CTYPE USE_LOCALE_NUMERIC USE_PERLIO
USE_PERL_ATOF USE_REENTRANT_API
Built under freebsd
%ENV:
PERL5LIB="/home/cpansand/.cpan/build/2023123108/Sub-Quote-2.006008-wW455Q/blib/arch:/home/cpansand/.cpan/build/2023123108/Sub-Quote-2.006008-wW455Q/blib/lib:/home/cpansand/.cpan/build/2023123108/Class-Method-Modifiers-2.15-yNSeiY/blib/arch:/home/cpansand/.cpan/build/2023123108/Class-Method-Modifiers-2.15-yNSeiY/blib/lib:/home/cpansand/.cpan/build/2023123108/Role-Tiny-2.002004-kJV7JN/blib/arch:/home/cpansand/.cpan/build/2023123108/Role-Tiny-2.002004-kJV7JN/blib/lib:/home/cpansand/.cpan/build/2023123108/Test-Pod-1.52-uDHiiI/blib/arch:/home/cpansand/.cpan/build/2023123108/Test-Pod-1.52-uDHiiI/blib/lib"
PERL5OPT=""
PERL5_CPANPLUS_IS_RUNNING="73046"
PERL5_CPAN_IS_RUNNING="73046"
PERL5_CPAN_IS_RUNNING_IN_RECURSION="73033,73046"
PERLDOC="-MPod::Perldoc::ToTextOverstrike"
PERL_BATCH="yes"
PERL_CANARY_STABILITY_NOPROMPT="1"
PERL_CPAN_REPORTER_CONFIG="/var/tmp/cpansmoker-1023/2023123108/cpanreporter_001_config.ini"
PERL_EXTUTILS_AUTOINSTALL="--defaultdeps"
@INC:
/home/cpansand/.cpan/build/2023123108/Sub-Quote-2.006008-wW455Q/blib/arch
/home/cpansand/.cpan/build/2023123108/Sub-Quote-2.006008-wW455Q/blib/lib
/home/cpansand/.cpan/build/2023123108/Class-Method-Modifiers-2.15-yNSeiY/blib/arch
/home/cpansand/.cpan/build/2023123108/Class-Method-Modifiers-2.15-yNSeiY/blib/lib
/home/cpansand/.cpan/build/2023123108/Role-Tiny-2.002004-kJV7JN/blib/arch
/home/cpansand/.cpan/build/2023123108/Role-Tiny-2.002004-kJV7JN/blib/lib
/home/cpansand/.cpan/build/2023123108/Test-Pod-1.52-uDHiiI/blib/arch
/home/cpansand/.cpan/build/2023123108/Test-Pod-1.52-uDHiiI/blib/lib
/usr/local/lib/perl5/site_perl/mach/5.20
/usr/local/lib/perl5/site_perl
/usr/local/lib/perl5/5.20/mach
/usr/local/lib/perl5/5.20
/usr/local/lib/perl5/site_perl/5.20
/usr/local/lib/perl5/site_perl/5.20/mach
.