Encode v3.16 Perl 5 v5.32.0 MSWin32-x64-multi-thread
- Status
- Pass
- From
- twata
- Dist
-
Encode v3.16
- Platform
- Perl 5 v5.32.0 MSWin32-x64-multi-thread
- Date
- 2021-10-16 06:01:46
- ID
- 7489a346-6c04-1014-b1a2-9f4e76a13fd6
This distribution has been tested as part of the CPAN Testers
project, supporting the Perl programming language. See
http://wiki.cpantesters.org/ for more information or email
questions to cpan-testers-discuss@perl.org
--
Dear Dan Kogai,
This is a computer-generated report for Encode-3.16
on perl 5.32.0, created by CPAN-Reporter-1.2018.
Thank you for uploading your work to CPAN. Congratulations!
All tests were successful.
Sections of this report:
* Tester comments
* Program output
* Prerequisites
* Environment and other context
------------------------------
TESTER COMMENTS
------------------------------
Additional comments from tester:
none provided
------------------------------
PROGRAM OUTPUT
------------------------------
Output from 'C:\Strawberry\c\bin\gmake.exe test':
"C:\Strawberry\perl\bin\perl.exe" -MExtUtils::Command::MM -e cp_nonempty -- Encode.bs blib\arch\auto\Encode\Encode.bs 644
gmake[1]: Entering directory 'C:/Strawberry/cpan/build/Encode-3.16-0/Byte'
"C:\Strawberry\perl\bin\perl.exe" -MExtUtils::Command::MM -e cp_nonempty -- Byte.bs ..\blib\arch\auto\Encode\Byte\Byte.bs 644
gmake[1]: Leaving directory 'C:/Strawberry/cpan/build/Encode-3.16-0/Byte'
gmake[1]: Entering directory 'C:/Strawberry/cpan/build/Encode-3.16-0/CN'
"C:\Strawberry\perl\bin\perl.exe" -MExtUtils::Command::MM -e cp_nonempty -- CN.bs ..\blib\arch\auto\Encode\CN\CN.bs 644
gmake[1]: Leaving directory 'C:/Strawberry/cpan/build/Encode-3.16-0/CN'
gmake[1]: Entering directory 'C:/Strawberry/cpan/build/Encode-3.16-0/EBCDIC'
"C:\Strawberry\perl\bin\perl.exe" -MExtUtils::Command::MM -e cp_nonempty -- EBCDIC.bs ..\blib\arch\auto\Encode\EBCDIC\EBCDIC.bs 644
gmake[1]: Leaving directory 'C:/Strawberry/cpan/build/Encode-3.16-0/EBCDIC'
gmake[1]: Entering directory 'C:/Strawberry/cpan/build/Encode-3.16-0/JP'
"C:\Strawberry\perl\bin\perl.exe" -MExtUtils::Command::MM -e cp_nonempty -- JP.bs ..\blib\arch\auto\Encode\JP\JP.bs 644
gmake[1]: Leaving directory 'C:/Strawberry/cpan/build/Encode-3.16-0/JP'
gmake[1]: Entering directory 'C:/Strawberry/cpan/build/Encode-3.16-0/KR'
"C:\Strawberry\perl\bin\perl.exe" -MExtUtils::Command::MM -e cp_nonempty -- KR.bs ..\blib\arch\auto\Encode\KR\KR.bs 644
gmake[1]: Leaving directory 'C:/Strawberry/cpan/build/Encode-3.16-0/KR'
gmake[1]: Entering directory 'C:/Strawberry/cpan/build/Encode-3.16-0/Symbol'
"C:\Strawberry\perl\bin\perl.exe" -MExtUtils::Command::MM -e cp_nonempty -- Symbol.bs ..\blib\arch\auto\Encode\Symbol\Symbol.bs 644
gmake[1]: Leaving directory 'C:/Strawberry/cpan/build/Encode-3.16-0/Symbol'
gmake[1]: Entering directory 'C:/Strawberry/cpan/build/Encode-3.16-0/TW'
"C:\Strawberry\perl\bin\perl.exe" -MExtUtils::Command::MM -e cp_nonempty -- TW.bs ..\blib\arch\auto\Encode\TW\TW.bs 644
gmake[1]: Leaving directory 'C:/Strawberry/cpan/build/Encode-3.16-0/TW'
gmake[1]: Entering directory 'C:/Strawberry/cpan/build/Encode-3.16-0/Unicode'
"C:\Strawberry\perl\bin\perl.exe" -MExtUtils::Command::MM -e cp_nonempty -- Unicode.bs ..\blib\arch\auto\Encode\Unicode\Unicode.bs 644
gmake[1]: Leaving directory 'C:/Strawberry/cpan/build/Encode-3.16-0/Unicode'
gmake[1]: Entering directory 'C:/Strawberry/cpan/build/Encode-3.16-0/Byte'
"C:\Strawberry\perl\bin\perl.exe" -MExtUtils::Command::MM -e cp_nonempty -- Byte.bs ..\blib\arch\auto\Encode\Byte\Byte.bs 644
No tests defined for Encode::Byte extension.
gmake[1]: Leaving directory 'C:/Strawberry/cpan/build/Encode-3.16-0/Byte'
gmake[1]: Entering directory 'C:/Strawberry/cpan/build/Encode-3.16-0/CN'
"C:\Strawberry\perl\bin\perl.exe" -MExtUtils::Command::MM -e cp_nonempty -- CN.bs ..\blib\arch\auto\Encode\CN\CN.bs 644
No tests defined for Encode::CN extension.
gmake[1]: Leaving directory 'C:/Strawberry/cpan/build/Encode-3.16-0/CN'
gmake[1]: Entering directory 'C:/Strawberry/cpan/build/Encode-3.16-0/EBCDIC'
"C:\Strawberry\perl\bin\perl.exe" -MExtUtils::Command::MM -e cp_nonempty -- EBCDIC.bs ..\blib\arch\auto\Encode\EBCDIC\EBCDIC.bs 644
No tests defined for Encode::EBCDIC extension.
gmake[1]: Leaving directory 'C:/Strawberry/cpan/build/Encode-3.16-0/EBCDIC'
gmake[1]: Entering directory 'C:/Strawberry/cpan/build/Encode-3.16-0/JP'
"C:\Strawberry\perl\bin\perl.exe" -MExtUtils::Command::MM -e cp_nonempty -- JP.bs ..\blib\arch\auto\Encode\JP\JP.bs 644
No tests defined for Encode::JP extension.
gmake[1]: Leaving directory 'C:/Strawberry/cpan/build/Encode-3.16-0/JP'
gmake[1]: Entering directory 'C:/Strawberry/cpan/build/Encode-3.16-0/KR'
"C:\Strawberry\perl\bin\perl.exe" -MExtUtils::Command::MM -e cp_nonempty -- KR.bs ..\blib\arch\auto\Encode\KR\KR.bs 644
No tests defined for Encode::KR extension.
gmake[1]: Leaving directory 'C:/Strawberry/cpan/build/Encode-3.16-0/KR'
gmake[1]: Entering directory 'C:/Strawberry/cpan/build/Encode-3.16-0/Symbol'
"C:\Strawberry\perl\bin\perl.exe" -MExtUtils::Command::MM -e cp_nonempty -- Symbol.bs ..\blib\arch\auto\Encode\Symbol\Symbol.bs 644
No tests defined for Encode::Symbol extension.
gmake[1]: Leaving directory 'C:/Strawberry/cpan/build/Encode-3.16-0/Symbol'
gmake[1]: Entering directory 'C:/Strawberry/cpan/build/Encode-3.16-0/TW'
"C:\Strawberry\perl\bin\perl.exe" -MExtUtils::Command::MM -e cp_nonempty -- TW.bs ..\blib\arch\auto\Encode\TW\TW.bs 644
No tests defined for Encode::TW extension.
gmake[1]: Leaving directory 'C:/Strawberry/cpan/build/Encode-3.16-0/TW'
gmake[1]: Entering directory 'C:/Strawberry/cpan/build/Encode-3.16-0/Unicode'
"C:\Strawberry\perl\bin\perl.exe" -MExtUtils::Command::MM -e cp_nonempty -- Unicode.bs ..\blib\arch\auto\Encode\Unicode\Unicode.bs 644
No tests defined for Encode::Unicode extension.
gmake[1]: Leaving directory 'C:/Strawberry/cpan/build/Encode-3.16-0/Unicode'
"C:\Strawberry\perl\bin\perl.exe" "-MExtUtils::Command::MM" "-MTest::Harness" "-e" "undef *Test::Harness::Switches; test_harness(0, 'blib\lib', 'blib\arch')" t/*.t
t/Aliases.t ................ ok
t/at-cn.t .................. ok
t/at-tw.t .................. ok
t/CJKT.t ................... ok
t/cow.t .................... ok
t/decode.t ................. ok
t/enc_data.t ............... skipped: encoding pragma not supported in Perl 5.26
t/enc_eucjp.t .............. skipped: Perl <=5.25.2 or cperl required
t/enc_module.t ............. skipped: encoding pragma not supported in Perl 5.26
t/enc_utf8.t ............... skipped: Perl <=5.25.2 or cperl required
t/Encode.t ................. ok
t/Encoder.t ................ ok
t/encoding-locale.t ........ ok
t/encoding.t ............... skipped: encoding pragma not supported in Perl 5.26
t/fallback.t ............... ok
t/from_to.t ................ ok
t/grow.t ................... ok
t/gsm0338.t ................ ok
t/guess.t .................. ok
t/isa.t .................... ok
t/jis7-fallback.t .......... ok
t/jperl.t .................. skipped: encoding pragma not supported in Perl 5.26
t/magic.t .................. ok
t/mime-header.t ............ ok
t/mime-name.t .............. ok
t/mime_header_iso2022jp.t .. ok
t/perlio.t ................. ok
t/piconv.t ................. ok
t/rt113164.t ............... ok
t/rt65541.t ................ ok
t/rt76824.t ................ ok
t/rt85489.t ................ ok
t/rt86327.t ................ ok
t/taint.t .................. ok
t/truncated_utf8.t ......... ok
t/undef.t .................. ok
t/Unicode.t ................ ok
# temp file: C:\Users\USER\AppData\Local\Temp\XVcasA3eYT
t/Unicode_trailing_nul.t ... ok
t/use-Encode-Alias.t ....... ok
t/utf8ref.t ................ ok
t/utf8strict.t ............. ok
t/utf8warnings.t ........... ok
t/whatwg-aliases.t ......... skipped: For maintainers only
t/xml.t .................... ok
All tests successful.
Files=44, Tests=7711, 17 wallclock secs ( 0.64 usr + 0.11 sys = 0.75 CPU)
Result: PASS
------------------------------
PREREQUISITES
------------------------------
Prerequisite modules loaded:
requires:
Module Need Have
------------------- ----- --------
Exporter 5.57 5.74
parent 0.221 0.238
Storable 0 3.21
build_requires:
Module Need Have
------------------- ----- --------
ExtUtils::MakeMaker 0 7.46
Test::More 0.92 1.302175
configure_requires:
Module Need Have
------------------- ----- --------
ExtUtils::MakeMaker 0 7.46
------------------------------
ENVIRONMENT AND OTHER CONTEXT
------------------------------
Environment variables:
COMSPEC = C:\WINDOWS\system32\cmd.exe
NONINTERACTIVE_TESTING = 1
NUMBER_OF_PROCESSORS = 4
PATH = C:\home\sunnyday\perl5\bin;C:\WINDOWS\system32;C:\WINDOWS;C:\WINDOWS\System32\Wbem;C:\WINDOWS\System32\WindowsPowerShell\v1.0\;C:\Strawberry\c\bin;C:\Strawberry\perl\site\bin;C:\Strawberry\perl\bin
PERL5LIB = C:\home\sunnyday\perl5\lib\perl5
PERL5OPT =
PERL5_CPANPLUS_IS_RUNNING = 2464
PERL5_CPAN_IS_RUNNING = 2464
PERL_LOCAL_LIB_ROOT = C:\home\sunnyday\perl5
PERL_MB_OPT = --install_base "C:\\home\\sunnyday\\perl5"
PERL_MM_OPT = INSTALL_BASE=C:\\home\\sunnyday\\perl5
PERL_MM_USE_DEFAULT = 1
PERL_USE_UNSAFE_INC = 1
PROCESSOR_IDENTIFIER = Intel64 Family 6 Model 58 Stepping 9, GenuineIntel
TEMP = C:\Users\USER\AppData\Local\Temp
TERM = dumb
Perl special variables (and OS-specific diagnostics, for MSWin32):
$^X = C:\Strawberry\perl\bin\perl.exe
$UID/$EUID = 0 / 0
$GID = 0
$EGID = 0
Win32::GetOSName = Win8.1
Win32::GetOSVersion = , 6, 3, 9600, 2, 0, 0, 256, 1
Win32::FsType = NTFS
Win32::IsAdminUser = 0
Perl module toolchain versions installed:
Module Have
------------------- --------
CPAN 2.28
CPAN::Meta 2.150010
Cwd 3.78
ExtUtils::CBuilder 0.280234
ExtUtils::Command 7.46
ExtUtils::Install 2.16
ExtUtils::MakeMaker 7.46
ExtUtils::Manifest 1.72
ExtUtils::ParseXS 3.40
File::Spec 3.78
JSON 4.02
JSON::PP 4.05
Module::Build 0.4231
Module::Signature n/a
Parse::CPAN::Meta 2.150010
Test::Harness 3.42
Test::More 1.302175
YAML 1.30
YAML::Syck n/a
version 0.9924
--
Summary of my perl5 (revision 5 version 32 subversion 0) configuration:
Platform:
osname=MSWin32
osvers=10.0.19041.388
archname=MSWin32-x64-multi-thread
uname='Win32 strawberry-perl 5.32.0.1 #1 Sun Aug 2 19:46:04 2020 x64'
config_args='undef'
hint=recommended
useposix=true
d_sigaction=undef
useithreads=define
usemultiplicity=define
use64bitint=define
use64bitall=undef
uselongdouble=undef
usemymalloc=n
default_inc_excludes_dot=define
bincompat5005=undef
Compiler:
cc='gcc'
ccflags =' -DWIN32 -DWIN64 -D__USE_MINGW_ANSI_STDIO -DPERL_TEXTMODE_SCRIPTS -DPERL_IMPLICIT_CONTEXT -DPERL_IMPLICIT_SYS -DUSE_PERLIO -fwrapv -fno-strict-aliasing -mms-bitfields'
optimize='-s -O2'
cppflags='-DWIN32'
ccversion=''
gccversion='8.3.0'
gccosandvers=''
intsize=4
longsize=4
ptrsize=8
doublesize=8
byteorder=12345678
doublekind=3
d_longlong=define
longlongsize=8
d_longdbl=define
longdblsize=16
longdblkind=3
ivtype='long long'
ivsize=8
nvtype='double'
nvsize=8
Off_t='long long'
lseeksize=8
alignbytes=8
prototype=define
Linker and Libraries:
ld='g++'
ldflags ='-s -L"C:\Strawberry\perl\lib\CORE" -L"C:\Strawberry\c\lib"'
libpth=C:\Strawberry\c\lib C:\Strawberry\c\x86_64-w64-mingw32\lib C:\Strawberry\c\lib\gcc\x86_64-w64-mingw32\8.3.0
libs= -lmoldname -lkernel32 -luser32 -lgdi32 -lwinspool -lcomdlg32 -ladvapi32 -lshell32 -lole32 -loleaut32 -lnetapi32 -luuid -lws2_32 -lmpr -lwinmm -lversion -lodbc32 -lodbccp32 -lcomctl32
perllibs= -lmoldname -lkernel32 -luser32 -lgdi32 -lwinspool -lcomdlg32 -ladvapi32 -lshell32 -lole32 -loleaut32 -lnetapi32 -luuid -lws2_32 -lmpr -lwinmm -lversion -lodbc32 -lodbccp32 -lcomctl32
libc=
so=dll
useshrplib=true
libperl=libperl532.a
gnulibc_version=''
Dynamic Linking:
dlsrc=dl_win32.xs
dlext=xs.dll
d_dlsymun=undef
ccdlflags=' '
cccdlflags=' '
lddlflags='-mdll -s -L"C:\Strawberry\perl\lib\CORE" -L"C:\Strawberry\c\lib"'
Characteristics of this binary (from libperl):
Compile-time options:
HAS_TIMES
HAVE_INTERP_INTERN
MULTIPLICITY
PERLIO_LAYERS
PERL_COPY_ON_WRITE
PERL_DONT_CREATE_GVSV
PERL_IMPLICIT_CONTEXT
PERL_IMPLICIT_SYS
PERL_MALLOC_WRAP
PERL_OP_PARENT
PERL_PRESERVE_IVUV
USE_64_BIT_INT
USE_ITHREADS
USE_LARGE_FILES
USE_LOCALE
USE_LOCALE_COLLATE
USE_LOCALE_CTYPE
USE_LOCALE_NUMERIC
USE_LOCALE_TIME
USE_PERLIO
USE_PERL_ATOF
Built under MSWin32
Compiled at Aug 2 2020 19:51:20
%ENV:
PERL5LIB="C:\home\sunnyday\perl5\lib\perl5"
PERL5_CPANPLUS_IS_RUNNING="2464"
PERL5_CPAN_IS_RUNNING="2464"
PERL_LOCAL_LIB_ROOT="C:\home\sunnyday\perl5"
PERL_MB_OPT="--install_base "C:\\home\\sunnyday\\perl5""
PERL_MM_OPT="INSTALL_BASE=C:\\home\\sunnyday\\perl5"
PERL_MM_USE_DEFAULT="1"
PERL_USE_UNSAFE_INC="1"
@INC:
C:\home\sunnyday\perl5\lib\perl5/MSWin32-x64-multi-thread
C:\home\sunnyday\perl5\lib\perl5
C:/Strawberry/perl/site/lib
C:/Strawberry/perl/vendor/lib
C:/Strawberry/perl/lib
.