Path-Tiny v0.144 Perl 5 v5.39.4 x86_64-linux
- Status
- Pass
- From
- Janusz J. Mączka
- Dist
-
Path-Tiny v0.144
- Platform
- Perl 5 v5.39.4 x86_64-linux
- Date
- 2023-11-06 23:44:39
- ID
- 7326c56c-7cfe-11ee-bcf4-cc0b09cbeedf
This distribution has been tested as part of the CPAN Testers
project, supporting the Perl programming language. See
http://wiki.cpantesters.org/ for more information or email
questions to cpan-testers-discuss@perl.org
--
Dear David Golden,
This is a computer-generated report for Path-Tiny-0.144
on perl 5.39.4, created by CPAN-Reporter-1.2019.
Thank you for uploading your work to CPAN. Congratulations!
All tests were successful.
Sections of this report:
* Tester comments
* Program output
* Prerequisites
* Environment and other context
------------------------------
TESTER COMMENTS
------------------------------
Additional comments from tester:
none provided
------------------------------
PROGRAM OUTPUT
------------------------------
Output from '/usr/bin/make test':
PERL_DL_NONLAZY=1 "/home/cpan/.plenv/versions/5.39.4-debug/bin/perl5.39.4" "-MExtUtils::Command::MM" "-MTest::Harness" "-e" "undef *Test::Harness::Switches; test_harness(0, 'blib/lib', 'blib/arch')" t/*.t
#
# Versions for all modules listed in MYMETA.json (including optional ones):
#
# === Configure Requires ===
#
# Module Want Have
# ------------------- ---- ----
# ExtUtils::MakeMaker 6.17 7.70
#
# === Configure Suggests ===
#
# Module Want Have
# -------- ------- ----
# JSON::PP 2.27300 4.16
#
# === Build Requires ===
#
# Module Want Have
# ------------------- ---- ----
# ExtUtils::MakeMaker any 7.70
#
# === Test Requires ===
#
# Module Want Have
# --------------------- ---- --------
# Digest::MD5 any 2.58_01
# ExtUtils::MakeMaker any 7.70
# File::Basename any 2.86
# File::Spec 0.86 3.90
# File::Spec::Functions any 3.91
# File::Spec::Unix any 3.91
# File::Temp 0.19 0.2311
# Test::More 0.96 1.302195
# lib any 0.65
# open any 1.13
#
# === Test Recommends ===
#
# Module Want Have
# ------------------ -------- --------
# CPAN::Meta 2.120900 2.150010
# Test::FailWarnings any missing
# Test::MockRandom any missing
#
# === Runtime Requires ===
#
# Module Want Have
# ------------------ ---- ------
# Carp any 1.54
# Cwd any 3.90
# Digest 1.03 1.20
# Digest::SHA 5.45 6.04
# Encode any 3.19
# Exporter 5.57 5.77
# Fcntl any 1.15
# File::Compare any 1.1008
# File::Copy any 2.41
# File::Glob any 1.40
# File::Path 2.07 2.18
# File::Spec 0.86 3.90
# File::Temp 0.19 0.2311
# File::stat any 1.14
# constant any 1.33
# overload any 1.37
# strict any 1.13
# warnings any 1.67
# warnings::register any 1.06
#
# === Runtime Recommends ===
#
# Module Want Have
# ------------- ---- -------
# Unicode::UTF8 0.58 missing
#
t/00-report-prereqs.t ............. ok
t/basename.t ...................... ok
t/basic.t ......................... ok
t/children.t ...................... ok
t/chmod.t ......................... ok
t/digest.t ........................ ok
t/exception.t ..................... ok
t/exports.t ....................... ok
t/filesystem.t .................... ok
t/has_same_bytes.t ................ ok
t/input_output.t .................. ok
t/input_output_no_PU_UU.t ......... ok
t/input_output_no_UU.t ............ ok
t/locking.t ....................... ok
t/mkdir.t ......................... ok
t/mkpath.t ........................ ok
t/mutable_tree_while_iterating.t .. ok
t/normalize.t ..................... ok
t/overloading.t ................... ok
t/parent.t ........................ ok
t/recurse.t ....................... ok
t/rel-abs.t ....................... ok
t/sig_die.t ....................... ok
t/size.t .......................... ok
t/subsumes.t ...................... ok
t/symlinks.t ...................... ok
t/temp.t .......................... ok
t/visit.t ......................... ok
t/zz-atomic.t ..................... skipped: Test::MockRandom required for atomicity tests
t/zzz-spec.t ...................... ok
All tests successful.
Files=30, Tests=1769, 7 wallclock secs ( 0.59 usr 0.09 sys + 5.56 cusr 0.67 csys = 6.91 CPU)
Result: PASS
------------------------------
PREREQUISITES
------------------------------
Prerequisite modules loaded:
requires:
Module Need Have
--------------------- -------- --------
Carp 0 1.54
constant 0 1.33
Cwd 0 3.90
Digest 1.03 1.20
Digest::SHA 5.45 6.04
Encode 0 3.19
Exporter 5.57 5.77
Fcntl 0 1.15
File::Compare 0 1.1008
File::Copy 0 2.41
File::Glob 0 1.40
File::Path 2.07 2.18
File::Spec 0.86 3.90
File::stat 0 1.14
File::Temp 0.19 0.2311
overload 0 1.37
perl 5.008001 5.039004
strict 0 1.13
warnings 0 1.67
warnings::register 0 1.06
build_requires:
Module Need Have
--------------------- -------- --------
Digest::MD5 0 2.58_01
ExtUtils::MakeMaker 0 7.70
File::Basename 0 2.86
File::Spec 0.86 3.90
File::Spec::Functions 0 3.91
File::Spec::Unix 0 3.91
File::Temp 0.19 0.2311
lib 0 0.65
open 0 1.13
Test::More 0.96 1.302195
configure_requires:
Module Need Have
--------------------- -------- --------
ExtUtils::MakeMaker 6.17 7.70
perl 5.008001 5.039004
opt_requires:
Module Need Have
--------------------- -------- --------
! Unicode::UTF8 0.58 n/a
opt_build_requires:
Module Need Have
--------------------- -------- --------
CPAN::Meta 2.120900 2.150010
! Test::FailWarnings 0 n/a
! Test::MockRandom 0 n/a
------------------------------
ENVIRONMENT AND OTHER CONTEXT
------------------------------
Environment variables:
LANG = en_US.UTF-8
PATH = /home/cpan/.plenv/versions/5.39.4-debug/bin:/opt/plenv/libexec:/home/cpan/.plenv/shims:/usr/local/sbin:/usr/local/bin:/usr/bin:/usr/bin/site_perl:/usr/bin/vendor_perl:/usr/bin/core_perl
PERL5LIB =
PERL5OPT =
PERL5_CPANPLUS_IS_RUNNING = 31344
PERL5_CPAN_IS_RUNNING = 31344
PERL_READLINE_NOWARN = 1
PERL_USE_UNSAFE_INC = 1
SHELL = /bin/bash
TERM = xterm-256color
Perl special variables (and OS-specific diagnostics, for MSWin32):
$^X = /home/cpan/.plenv/versions/5.39.4-debug/bin/perl5.39.4
$UID/$EUID = 1001 / 1001
$GID = 100 10 100
$EGID = 100 10 100
Perl module toolchain versions installed:
Module Have
------------------- --------
CPAN 2.36
CPAN::Meta 2.150010
Cwd 3.90
ExtUtils::CBuilder 0.280240
ExtUtils::Command 7.70
ExtUtils::Install 2.22
ExtUtils::MakeMaker 7.70
ExtUtils::Manifest 1.75
ExtUtils::ParseXS 3.51
File::Spec 3.90
JSON n/a
JSON::PP 4.16
Module::Build 0.4234
Module::Signature n/a
Parse::CPAN::Meta 2.150010
Test2 1.302195
Test::Harness 3.48
Test::More 1.302195
YAML n/a
YAML::Syck n/a
version 0.9930
--
Summary of my perl5 (revision 5 version 39 subversion 4) configuration:
Platform:
osname=linux
osvers=6.1.58-1-lts
archname=x86_64-linux
uname='linux archie 6.1.58-1-lts #1 smp preempt_dynamic sun, 15 oct 2023 18:38:43 +0000 x86_64 gnulinux '
config_args='-Dprefix=/home/cpan/.plenv/versions/5.39.4-debug -de -Dversiononly -DDEBUGGING=-g -Dusedevel -A'eval:scriptdir=/home/cpan/.plenv/versions/5.39.4-debug/bin''
hint=recommended
useposix=true
d_sigaction=define
useithreads=undef
usemultiplicity=undef
use64bitint=define
use64bitall=define
uselongdouble=undef
usemymalloc=n
default_inc_excludes_dot=define
Compiler:
cc='cc'
ccflags ='-fwrapv -fno-strict-aliasing -pipe -fstack-protector-strong -I/usr/local/include -D_LARGEFILE_SOURCE -D_FILE_OFFSET_BITS=64 -D_FORTIFY_SOURCE=2'
optimize='-O2 -g'
cppflags='-fwrapv -fno-strict-aliasing -pipe -fstack-protector-strong -I/usr/local/include'
ccversion=''
gccversion='13.2.1 20230801'
gccosandvers=''
intsize=4
longsize=8
ptrsize=8
doublesize=8
byteorder=12345678
doublekind=3
d_longlong=define
longlongsize=8
d_longdbl=define
longdblsize=16
longdblkind=3
ivtype='long'
ivsize=8
nvtype='double'
nvsize=8
Off_t='off_t'
lseeksize=8
alignbytes=8
prototype=define
Linker and Libraries:
ld='cc'
ldflags =' -fstack-protector-strong -L/usr/local/lib'
libpth=/usr/local/lib /usr/lib
libs=-lpthread -lgdbm -ldb -ldl -lm -lcrypt -lutil -lc -lgdbm_compat
perllibs=-lpthread -ldl -lm -lcrypt -lutil -lc
libc=/lib/../lib/libc.so.6
so=so
useshrplib=false
libperl=libperl.a
gnulibc_version='2.38'
Dynamic Linking:
dlsrc=dl_dlopen.xs
dlext=so
d_dlsymun=undef
ccdlflags='-Wl,-E'
cccdlflags='-fPIC'
lddlflags='-shared -O2 -g -L/usr/local/lib -fstack-protector-strong'
Characteristics of this binary (from libperl):
Compile-time options:
HAS_LONG_DOUBLE
HAS_STRTOLD
HAS_TIMES
PERLIO_LAYERS
PERL_COPY_ON_WRITE
PERL_DONT_CREATE_GVSV
PERL_HASH_FUNC_SIPHASH13
PERL_HASH_USE_SBOX32
PERL_MALLOC_WRAP
PERL_OP_PARENT
PERL_PRESERVE_IVUV
PERL_USE_DEVEL
PERL_USE_SAFE_PUTENV
USE_64_BIT_ALL
USE_64_BIT_INT
USE_LARGE_FILES
USE_LOCALE
USE_LOCALE_COLLATE
USE_LOCALE_CTYPE
USE_LOCALE_NUMERIC
USE_LOCALE_TIME
USE_PERLIO
USE_PERL_ATOF
Built under linux
Compiled at Oct 28 2023 23:06:09
%ENV:
PERL5LIB=""
PERL5OPT=""
PERL5_CPANPLUS_IS_RUNNING="31344"
PERL5_CPAN_IS_RUNNING="31344"
PERL_READLINE_NOWARN="1"
PERL_USE_UNSAFE_INC="1"
@INC:
/home/cpan/.plenv/versions/5.39.4-debug/lib/perl5/site_perl/5.39.4/x86_64-linux
/home/cpan/.plenv/versions/5.39.4-debug/lib/perl5/site_perl/5.39.4
/home/cpan/.plenv/versions/5.39.4-debug/lib/perl5/5.39.4/x86_64-linux
/home/cpan/.plenv/versions/5.39.4-debug/lib/perl5/5.39.4
.