Path-Tiny v0.144 Perl 5 v5.10.0 x86_64-linux-thread-multi-ld
- Status
- Pass
- From
- Nigel Horne
- Dist
-
Path-Tiny v0.144
- Platform
- Perl 5 v5.10.0 x86_64-linux-thread-multi-ld
- Date
- 2023-11-29 20:54:10
- ID
- 7223b762-8ef9-11ee-8e61-540773dda3af
This distribution has been tested as part of the CPAN Testers
project, supporting the Perl programming language. See
http://wiki.cpantesters.org/ for more information or email
questions to cpan-testers-discuss@perl.org
--
Dear David Golden,
This is a computer-generated report for Path-Tiny-0.144
on perl 5.10.0, created by CPAN-Reporter-1.2018.
Thank you for uploading your work to CPAN. Congratulations!
All tests were successful.
Sections of this report:
* Tester comments
* Program output
* Prerequisites
* Environment and other context
------------------------------
TESTER COMMENTS
------------------------------
Additional comments from tester:
none provided
------------------------------
PROGRAM OUTPUT
------------------------------
Output from '/usr/bin/make test':
PERL_DL_NONLAZY=1 "/home/opc/perl5/perlbrew/perls/perl-5.10.0-thread-multi-ld-64all/bin/perl5.10.0" "-MExtUtils::Command::MM" "-MTest::Harness" "-e" "undef *Test::Harness::Switches; test_harness(0, 'blib/lib', 'blib/arch')" t/*.t
t/basename.t ...................... ok
#
# Versions for all modules listed in MYMETA.json (including optional ones):
#
# === Configure Requires ===
#
# Module Want Have
# ------------------- ---- ----
# ExtUtils::MakeMaker 6.17 7.42
#
# === Configure Suggests ===
#
# Module Want Have
# -------- ------- ----
# JSON::PP 2.27300 4.04
#
# === Build Requires ===
#
# Module Want Have
# ------------------- ---- ----
# ExtUtils::MakeMaker any 7.42
#
# === Test Requires ===
#
# Module Want Have
# --------------------- ---- --------
# Digest::MD5 any 2.36_01
# ExtUtils::MakeMaker any 7.42
# File::Basename any 2.76
# File::Spec 0.86 3.75
# File::Spec::Functions any 3.75
# File::Spec::Unix any 3.75
# File::Temp 0.19 0.2309
# Test::More 0.96 1.302189
# lib any 0.5565
# open any 1.06
#
# === Test Recommends ===
#
# Module Want Have
# ------------------ -------- --------
# CPAN::Meta 2.120900 2.150010
# Test::FailWarnings any missing
# Test::MockRandom any missing
#
# === Runtime Requires ===
#
# Module Want Have
# ------------------ ---- ------
# Carp any 1.08
# Cwd any 3.75
# Digest 1.03 1.20
# Digest::SHA 5.45 5.45
# Encode any 2.23
# Exporter 5.57 5.74
# Fcntl any 1.06
# File::Compare any 1.1005
# File::Copy any 2.11
# File::Glob any 1.06
# File::Path 2.07 2.16
# File::Spec 0.86 3.75
# File::Temp 0.19 0.2309
# File::stat any 1.00
# constant any 1.13
# overload any 1.06
# strict any 1.04
# warnings any 1.06
# warnings::register any 1.01
#
# === Runtime Recommends ===
#
# Module Want Have
# ------------- ---- -------
# Unicode::UTF8 0.58 missing
#
t/00-report-prereqs.t ............. ok
t/basic.t ......................... ok
t/children.t ...................... ok
t/digest.t ........................ ok
t/exception.t ..................... ok
t/exports.t ....................... ok
t/chmod.t ......................... ok
t/has_same_bytes.t ................ ok
t/filesystem.t .................... ok
t/input_output_no_PU_UU.t ......... ok
t/input_output.t .................. ok
t/locking.t ....................... ok
t/input_output_no_UU.t ............ ok
t/mkdir.t ......................... ok
t/mkpath.t ........................ ok
t/mutable_tree_while_iterating.t .. ok
t/normalize.t ..................... ok
t/overloading.t ................... ok
t/recurse.t ....................... ok
t/parent.t ........................ ok
t/sig_die.t ....................... ok
t/rel-abs.t ....................... ok
t/size.t .......................... ok
t/subsumes.t ...................... ok
t/symlinks.t ...................... ok
t/temp.t .......................... ok
t/visit.t ......................... ok
t/zz-atomic.t ..................... skipped: Test::MockRandom required for atomicity tests
t/zzz-spec.t ...................... ok
All tests successful.
Files=30, Tests=1769, 8 wallclock secs ( 0.25 usr 0.06 sys + 3.39 cusr 0.57 csys = 4.27 CPU)
Result: PASS
------------------------------
PREREQUISITES
------------------------------
Prerequisite modules loaded:
requires:
Module Need Have
--------------------- -------- --------
Carp 0 1.08
constant 0 1.13
Cwd 0 3.75
Digest 1.03 1.20
Digest::SHA 5.45 5.45
Encode 0 2.23
Exporter 5.57 5.74
Fcntl 0 1.06
File::Compare 0 1.1005
File::Copy 0 2.11
File::Glob 0 1.06
File::Path 2.07 2.16
File::Spec 0.86 3.75
File::stat 0 1.00
File::Temp 0.19 0.2309
overload 0 1.06
perl 5.008001 5.010000
strict 0 1.04
warnings 0 1.06
warnings::register 0 1.01
build_requires:
Module Need Have
--------------------- -------- --------
Digest::MD5 0 2.36_01
ExtUtils::MakeMaker 0 7.42
File::Basename 0 2.76
File::Spec 0.86 3.75
File::Spec::Functions 0 3.75
File::Spec::Unix 0 3.75
File::Temp 0.19 0.2309
lib 0 0.5565
open 0 1.06
Test::More 0.96 1.302189
configure_requires:
Module Need Have
--------------------- -------- --------
ExtUtils::MakeMaker 6.17 7.42
perl 5.008001 5.010000
opt_requires:
Module Need Have
--------------------- -------- --------
! Unicode::UTF8 0.58 n/a
opt_build_requires:
Module Need Have
--------------------- -------- --------
CPAN::Meta 2.120900 2.150010
! Test::FailWarnings 0 n/a
! Test::MockRandom 0 n/a
------------------------------
ENVIRONMENT AND OTHER CONTEXT
------------------------------
Environment variables:
HARNESS_OPTIONS = j2:c
LANG =
LDFLAGS =
PATH = /home/opc/perl5/perlbrew/bin:/home/opc/perl5/perlbrew/perls/perl-5.10.0-thread-multi-ld-64all/bin:/usr/local/bin:/usr/bin:/usr/local/sbin:/usr/sbin:/home/opc/.local/bin:/home/opc/bin
PERL5LIB =
PERL5OPT =
PERL5_CPANPLUS_IS_RUNNING = 15523
PERL5_CPAN_IS_RUNNING = 15523
PERLBREW_HOME = /home/opc/.perlbrew
PERLBREW_MANPATH = /home/opc/perl5/perlbrew/perls/perl-5.10.0-thread-multi-ld-64all/man
PERLBREW_PATH = /home/opc/perl5/perlbrew/bin:/home/opc/perl5/perlbrew/perls/perl-5.10.0-thread-multi-ld-64all/bin
PERLBREW_PERL = perl-5.10.0-thread-multi-ld-64all
PERLBREW_ROOT = /home/opc/perl5/perlbrew
PERLBREW_SHELLRC_VERSION = 0.98
PERLBREW_VERSION = 0.98
PERL_USE_UNSAFE_INC = 1
SHELL = /bin/bash
TERM = xterm-256color
TMPDIR = /home/opc/tmp
Perl special variables (and OS-specific diagnostics, for MSWin32):
$^X = /home/opc/perl5/perlbrew/perls/perl-5.10.0-thread-multi-ld-64all/bin/perl5.10.0
$UID/$EUID = 1000 / 1000
$GID = 1000 4 10 190 1000
$EGID = 1000 4 10 190 1000
Perl module toolchain versions installed:
Module Have
------------------- --------
CPAN 2.27
CPAN::Meta 2.150010
Cwd 3.75
ExtUtils::CBuilder 0.280231
ExtUtils::Command 7.42
ExtUtils::Install 2.22
ExtUtils::MakeMaker 7.42
ExtUtils::Manifest 1.70
ExtUtils::ParseXS 3.44
File::Spec 3.75
JSON 4.02
JSON::PP 4.04
Module::Build 0.4229
Module::Signature n/a
Parse::CPAN::Meta 2.150010
Test::Harness 3.42
Test::More 1.302189
YAML 1.30
YAML::Syck n/a
version 0.9924
--
Summary of my perl5 (revision 5 version 10 subversion 0) configuration:
Platform:
osname=linux, osvers=4.14.35-1902.7.3.el7uek.x86_64, archname=x86_64-linux-thread-multi-ld
uname='linux instance-20191218-1736 4.14.35-1902.7.3.el7uek.x86_64 #2 smp thu oct 31 10:06:41 pdt 2019 x86_64 x86_64 x86_64 gnulinux '
config_args='-de -Dprefix=/home/opc/perl5/perlbrew/perls/perl-5.10.0-thread-multi-ld-64all -Dusedevel -Duse64bitall -Dusethreads -Duselongdouble -Dusemultiplicity -Accflags=-O2 -W -Wformat=2 -Wswitch -Wshadow -Wwrite-strings -Wuninitialized -Wall -pipe -fomit-frame-pointer -pedantic -D_FORTIFY_SOURCE=2 -Wpointer-arith -Wstrict-prototypes -fstack-protector -Wstack-protector -Wextra -Wbad-function-cast -Wcast-align -Wcast-qual -Wdisabled-optimization -Wendif-labels -Wfloat-equal -Wformat-nonliteral -Winline -Wmissing-declarations -Wmissing-prototypes -Wnested-externs -Wpointer-arith -Wundef -Wformat-security -ftree-vectorize -msse -mfpmath=sse -msse2 -mssse3 -msse4.1 -msse4.2 -maes -mtune=native -march=native -Aeval:scriptdir=/home/opc/perl5/perlbrew/perls/perl-5.10.0-thread-multi-ld-64all/bin'
hint=recommended, useposix=true, d_sigaction=define
useithreads=define, usemultiplicity=define
useperlio=define, d_sfio=undef, uselargefiles=define, usesocks=undef
use64bitint=define, use64bitall=define, uselongdouble=define
usemymalloc=n, bincompat5005=undef
Compiler:
cc='cc', ccflags ='-D_REENTRANT -D_GNU_SOURCE -O2 -W -Wformat=2 -Wswitch -Wshadow -Wwrite-strings -Wuninitialized -Wall -pipe -fomit-frame-pointer -pedantic -D_FORTIFY_SOURCE=2 -Wpointer-arith -Wstrict-prototypes -fstack-protector -Wstack-protector -Wextra -Wbad-function-cast -Wcast-align -Wcast-qual -Wdisabled-optimization -Wendif-labels -Wfloat-equal -Wformat-nonliteral -Winline -Wmissing-declarations -Wmissing-prototypes -Wnested-externs -Wpointer-arith -Wundef -Wformat-security -ftree-vectorize -msse -mfpmath=sse -msse2 -mssse3 -msse4.1 -msse4.2 -maes -mtune=native -march=native -fwrapv -fno-strict-aliasing -I/usr/local/include -D_LARGEFILE_SOURCE -D_FILE_OFFSET_BITS=64',
optimize='-O2',
cppflags='-D_REENTRANT -D_GNU_SOURCE -O2 -W -Wformat=2 -Wswitch -Wshadow -Wwrite-strings -Wuninitialized -Wall -pipe -fomit-frame-pointer -pedantic -D_FORTIFY_SOURCE=2 -Wpointer-arith -Wstrict-prototypes -fstack-protector -Wstack-protector -Wextra -Wbad-function-cast -Wcast-align -Wcast-qual -Wdisabled-optimization -Wendif-labels -Wfloat-equal -Wformat-nonliteral -Winline -Wmissing-declarations -Wmissing-prototypes -Wnested-externs -Wpointer-arith -Wundef -Wformat-security -ftree-vectorize -msse -mfpmath=sse -msse2 -mssse3 -msse4.1 -msse4.2 -maes -mtune=native -march=native -fwrapv -fno-strict-aliasing -I/usr/local/include'
ccversion='', gccversion='4.8.5 20150623 (Red Hat 4.8.5-39.0.3)', gccosandvers=''
intsize=4, longsize=8, ptrsize=8, doublesize=8, byteorder=12345678
d_longlong=define, longlongsize=8, d_longdbl=define, longdblsize=16
ivtype='long', ivsize=8, nvtype='long double', nvsize=16, Off_t='off_t', lseeksize=8
alignbytes=16, prototype=define
Linker and Libraries:
ld='cc', ldflags =' -L/usr/local/lib'
libpth=/usr/local/lib /lib/../lib64 /usr/lib/../lib64 /lib /usr/lib /lib64 /usr/lib64 /usr/local/lib64
libs=-lnsl -lgdbm -ldb -ldl -lm -lcrypt -lutil -lpthread -lc -lgdbm_compat
perllibs=-lnsl -ldl -lm -lcrypt -lutil -lpthread -lc -lgdbm_compat
libc=libc-2.17.so, so=so, useshrplib=false, libperl=libperl.a
gnulibc_version='2.17'
Dynamic Linking:
dlsrc=dl_dlopen.xs, dlext=so, d_dlsymun=undef, ccdlflags='-Wl,-E'
cccdlflags='-fPIC', lddlflags='-shared -O2 -L/usr/local/lib'
Characteristics of this binary (from libperl):
Compile-time options: MULTIPLICITY PERL_DONT_CREATE_GVSV
PERL_IMPLICIT_CONTEXT PERL_MALLOC_WRAP USE_64_BIT_ALL
USE_64_BIT_INT USE_ITHREADS USE_LARGE_FILES
USE_LONG_DOUBLE USE_PERLIO USE_REENTRANT_API
Locally applied patches:
Devel::PatchPerl 1.80
Built under linux
Compiled at Dec 22 2019 03:46:16
%ENV:
PERL5LIB=""
PERL5OPT=""
PERL5_CPANPLUS_IS_RUNNING="15523"
PERL5_CPAN_IS_RUNNING="15523"
PERLBREW_HOME="/home/opc/.perlbrew"
PERLBREW_MANPATH="/home/opc/perl5/perlbrew/perls/perl-5.10.0-thread-multi-ld-64all/man"
PERLBREW_PATH="/home/opc/perl5/perlbrew/bin:/home/opc/perl5/perlbrew/perls/perl-5.10.0-thread-multi-ld-64all/bin"
PERLBREW_PERL="perl-5.10.0-thread-multi-ld-64all"
PERLBREW_ROOT="/home/opc/perl5/perlbrew"
PERLBREW_SHELLRC_VERSION="0.98"
PERLBREW_VERSION="0.98"
PERL_USE_UNSAFE_INC="1"
@INC:
/home/opc/perl5/perlbrew/perls/perl-5.10.0-thread-multi-ld-64all/lib/5.10.0/x86_64-linux-thread-multi-ld
/home/opc/perl5/perlbrew/perls/perl-5.10.0-thread-multi-ld-64all/lib/5.10.0
/home/opc/perl5/perlbrew/perls/perl-5.10.0-thread-multi-ld-64all/lib/site_perl/5.10.0/x86_64-linux-thread-multi-ld
/home/opc/perl5/perlbrew/perls/perl-5.10.0-thread-multi-ld-64all/lib/site_perl/5.10.0
.