Org-Parser v0.557 Perl 5 v5.14.4 x86_64-linux

Status
Pass
From
Slaven Rezić
Dist
Org-Parser v0.557
Platform
Perl 5 v5.14.4 x86_64-linux
Date
2022-04-28 00:45:03
ID
71088808-c68c-11ec-9e05-6f3d1f24ea8f
This distribution has been tested as part of the CPAN Testers
project, supporting the Perl programming language.  See
http://wiki.cpantesters.org/ for more information or email
questions to cpan-testers-discuss@perl.org


--
Dear perlancar,

This is a computer-generated report for Org-Parser-0.557
on perl 5.14.4, created by CPAN-Reporter-1.2018.

Thank you for uploading your work to CPAN.  Congratulations!
All tests were successful.

Sections of this report:

    * Tester comments
    * Program output
    * Prerequisites
    * Environment and other context

------------------------------
TESTER COMMENTS
------------------------------

Additional comments from tester:

none provided

------------------------------
PROGRAM OUTPUT
------------------------------

Output from '/usr/bin/make test':

PERL_DL_NONLAZY=1 "/opt/perl-5.14.4/bin/perl" "-MExtUtils::Command::MM" "-MTest::Harness" "-e" "undef *Test::Harness::Switches; test_harness(0, 'blib/lib', 'blib/arch')" t/*.t
t/00-compile.t ............... ok
t/01-basics.t ................ ok
t/author-critic.t ............ skipped: these tests are for testing by the author
t/author-pod-coverage.t ...... skipped: these tests are for testing by the author
t/author-pod-syntax.t ........ skipped: these tests are for testing by the author
t/base_element-field_name.t .. ok
t/base_element.t ............. ok
t/block.t .................... ok
t/comment.t .................. ok
t/document.t ................. ok
t/drawer.t ................... ok
t/fixed_width_section.t ...... ok
t/footnote.t ................. ok
t/headline-get_property.t .... ok
t/headline.t ................. ok
t/link_and_target.t .......... ok
t/list.t ..................... ok
t/radio_target.t ............. ok
t/regression-rt68443.t ....... ok
t/rt98375.t .................. ok
t/setting-todo.t ............. ok
t/setting.t .................. ok
t/table.t .................... ok
t/text.t ..................... ok
t/timerange.t ................ ok
t/timestamp.t ................ ok
t/unicode.t .................. ok
t/various.t .................. ok
All tests successful.
Files=28, Tests=120, 11 wallclock secs ( 0.21 usr  0.04 sys +  5.75 cusr  0.78 csys =  6.78 CPU)
Result: PASS

------------------------------
PREREQUISITES
------------------------------

Prerequisite modules loaded:

requires:

    Module                      Need   Have    
    --------------------------- ------ --------
    Cwd                         0      3.75    
    DateTime                    0      1.57    
    DateTime::Event::Recurrence 0      0.19    
    Digest::MD5                 0      2.58    
    experimental                0      0.025   
    File::Slurper               0      0.012   
    if                          0      0.0601  
    List::MoreUtils             0      0.430   
    locale                      0      1.00    
    Log::ger                    0.038  0.038   
    Module::List                0      0.004   
    Module::Load                0      0.36    
    Moo                         0      2.005004
    Moo::Role                   0      2.005004
    perl                        5.014  5.014004
    Scalar::Util                0      1.62    
    Storable                    3.08   3.25    
    Time::HiRes                 0      1.9764  
    utf8                        0      1.09    
    warnings                    0      1.12    

build_requires:

    Module                      Need   Have    
    --------------------------- ------ --------
    ExtUtils::MakeMaker         0      7.62    
    File::Spec                  0      3.75    
    File::Temp                  0.2307 0.2311  
    FindBin                     0      1.50    
    IO::Handle                  0      1.48    
    IPC::Open3                  0      1.0901  
    lib                         0      0.63    
    Module::Loaded              0      0.08    
    Org::Dump                   0.551  0.552   
    strict                      0      1.04    
    Test::Exception             0      0.43    
    Test::More                  0.98   1.302190

configure_requires:

    Module                      Need   Have    
    --------------------------- ------ --------
    ExtUtils::MakeMaker         0      7.62    


------------------------------
ENVIRONMENT AND OTHER CONTEXT
------------------------------

Environment variables:

    LANG = en_US.UTF-8
    PATH = /usr/local/bin:/usr/bin:/bin:/usr/local/sbin:/usr/sbin:/sbin:/home/cpansand/bin/linux-gnu:/home/cpansand/bin/sh:/home/cpansand/bin:/usr/games:/home/cpansand/devel:/home/eserte/src/srezic-misc/scripts
    PERL5LIB = /home/cpansand/.local/share/.cpan/build/2022042800/Org-Dump-0.552-ugktfd/blib/arch:/home/cpansand/.local/share/.cpan/build/2022042800/Org-Dump-0.552-ugktfd/blib/lib:/home/cpansand/.local/share/.cpan/build/2022042800/DateTime-Event-Recurrence-0.19-jhbasc/blib/arch:/home/cpansand/.local/share/.cpan/build/2022042800/DateTime-Event-Recurrence-0.19-jhbasc/blib/lib
    PERL5OPT = 
    PERL5_CPANPLUS_IS_RUNNING = 18009
    PERL5_CPAN_IS_RUNNING = 18009
    PERL5_CPAN_IS_RUNNING_IN_RECURSION = 13232,18009
    PERLDOC = -MPod::Perldoc::ToTextOverstrike
    PERL_BATCH = yes
    PERL_CANARY_STABILITY_NOPROMPT = 1
    PERL_CPAN_REPORTER_CONFIG = /var/tmp/cpansmoker-1023/2022042800/cpanreporter_000_config.ini
    PERL_EXTUTILS_AUTOINSTALL = --defaultdeps
    SHELL = /usr/bin/zsh
    TERM = screen
    TMPDIR = /var/tmp/cpansmoker-1023/2022042800

Perl special variables (and OS-specific diagnostics, for MSWin32):

    $^X = /opt/perl-5.14.4/bin/perl
    $UID/$EUID = 1023 / 1023
    $GID = 1023 1023
    $EGID = 1023 1023

Perl module toolchain versions installed:

    Module              Have     
    ------------------- ---------
    CPAN                1.9600_01
    CPAN::Meta          2.150010 
    Cwd                 3.75     
    ExtUtils::CBuilder  0.280236 
    ExtUtils::Command   7.62     
    ExtUtils::Install   2.20     
    ExtUtils::MakeMaker 7.62     
    ExtUtils::Manifest  1.70     
    ExtUtils::ParseXS   3.35     
    File::Spec          3.75     
    JSON                4.05     
    JSON::PP            4.08     
    Module::Build       0.4231   
    Module::Signature   n/a      
    Parse::CPAN::Meta   2.150010 
    Test::Harness       3.42     
    Test::More          1.302190 
    YAML                1.30     
    YAML::Syck          1.34     
    version             0.9929   


--

Summary of my perl5 (revision 5 version 14 subversion 4) configuration:
   
  Platform:
    osname=linux, osvers=4.15.0-154-generic, archname=x86_64-linux
    uname='linux cloud6.bbbike.org 4.15.0-154-generic #161-ubuntu smp fri jul 30 13:04:17 utc 2021 x86_64 x86_64 x86_64 gnulinux '
    config_args='-ds -e -Dprefix=/opt/perl-5.14.4 -Dcf_email=srezic@cpan.org'
    hint=recommended, useposix=true, d_sigaction=define
    useithreads=undef, usemultiplicity=undef
    useperlio=define, d_sfio=undef, uselargefiles=define, usesocks=undef
    use64bitint=define, use64bitall=define, uselongdouble=undef
    usemymalloc=n, bincompat5005=undef
  Compiler:
    cc='cc', ccflags ='-fwrapv -fno-strict-aliasing -pipe -fstack-protector -I/usr/local/include -D_LARGEFILE_SOURCE -D_FILE_OFFSET_BITS=64',
    optimize='-O2',
    cppflags='-fwrapv -fno-strict-aliasing -pipe -fstack-protector -I/usr/local/include'
    ccversion='', gccversion='7.5.0', gccosandvers=''
    intsize=4, longsize=8, ptrsize=8, doublesize=8, byteorder=12345678
    d_longlong=define, longlongsize=8, d_longdbl=define, longdblsize=16
    ivtype='long', ivsize=8, nvtype='double', nvsize=8, Off_t='off_t', lseeksize=8
    alignbytes=8, prototype=define
  Linker and Libraries:
    ld='cc', ldflags =' -fstack-protector -L/usr/local/lib'
    libpth=/usr/local/lib /lib/x86_64-linux-gnu /lib/../lib /usr/lib/x86_64-linux-gnu /usr/lib/../lib /lib /usr/lib
    libs=-lnsl -lgdbm -ldb -ldl -lm -lcrypt -lutil -lc
    perllibs=-lnsl -ldl -lm -lcrypt -lutil -lc
    libc=libc-2.27.so, so=so, useshrplib=false, libperl=libperl.a
    gnulibc_version='2.27'
  Dynamic Linking:
    dlsrc=dl_dlopen.xs, dlext=so, d_dlsymun=undef, ccdlflags='-Wl,-E'
    cccdlflags='-fPIC', lddlflags='-shared -O2 -L/usr/local/lib -fstack-protector'


Characteristics of this binary (from libperl): 
  Compile-time options: PERL_DONT_CREATE_GVSV PERL_MALLOC_WRAP
                        PERL_PRESERVE_IVUV USE_64_BIT_ALL USE_64_BIT_INT
                        USE_LARGE_FILES USE_PERLIO USE_PERL_ATOF
  Locally applied patches:
	Devel::PatchPerl 2.08
  Built under linux
  Compiled at Sep  5 2021 12:34:24
  %ENV:
    PERL5LIB="/home/cpansand/.local/share/.cpan/build/2022042800/Org-Dump-0.552-ugktfd/blib/arch:/home/cpansand/.local/share/.cpan/build/2022042800/Org-Dump-0.552-ugktfd/blib/lib:/home/cpansand/.local/share/.cpan/build/2022042800/DateTime-Event-Recurrence-0.19-jhbasc/blib/arch:/home/cpansand/.local/share/.cpan/build/2022042800/DateTime-Event-Recurrence-0.19-jhbasc/blib/lib"
    PERL5OPT=""
    PERL5_CPANPLUS_IS_RUNNING="18009"
    PERL5_CPAN_IS_RUNNING="18009"
    PERL5_CPAN_IS_RUNNING_IN_RECURSION="13232,18009"
    PERLDOC="-MPod::Perldoc::ToTextOverstrike"
    PERL_BATCH="yes"
    PERL_CANARY_STABILITY_NOPROMPT="1"
    PERL_CPAN_REPORTER_CONFIG="/var/tmp/cpansmoker-1023/2022042800/cpanreporter_000_config.ini"
    PERL_EXTUTILS_AUTOINSTALL="--defaultdeps"
  @INC:
    /home/cpansand/.local/share/.cpan/build/2022042800/Org-Dump-0.552-ugktfd/blib/arch
    /home/cpansand/.local/share/.cpan/build/2022042800/Org-Dump-0.552-ugktfd/blib/lib
    /home/cpansand/.local/share/.cpan/build/2022042800/DateTime-Event-Recurrence-0.19-jhbasc/blib/arch
    /home/cpansand/.local/share/.cpan/build/2022042800/DateTime-Event-Recurrence-0.19-jhbasc/blib/lib
    /opt/perl-5.14.4/lib/site_perl/5.14.4/x86_64-linux
    /opt/perl-5.14.4/lib/site_perl/5.14.4
    /opt/perl-5.14.4/lib/5.14.4/x86_64-linux
    /opt/perl-5.14.4/lib/5.14.4
    .