Encode v3.16 Perl 5 v5.34.1 x86_64-linux-thread-multi
- Status
- Pass
- From
- Nigel Horne
- Dist
-
Encode v3.16
- Platform
- Perl 5 v5.34.1 x86_64-linux-thread-multi
- Date
- 2022-03-22 05:03:40
- ID
- 70ba33da-a99d-11ec-8f2f-98a4f2e56ab3
This distribution has been tested as part of the CPAN Testers
project, supporting the Perl programming language. See
http://wiki.cpantesters.org/ for more information or email
questions to cpan-testers-discuss@perl.org
--
Dear Dan Kogai,
This is a computer-generated report for Encode-3.16
on perl 5.34.1, created by CPAN-Reporter-1.2018.
Thank you for uploading your work to CPAN. Congratulations!
All tests were successful.
Sections of this report:
* Tester comments
* Program output
* Prerequisites
* Environment and other context
------------------------------
TESTER COMMENTS
------------------------------
Additional comments from tester:
none provided
------------------------------
PROGRAM OUTPUT
------------------------------
Output from '/usr/bin/make test':
"/home/opc/perl5/perlbrew/perls/perl-5.34.1-thread/bin/perl5.34.1" -MExtUtils::Command::MM -e 'cp_nonempty' -- Encode.bs blib/arch/auto/Encode/Encode.bs 644
make[1]: Entering directory `/home/opc/.cpan/build/Encode-3.16-0/Byte'
"/home/opc/perl5/perlbrew/perls/perl-5.34.1-thread/bin/perl5.34.1" -MExtUtils::Command::MM -e 'cp_nonempty' -- Byte.bs ../blib/arch/auto/Encode/Byte/Byte.bs 644
make[1]: Leaving directory `/home/opc/.cpan/build/Encode-3.16-0/Byte'
make[1]: Entering directory `/home/opc/.cpan/build/Encode-3.16-0/CN'
"/home/opc/perl5/perlbrew/perls/perl-5.34.1-thread/bin/perl5.34.1" -MExtUtils::Command::MM -e 'cp_nonempty' -- CN.bs ../blib/arch/auto/Encode/CN/CN.bs 644
make[1]: Leaving directory `/home/opc/.cpan/build/Encode-3.16-0/CN'
make[1]: Entering directory `/home/opc/.cpan/build/Encode-3.16-0/EBCDIC'
"/home/opc/perl5/perlbrew/perls/perl-5.34.1-thread/bin/perl5.34.1" -MExtUtils::Command::MM -e 'cp_nonempty' -- EBCDIC.bs ../blib/arch/auto/Encode/EBCDIC/EBCDIC.bs 644
make[1]: Leaving directory `/home/opc/.cpan/build/Encode-3.16-0/EBCDIC'
make[1]: Entering directory `/home/opc/.cpan/build/Encode-3.16-0/JP'
"/home/opc/perl5/perlbrew/perls/perl-5.34.1-thread/bin/perl5.34.1" -MExtUtils::Command::MM -e 'cp_nonempty' -- JP.bs ../blib/arch/auto/Encode/JP/JP.bs 644
make[1]: Leaving directory `/home/opc/.cpan/build/Encode-3.16-0/JP'
make[1]: Entering directory `/home/opc/.cpan/build/Encode-3.16-0/KR'
"/home/opc/perl5/perlbrew/perls/perl-5.34.1-thread/bin/perl5.34.1" -MExtUtils::Command::MM -e 'cp_nonempty' -- KR.bs ../blib/arch/auto/Encode/KR/KR.bs 644
make[1]: Leaving directory `/home/opc/.cpan/build/Encode-3.16-0/KR'
make[1]: Entering directory `/home/opc/.cpan/build/Encode-3.16-0/Symbol'
"/home/opc/perl5/perlbrew/perls/perl-5.34.1-thread/bin/perl5.34.1" -MExtUtils::Command::MM -e 'cp_nonempty' -- Symbol.bs ../blib/arch/auto/Encode/Symbol/Symbol.bs 644
make[1]: Leaving directory `/home/opc/.cpan/build/Encode-3.16-0/Symbol'
make[1]: Entering directory `/home/opc/.cpan/build/Encode-3.16-0/TW'
"/home/opc/perl5/perlbrew/perls/perl-5.34.1-thread/bin/perl5.34.1" -MExtUtils::Command::MM -e 'cp_nonempty' -- TW.bs ../blib/arch/auto/Encode/TW/TW.bs 644
make[1]: Leaving directory `/home/opc/.cpan/build/Encode-3.16-0/TW'
make[1]: Entering directory `/home/opc/.cpan/build/Encode-3.16-0/Unicode'
"/home/opc/perl5/perlbrew/perls/perl-5.34.1-thread/bin/perl5.34.1" -MExtUtils::Command::MM -e 'cp_nonempty' -- Unicode.bs ../blib/arch/auto/Encode/Unicode/Unicode.bs 644
make[1]: Leaving directory `/home/opc/.cpan/build/Encode-3.16-0/Unicode'
make[1]: Entering directory `/home/opc/.cpan/build/Encode-3.16-0/Byte'
"/home/opc/perl5/perlbrew/perls/perl-5.34.1-thread/bin/perl5.34.1" -MExtUtils::Command::MM -e 'cp_nonempty' -- Byte.bs ../blib/arch/auto/Encode/Byte/Byte.bs 644
No tests defined for Encode::Byte extension.
make[1]: Leaving directory `/home/opc/.cpan/build/Encode-3.16-0/Byte'
make[1]: Entering directory `/home/opc/.cpan/build/Encode-3.16-0/CN'
"/home/opc/perl5/perlbrew/perls/perl-5.34.1-thread/bin/perl5.34.1" -MExtUtils::Command::MM -e 'cp_nonempty' -- CN.bs ../blib/arch/auto/Encode/CN/CN.bs 644
No tests defined for Encode::CN extension.
make[1]: Leaving directory `/home/opc/.cpan/build/Encode-3.16-0/CN'
make[1]: Entering directory `/home/opc/.cpan/build/Encode-3.16-0/EBCDIC'
"/home/opc/perl5/perlbrew/perls/perl-5.34.1-thread/bin/perl5.34.1" -MExtUtils::Command::MM -e 'cp_nonempty' -- EBCDIC.bs ../blib/arch/auto/Encode/EBCDIC/EBCDIC.bs 644
No tests defined for Encode::EBCDIC extension.
make[1]: Leaving directory `/home/opc/.cpan/build/Encode-3.16-0/EBCDIC'
make[1]: Entering directory `/home/opc/.cpan/build/Encode-3.16-0/JP'
"/home/opc/perl5/perlbrew/perls/perl-5.34.1-thread/bin/perl5.34.1" -MExtUtils::Command::MM -e 'cp_nonempty' -- JP.bs ../blib/arch/auto/Encode/JP/JP.bs 644
No tests defined for Encode::JP extension.
make[1]: Leaving directory `/home/opc/.cpan/build/Encode-3.16-0/JP'
make[1]: Entering directory `/home/opc/.cpan/build/Encode-3.16-0/KR'
"/home/opc/perl5/perlbrew/perls/perl-5.34.1-thread/bin/perl5.34.1" -MExtUtils::Command::MM -e 'cp_nonempty' -- KR.bs ../blib/arch/auto/Encode/KR/KR.bs 644
No tests defined for Encode::KR extension.
make[1]: Leaving directory `/home/opc/.cpan/build/Encode-3.16-0/KR'
make[1]: Entering directory `/home/opc/.cpan/build/Encode-3.16-0/Symbol'
"/home/opc/perl5/perlbrew/perls/perl-5.34.1-thread/bin/perl5.34.1" -MExtUtils::Command::MM -e 'cp_nonempty' -- Symbol.bs ../blib/arch/auto/Encode/Symbol/Symbol.bs 644
No tests defined for Encode::Symbol extension.
make[1]: Leaving directory `/home/opc/.cpan/build/Encode-3.16-0/Symbol'
make[1]: Entering directory `/home/opc/.cpan/build/Encode-3.16-0/TW'
"/home/opc/perl5/perlbrew/perls/perl-5.34.1-thread/bin/perl5.34.1" -MExtUtils::Command::MM -e 'cp_nonempty' -- TW.bs ../blib/arch/auto/Encode/TW/TW.bs 644
No tests defined for Encode::TW extension.
make[1]: Leaving directory `/home/opc/.cpan/build/Encode-3.16-0/TW'
make[1]: Entering directory `/home/opc/.cpan/build/Encode-3.16-0/Unicode'
"/home/opc/perl5/perlbrew/perls/perl-5.34.1-thread/bin/perl5.34.1" -MExtUtils::Command::MM -e 'cp_nonempty' -- Unicode.bs ../blib/arch/auto/Encode/Unicode/Unicode.bs 644
No tests defined for Encode::Unicode extension.
make[1]: Leaving directory `/home/opc/.cpan/build/Encode-3.16-0/Unicode'
PERL_DL_NONLAZY=1 "/home/opc/perl5/perlbrew/perls/perl-5.34.1-thread/bin/perl5.34.1" "-MExtUtils::Command::MM" "-MTest::Harness" "-e" "undef *Test::Harness::Switches; test_harness(0, 'blib/lib', 'blib/arch')" t/*.t
t/Aliases.t ................ ok
t/at-cn.t .................. ok
t/at-tw.t .................. ok
t/CJKT.t ................... ok
t/cow.t .................... ok
t/decode.t ................. ok
t/enc_data.t ............... skipped: encoding pragma not supported in Perl 5.26
t/enc_eucjp.t .............. skipped: Perl <=5.25.2 or cperl required
t/enc_module.t ............. skipped: encoding pragma not supported in Perl 5.26
t/enc_utf8.t ............... skipped: Perl <=5.25.2 or cperl required
t/Encode.t ................. ok
t/Encoder.t ................ ok
t/encoding-locale.t ........ ok
t/encoding.t ............... skipped: encoding pragma not supported in Perl 5.26
t/fallback.t ............... ok
t/from_to.t ................ ok
t/grow.t ................... ok
t/gsm0338.t ................ ok
t/guess.t .................. ok
t/isa.t .................... ok
t/jis7-fallback.t .......... ok
t/jperl.t .................. skipped: encoding pragma not supported in Perl 5.26
t/magic.t .................. ok
t/mime-header.t ............ ok
t/mime-name.t .............. ok
t/mime_header_iso2022jp.t .. ok
t/perlio.t ................. ok
t/piconv.t ................. ok
t/rt113164.t ............... ok
t/rt65541.t ................ ok
t/rt76824.t ................ ok
t/rt85489.t ................ ok
t/rt86327.t ................ ok
t/taint.t .................. ok
t/truncated_utf8.t ......... ok
t/undef.t .................. ok
t/Unicode.t ................ ok
# temp file: /tmp/qpt75q8apO
t/Unicode_trailing_nul.t ... ok
t/use-Encode-Alias.t ....... ok
t/utf8ref.t ................ ok
t/utf8strict.t ............. ok
t/utf8warnings.t ........... ok
t/whatwg-aliases.t ......... skipped: For maintainers only
t/xml.t .................... ok
All tests successful.
Files=44, Tests=7711, 22 wallclock secs ( 0.65 usr 0.24 sys + 7.40 cusr 0.74 csys = 9.03 CPU)
Result: PASS
------------------------------
PREREQUISITES
------------------------------
Prerequisite modules loaded:
requires:
Module Need Have
------------------- ----- --------
Exporter 5.57 5.76
parent 0.221 0.238
Storable 0 3.23
build_requires:
Module Need Have
------------------- ----- --------
ExtUtils::MakeMaker 0 7.62
Test::More 0.92 1.302190
configure_requires:
Module Need Have
------------------- ----- --------
ExtUtils::MakeMaker 0 7.62
------------------------------
ENVIRONMENT AND OTHER CONTEXT
------------------------------
Environment variables:
LANG = en_US.UTF-8
PATH = /home/opc/perl5/perlbrew/bin:/home/opc/perl5/perlbrew/perls/perl-5.34.1-thread/bin:/home/opc/perl5/perlbrew/bin:/usr/bin:/bin
PERL5LIB =
PERL5OPT =
PERL5_CPANPLUS_IS_RUNNING = 17947
PERL5_CPAN_IS_RUNNING = 17947
PERLBREW_HOME = /home/opc/.perlbrew
PERLBREW_LIB =
PERLBREW_MANPATH = /home/opc/perl5/perlbrew/perls/perl-5.34.1-thread/man
PERLBREW_PATH = /home/opc/perl5/perlbrew/bin:/home/opc/perl5/perlbrew/perls/perl-5.34.1-thread/bin
PERLBREW_PERL = perl-5.34.1-thread
PERLBREW_ROOT = /home/opc/perl5/perlbrew
PERLBREW_SHELLRC_VERSION = 0.92
PERLBREW_VERSION = 0.92
PERL_LOCAL_LIB_ROOT =
PERL_USE_UNSAFE_INC = 1
SHELL = /bin/sh
TMPDIR = /tmp
Perl special variables (and OS-specific diagnostics, for MSWin32):
$^X = /home/opc/perl5/perlbrew/perls/perl-5.34.1-thread/bin/perl5.34.1
$UID/$EUID = 1000 / 1000
$GID = 1000 4 10 190 1000
$EGID = 1000 4 10 190 1000
Perl module toolchain versions installed:
Module Have
------------------- --------
CPAN 2.29
CPAN::Meta 2.150010
Cwd 3.80
ExtUtils::CBuilder 0.280236
ExtUtils::Command 7.62
ExtUtils::Install 2.20
ExtUtils::MakeMaker 7.62
ExtUtils::Manifest 1.73
ExtUtils::ParseXS 3.43
File::Spec 3.80
JSON 4.05
JSON::PP 4.07
Module::Build 0.4231
Module::Signature n/a
Parse::CPAN::Meta 2.150010
Test::Harness 3.43
Test::More 1.302190
YAML 1.30
YAML::Syck n/a
version 0.9928
--
Summary of my perl5 (revision 5 version 34 subversion 1) configuration:
Platform:
osname=linux
osvers=5.4.17-2136.304.4.2.el7uek.x86_64
archname=x86_64-linux-thread-multi
uname='linux oracle2.bandsman.co.uk 5.4.17-2136.304.4.2.el7uek.x86_64 #2 smp fri feb 25 17:37:41 pst 2022 x86_64 x86_64 x86_64 gnulinux '
config_args='-de -Dprefix=/home/opc/perl5/perlbrew/perls/perl-5.34.1-thread -Dusedevel -Dusethreads -Accflags= -Aeval:scriptdir=/home/opc/perl5/perlbrew/perls/perl-5.34.1-thread/bin'
hint=recommended
useposix=true
d_sigaction=define
useithreads=define
usemultiplicity=define
use64bitint=define
use64bitall=define
uselongdouble=undef
usemymalloc=n
default_inc_excludes_dot=define
Compiler:
cc='cc'
ccflags ='-D_REENTRANT -D_GNU_SOURCE -fwrapv -fno-strict-aliasing -pipe -fstack-protector-strong -I/usr/local/include -D_LARGEFILE_SOURCE -D_FILE_OFFSET_BITS=64 -D_FORTIFY_SOURCE=2'
optimize='-O2'
cppflags='-D_REENTRANT -D_GNU_SOURCE -fwrapv -fno-strict-aliasing -pipe -fstack-protector-strong -I/usr/local/include'
ccversion=''
gccversion='4.8.5 20150623 (Red Hat 4.8.5-44.0.3)'
gccosandvers=''
intsize=4
longsize=8
ptrsize=8
doublesize=8
byteorder=12345678
doublekind=3
d_longlong=define
longlongsize=8
d_longdbl=define
longdblsize=16
longdblkind=3
ivtype='long'
ivsize=8
nvtype='double'
nvsize=8
Off_t='off_t'
lseeksize=8
alignbytes=8
prototype=define
Linker and Libraries:
ld='cc'
ldflags =' -fstack-protector-strong -L/usr/local/lib'
libpth=/usr/local/lib /usr/lib /usr/lib64 /usr/local/lib64
libs=-lpthread -lnsl -lgdbm -ldb -ldl -lm -lcrypt -lutil -lc -lgdbm_compat
perllibs=-lpthread -lnsl -ldl -lm -lcrypt -lutil -lc
libc=libc-2.17.so
so=so
useshrplib=false
libperl=libperl.a
gnulibc_version='2.17'
Dynamic Linking:
dlsrc=dl_dlopen.xs
dlext=so
d_dlsymun=undef
ccdlflags='-Wl,-E'
cccdlflags='-fPIC'
lddlflags='-shared -O2 -L/usr/local/lib -fstack-protector-strong'
Characteristics of this binary (from libperl):
Compile-time options:
HAS_TIMES
MULTIPLICITY
PERLIO_LAYERS
PERL_COPY_ON_WRITE
PERL_DONT_CREATE_GVSV
PERL_IMPLICIT_CONTEXT
PERL_MALLOC_WRAP
PERL_OP_PARENT
PERL_PRESERVE_IVUV
PERL_USE_DEVEL
USE_64_BIT_ALL
USE_64_BIT_INT
USE_ITHREADS
USE_LARGE_FILES
USE_LOCALE
USE_LOCALE_COLLATE
USE_LOCALE_CTYPE
USE_LOCALE_NUMERIC
USE_LOCALE_TIME
USE_PERLIO
USE_PERL_ATOF
USE_REENTRANT_API
USE_THREAD_SAFE_LOCALE
Built under linux
Compiled at Mar 14 2022 00:48:22
%ENV:
PERL5LIB=""
PERL5OPT=""
PERL5_CPANPLUS_IS_RUNNING="17947"
PERL5_CPAN_IS_RUNNING="17947"
PERLBREW_HOME="/home/opc/.perlbrew"
PERLBREW_LIB=""
PERLBREW_MANPATH="/home/opc/perl5/perlbrew/perls/perl-5.34.1-thread/man"
PERLBREW_PATH="/home/opc/perl5/perlbrew/bin:/home/opc/perl5/perlbrew/perls/perl-5.34.1-thread/bin"
PERLBREW_PERL="perl-5.34.1-thread"
PERLBREW_ROOT="/home/opc/perl5/perlbrew"
PERLBREW_SHELLRC_VERSION="0.92"
PERLBREW_VERSION="0.92"
PERL_LOCAL_LIB_ROOT=""
PERL_USE_UNSAFE_INC="1"
@INC:
/home/opc/perl5/perlbrew/perls/perl-5.34.1-thread/lib/site_perl/5.34.1/x86_64-linux-thread-multi
/home/opc/perl5/perlbrew/perls/perl-5.34.1-thread/lib/site_perl/5.34.1
/home/opc/perl5/perlbrew/perls/perl-5.34.1-thread/lib/5.34.1/x86_64-linux-thread-multi
/home/opc/perl5/perlbrew/perls/perl-5.34.1-thread/lib/5.34.1
.