PPI v1.278 Perl 5 v5.32.1 darwin-thread-multi-2level
- Status
- Pass
- From
- aero
- Dist
-
PPI v1.278
- Platform
- Perl 5 v5.32.1 darwin-thread-multi-2level
- Date
- 2024-03-11 23:45:26
- ID
- 6fa36538-e001-11ee-8575-3258ba8b533f
This distribution has been tested as part of the CPAN Testers
project, supporting the Perl programming language. See
http://wiki.cpantesters.org/ for more information or email
questions to cpan-testers-discuss@perl.org
--
Dear Olaf Alders,
This is a computer-generated report for PPI-1.278
on perl 5.32.1, created by CPAN-Reporter-1.2019.
Thank you for uploading your work to CPAN. Congratulations!
All tests were successful.
Sections of this report:
* Tester comments
* Program output
* Prerequisites
* Environment and other context
------------------------------
TESTER COMMENTS
------------------------------
Additional comments from tester:
none provided
------------------------------
PROGRAM OUTPUT
------------------------------
Output from '/usr/bin/make test':
PERL_DL_NONLAZY=1 "/Users/chadwick/CASE_SENSITIVE_APFS/perl5/perlbrew/perls/perl-5.32/bin/perl" "-MExtUtils::Command::MM" "-MTest::Harness" "-e" "undef *Test::Harness::Switches; test_harness(0, 'blib/lib', 'blib/arch')" t/*.t
#
# Versions for all modules listed in MYMETA.json (including optional ones):
#
# === Configure Requires ===
#
# Module Want Have
# ------------------- ---- ----
# ExtUtils::MakeMaker any 7.70
#
# === Build Requires ===
#
# Module Want Have
# ------------------- ---- ----
# ExtUtils::MakeMaker any 7.70
#
# === Test Requires ===
#
# Module Want Have
# --------------------- ---- --------
# B any 1.80
# Class::Inspector 1.22 1.36
# Encode any 3.21
# ExtUtils::MakeMaker any 7.70
# File::Copy any 2.34
# File::Spec any 3.78
# File::Spec::Functions any 3.78
# File::Temp any 0.2311
# Test::More 0.96 1.302198
# Test::NoWarnings any 1.06
# Test::Object 0.07 0.08
# Test::SubCalls 1.07 1.10
# lib any 0.65
# parent any 0.241
# utf8 any 1.22
# warnings any 1.47
#
# === Test Recommends ===
#
# Module Want Have
# ---------- -------- --------
# CPAN::Meta 2.120900 2.150010
#
# === Runtime Requires ===
#
# Module Want Have
# ------------ ----- --------
# Carp any 1.50
# Clone 0.30 0.46
# Digest::MD5 2.35 2.59
# Exporter any 5.78
# File::Path any 2.18
# File::Spec 0.84 3.78
# List::Util 1.33 1.63
# Params::Util 1.00 1.102
# Scalar::Util any 1.63
# Storable 2.17 3.25
# Task::Weaken any 1.06
# constant any 1.33
# if any 0.0608
# overload any 1.31
# perl 5.006 5.032001
# strict any 1.11
#
t/00-report-prereqs.t ............ ok
t/01_compile.t ................... ok
t/03_document.t .................. ok
t/04_element.t ................... ok
t/05_lexer.t ..................... ok
t/06_round_trip.t ................ ok
t/07_token.t ..................... ok
t/08_regression.t ................ ok
t/09_normal.t .................... ok
t/10_statement.t ................. ok
t/11_util.t ...................... ok
t/12_location.t .................. ok
t/13_data.t ...................... ok
t/14_charsets.t .................. ok
t/15_transform.t ................. ok
t/16_xml.t ....................... ok
t/17_storable.t .................. ok
t/18_cache.t ..................... ok
t/19_selftesting.t ............... ok
t/21_exhaustive.t ................ ok
t/22_readonly.t .................. ok
t/23_file.t ...................... ok
t/24_v6.t ........................ ok
t/25_increment.t ................. ok
t/26_bom.t ....................... ok
t/27_complete.t .................. ok
t/28_foreach_qw.t ................ ok
t/29_logical_filename.t .......... ok
t/interactive.t .................. ok
t/marpa.t ........................ ok
t/ppi_element.t .................. ok
t/ppi_element_replace.t .......... ok
t/ppi_lexer.t .................... ok
t/ppi_node.t ..................... ok
t/ppi_normal.t ................... ok
t/ppi_statement.t ................ ok
t/ppi_statement_compound.t ....... ok
t/ppi_statement_include.t ........ ok
t/ppi_statement_package.t ........ ok
t/ppi_statement_scheduled.t ...... ok
t/ppi_statement_sub.t ............ ok
t/ppi_statement_variable.t ....... ok
t/ppi_token.t .................... ok
t/ppi_token__quoteengine_full.t .. ok
t/ppi_token_attribute.t .......... ok
t/ppi_token_dashedword.t ......... ok
t/ppi_token_heredoc.t ............ ok
t/ppi_token_magic.t .............. ok
t/ppi_token_number_version.t ..... ok
t/ppi_token_operator.t ........... ok
t/ppi_token_pod.t ................ ok
t/ppi_token_prototype.t .......... ok
t/ppi_token_quote.t .............. ok
t/ppi_token_quote_double.t ....... ok
t/ppi_token_quote_interpolate.t .. ok
t/ppi_token_quote_literal.t ...... ok
t/ppi_token_quote_single.t ....... ok
t/ppi_token_quotelike_regexp.t ... ok
t/ppi_token_quotelike_words.t .... ok
t/ppi_token_regexp.t ............. ok
t/ppi_token_structure.t .......... ok
t/ppi_token_symbol.t ............. ok
t/ppi_token_unknown.t ............ ok
t/ppi_token_whitespace.t ......... ok
t/ppi_token_word.t ............... ok
t/signatures.t ................... ok
All tests successful.
Files=66, Tests=52775, 14 wallclock secs ( 1.62 usr 0.26 sys + 11.51 cusr 0.77 csys = 14.16 CPU)
Result: PASS
------------------------------
PREREQUISITES
------------------------------
Prerequisite modules loaded:
requires:
Module Need Have
--------------------- ----- --------
Carp 0 1.50
Clone 0.30 0.46
constant 0 1.33
Digest::MD5 2.35 2.59
Exporter 0 5.78
File::Path 0 2.18
File::Spec 0.84 3.78
if 0 0.0608
List::Util 1.33 1.63
overload 0 1.31
Params::Util 1.00 1.102
perl 5.006 5.032001
Scalar::Util 0 1.63
Storable 2.17 3.25
strict 0 1.11
Task::Weaken 0 1.06
build_requires:
Module Need Have
--------------------- ----- --------
B 0 1.80
Class::Inspector 1.22 1.36
Encode 0 3.21
ExtUtils::MakeMaker 0 7.70
File::Copy 0 2.34
File::Spec 0 3.78
File::Spec::Functions 0 3.78
File::Temp 0 0.2311
lib 0 0.65
parent 0 0.241
Test::More 0.96 1.302198
Test::NoWarnings 0 1.06
Test::Object 0.07 0.08
Test::SubCalls 1.07 1.10
utf8 0 1.22
warnings 0 1.47
configure_requires:
Module Need Have
--------------------- ----- --------
ExtUtils::MakeMaker 0 7.70
------------------------------
ENVIRONMENT AND OTHER CONTEXT
------------------------------
Environment variables:
LANG = ko_KR.UTF-8
LC_TERMINAL = iTerm2
LC_TERMINAL_VERSION = 3.4.23
NONINTERACTIVE_TESTING = 1
PATH = /Users/chadwick/.anyenv/envs/pyenv/shims:/Users/chadwick/.anyenv/envs/pyenv/bin:/Users/chadwick/.anyenv/envs/nodenv/shims:/Users/chadwick/.anyenv/envs/nodenv/bin:/Users/chadwick/.anyenv/envs/jenv/shims:/Users/chadwick/.anyenv/envs/jenv/bin:/Users/chadwick/.anyenv/envs/goenv/bin:/Users/chadwick/.anyenv/bin:/Users/chadwick/CASE_SENSITIVE_APFS/.rakubrew/versions/moar-2023.09/install/bin:/Users/chadwick/CASE_SENSITIVE_APFS/.rakubrew/versions/moar-2023.09/install/share/perl6/site/bin:/Users/chadwick/perl5/perlbrew/bin:/Users/chadwick/perl5/perlbrew/perls/perl-5.32/bin:/Users/chadwick/bin:/opt/homebrew/bin:/opt/homebrew/sbin:/usr/local/bin:/System/Cryptexes/App/usr/bin:/usr/bin:/bin:/usr/sbin:/sbin:/var/run/com.apple.security.cryptexd/codex.system/bootstrap/usr/local/bin:/var/run/com.apple.security.cryptexd/codex.system/bootstrap/usr/bin:/var/run/com.apple.security.cryptexd/codex.system/bootstrap/usr/appleinternal/bin:/opt/X11/bin:/Library/Apple/usr/bin:/Users/chadwick/.anyenv/envs/goenv/shims
PERL5LIB =
PERL5OPT =
PERL5_CPANPLUS_IS_RUNNING = 3738
PERL5_CPAN_IS_RUNNING = 3738
PERLBREW_HOME = /Users/chadwick/.perlbrew
PERLBREW_MANPATH = /Users/chadwick/perl5/perlbrew/perls/perl-5.32/man
PERLBREW_PATH = /Users/chadwick/perl5/perlbrew/bin:/Users/chadwick/perl5/perlbrew/perls/perl-5.32/bin
PERLBREW_PERL = perl-5.32
PERLBREW_ROOT = /Users/chadwick/perl5/perlbrew
PERLBREW_SHELLRC_VERSION = 0.98
PERLBREW_VERSION = 0.98
PERL_MM_USE_DEFAULT = 1
PERL_USE_UNSAFE_INC = 1
SHELL = /opt/homebrew/bin/bash
TERM = xterm-256color
TMPDIR = /var/folders/67/gvpdjjy932sgfc3cm678s56h0000gn/T/
Perl special variables (and OS-specific diagnostics, for MSWin32):
$^X = /Users/chadwick/CASE_SENSITIVE_APFS/perl5/perlbrew/perls/perl-5.32/bin/perl
$UID/$EUID = 501 / 501
$GID = 20 20 12 61 79 80 81 98 399 701 33 100 204 250 395 398 400
$EGID = 20 20 12 61 79 80 81 98 399 701 33 100 204 250 395 398 400
Perl module toolchain versions installed:
Module Have
------------------- --------
CPAN 2.36
CPAN::Meta 2.150010
Cwd 3.78
ExtUtils::CBuilder 0.280236
ExtUtils::Command 7.70
ExtUtils::Install 2.22
ExtUtils::MakeMaker 7.70
ExtUtils::Manifest 1.75
ExtUtils::ParseXS 3.51
File::Spec 3.78
JSON 4.10
JSON::PP 4.16
Module::Build 0.4234
Module::Signature n/a
Parse::CPAN::Meta 2.150010
Test2 1.302198
Test::Harness 3.48
Test::More 1.302198
YAML 1.31
YAML::Syck 1.34
version 0.9930
--
Summary of my perl5 (revision 5 version 32 subversion 1) configuration:
Platform:
osname=darwin
osvers=21.6.0
archname=darwin-thread-multi-2level
uname='darwin chadwick-m1 21.6.0 darwin kernel version 21.6.0: sat jun 18 17:07:22 pdt 2022; root:xnu-8020.140.41~1release_arm64_t6000 arm64 '
config_args='-de -Dprefix=/Users/chadwick/perl5/perlbrew/perls/perl-5.32 -Dman1dir=none -Dman3dir=none -Dusethreads -Aeval:scriptdir=/Users/chadwick/perl5/perlbrew/perls/perl-5.32/bin'
hint=recommended
useposix=true
d_sigaction=define
useithreads=define
usemultiplicity=define
use64bitint=define
use64bitall=define
uselongdouble=undef
usemymalloc=n
default_inc_excludes_dot=define
bincompat5005=undef
Compiler:
cc='cc'
ccflags ='-fno-common -DPERL_DARWIN -mmacosx-version-min=12.5 -fno-strict-aliasing -pipe -fstack-protector-strong -DPERL_USE_SAFE_PUTENV'
optimize='-O3'
cppflags='-fno-common -DPERL_DARWIN -mmacosx-version-min=12.5 -fno-strict-aliasing -pipe -fstack-protector-strong'
ccversion=''
gccversion='Apple LLVM 13.1.6 (clang-1316.0.21.2.5)'
gccosandvers=''
intsize=4
longsize=8
ptrsize=8
doublesize=8
byteorder=12345678
doublekind=3
d_longlong=define
longlongsize=8
d_longdbl=define
longdblsize=8
longdblkind=0
ivtype='long'
ivsize=8
nvtype='double'
nvsize=8
Off_t='off_t'
lseeksize=8
alignbytes=8
prototype=define
Linker and Libraries:
ld='cc'
ldflags =' -mmacosx-version-min=12.5 -fstack-protector-strong -L/usr/local/lib'
libpth=/Library/Developer/CommandLineTools/usr/lib/clang/13.1.6/lib /Library/Developer/CommandLineTools/SDKs/MacOSX.sdk/usr/lib /Library/Developer/CommandLineTools/usr/lib /usr/local/lib /usr/lib
libs=
perllibs=
libc=
so=dylib
useshrplib=false
libperl=libperl.a
gnulibc_version=''
Dynamic Linking:
dlsrc=dl_dlopen.xs
dlext=bundle
d_dlsymun=undef
ccdlflags=' '
cccdlflags=' '
lddlflags=' -mmacosx-version-min=12.5 -bundle -undefined dynamic_lookup -L/usr/local/lib -fstack-protector-strong'
Characteristics of this binary (from libperl):
Compile-time options:
HAS_TIMES
MULTIPLICITY
PERLIO_LAYERS
PERL_COPY_ON_WRITE
PERL_DONT_CREATE_GVSV
PERL_IMPLICIT_CONTEXT
PERL_MALLOC_WRAP
PERL_OP_PARENT
PERL_PRESERVE_IVUV
PERL_USE_SAFE_PUTENV
USE_64_BIT_ALL
USE_64_BIT_INT
USE_ITHREADS
USE_LARGE_FILES
USE_LOCALE
USE_LOCALE_COLLATE
USE_LOCALE_CTYPE
USE_LOCALE_NUMERIC
USE_LOCALE_TIME
USE_PERLIO
USE_PERL_ATOF
USE_REENTRANT_API
USE_THREAD_SAFE_LOCALE
Locally applied patches:
Devel::PatchPerl 2.08
Built under darwin
Compiled at Aug 13 2022 03:16:24
%ENV:
PERL5LIB=""
PERL5OPT=""
PERL5_CPANPLUS_IS_RUNNING="3738"
PERL5_CPAN_IS_RUNNING="3738"
PERLBREW_HOME="/Users/chadwick/.perlbrew"
PERLBREW_MANPATH="/Users/chadwick/perl5/perlbrew/perls/perl-5.32/man"
PERLBREW_PATH="/Users/chadwick/perl5/perlbrew/bin:/Users/chadwick/perl5/perlbrew/perls/perl-5.32/bin"
PERLBREW_PERL="perl-5.32"
PERLBREW_ROOT="/Users/chadwick/perl5/perlbrew"
PERLBREW_SHELLRC_VERSION="0.98"
PERLBREW_VERSION="0.98"
PERL_MM_USE_DEFAULT="1"
PERL_USE_UNSAFE_INC="1"
@INC:
/Users/chadwick/perl5/perlbrew/perls/perl-5.32/lib/site_perl/5.32.1/darwin-thread-multi-2level
/Users/chadwick/perl5/perlbrew/perls/perl-5.32/lib/site_perl/5.32.1
/Users/chadwick/perl5/perlbrew/perls/perl-5.32/lib/5.32.1/darwin-thread-multi-2level
/Users/chadwick/perl5/perlbrew/perls/perl-5.32/lib/5.32.1
.