DBIx-Class-MoreHelpers v1.0001 Perl 5 v5.22.4 x86_64-linux

Status
Pass
From
David Cantrell (DCANTRELL)
Dist
DBIx-Class-MoreHelpers v1.0001
Platform
Perl 5 v5.22.4 x86_64-linux
Date
2023-07-11 03:31:32
ID
6e24c16a-1f9b-11ee-8b9d-dfc7d014c7e6
This distribution has been tested as part of the CPAN Testers
project, supporting the Perl programming language.  See
http://wiki.cpantesters.org/ for more information or email
questions to cpan-testers-discuss@perl.org


--
Dear D Ruth Holloway,

This is a computer-generated report for DBIx-Class-MoreHelpers-1.0001
on perl 5.22.4, created by CPAN-Reporter-1.2019.

Thank you for uploading your work to CPAN.  Congratulations!
All tests were successful.

Sections of this report:

    * Tester comments
    * Program output
    * Prerequisites
    * Environment and other context

------------------------------
TESTER COMMENTS
------------------------------

Additional comments from tester:

this report is from an automated smoke testing program
and was not reviewed by a human for accuracy

------------------------------
PROGRAM OUTPUT
------------------------------

Output from '/usr/bin/make test':

PERL_DL_NONLAZY=1 "/home/david/cpantesting/perl-5.22.4/bin/perl" "-MExtUtils::Command::MM" "-MTest::Harness" "-e" "undef *Test::Harness::Switches; test_harness(0, 'blib/lib', 'blib/arch')" t/*.t
t/00-compile.t ......... ok
# 
# Versions for all modules listed in MYMETA.json (including optional ones):
# 
# === Configure Requires ===
# 
#     Module               Want     Have
#     ------------------- ----- --------
#     ExtUtils::MakeMaker   any     7.70
#     perl                5.006 5.022004
# 
# === Build Requires ===
# 
#     Module              Want Have
#     ------------------- ---- ----
#     ExtUtils::MakeMaker  any 7.70
# 
# === Test Requires ===
# 
#     Module                      Want       Have
#     -------------------------- ----- ----------
#     DBIx::Class::Core            any      undef
#     DBIx::Class::ResultSet       any      undef
#     DBIx::Class::Schema          any      undef
#     ExtUtils::MakeMaker          any       7.70
#     File::Spec                   any       3.75
#     FindBin                      any       1.53
#     IO::Handle                   any       1.51
#     IPC::Open3                   any       1.18
#     Modern::Perl                 any 1.20230106
#     Test2::Plugin::ExitSummary   any   0.000155
#     Test2::Plugin::NoWarnings    any       0.09
#     Test2::Plugin::Times         any   0.000155
#     Test2::V0                    any   0.000155
#     Test::DBIx::Class            any       0.52
#     Test::More                   any   1.302195
#     base                         any       2.23
#     lib                          any       0.63
#     perl                       5.006   5.022004
# 
# === Test Recommends ===
# 
#     Module         Want     Have
#     ---------- -------- --------
#     CPAN::Meta 2.120900 2.150010
# 
# === Runtime Requires ===
# 
#     Module                                                  Want     Have
#     ------------------------------------------------------ ----- --------
#     DBIx::Class::Helper::ResultSet::SetOperations            any 2.036000
#     DBIx::Class::Helper::ResultSet::Shortcut::Search::Base   any 2.036000
#     parent                                                   any    0.241
#     perl                                                   5.006 5.022004
#     strict                                                   any     1.09
#     warnings                                                 any     1.34
# 
t/00-report-prereqs.t .. ok
t/001_blank.t .......... ok
t/002_is.t ............. ok
t/003_numerics.t ....... ok
All tests successful.
Files=5, Tests=42, 17 wallclock secs ( 0.06 usr  0.01 sys +  4.02 cusr  0.48 csys =  4.57 CPU)
Result: PASS

------------------------------
PREREQUISITES
------------------------------

Prerequisite modules loaded:

requires:

    Module                                                 Need  Have      
    ------------------------------------------------------ ----- ----------
    DBIx::Class::Helper::ResultSet::SetOperations          0     2.036000  
    DBIx::Class::Helper::ResultSet::Shortcut::Search::Base 0     2.036000  
    parent                                                 0     0.241     
    perl                                                   5.006 5.022004  
    strict                                                 0     1.09      
    warnings                                               0     1.34      

build_requires:

    Module                                                 Need  Have      
    ------------------------------------------------------ ----- ----------
    base                                                   0     2.23      
    DBIx::Class::Core                                      0     0         
    DBIx::Class::ResultSet                                 0     0         
    DBIx::Class::Schema                                    0     0         
    ExtUtils::MakeMaker                                    0     7.70      
    File::Spec                                             0     3.75      
    FindBin                                                0     1.53      
    IO::Handle                                             0     1.51      
    IPC::Open3                                             0     1.18      
    lib                                                    0     0.63      
    Modern::Perl                                           0     1.20230106
    Test2::Plugin::ExitSummary                             0     0.000155  
    Test2::Plugin::NoWarnings                              0     0.09      
    Test2::Plugin::Times                                   0     0.000155  
    Test2::V0                                              0     0.000155  
    Test::DBIx::Class                                      0     0.52      
    Test::More                                             0     1.302195  

configure_requires:

    Module                                                 Need  Have      
    ------------------------------------------------------ ----- ----------
    ExtUtils::MakeMaker                                    0     7.70      
    perl                                                   5.006 5.022004  


------------------------------
ENVIRONMENT AND OTHER CONTEXT
------------------------------

Environment variables:

    AUTOMATED_TESTING = 1
    LANG = en_GB.UTF-8
    LANGUAGE = en_GB:en
    LC_TERMINAL = iTerm2
    LC_TERMINAL_VERSION = 3.4.19
    NONINTERACTIVE_TESTING = 1
    PATH = /home/david/.nvm/versions/node/v18.16.1/bin:/home/david/.cargo/bin:/home/david/perl5/perlbrew/bin:/home/david/perl5/perlbrew/perls/perl-5.30.2/bin:/home/david/bin:/usr/local/bin:/usr/bin:/bin:/usr/local/games:/usr/games
    PERL = 5.22.4
    PERL5LIB = 
    PERL5OPT = 
    PERL5_CPANPLUS_IS_RUNNING = 2419977
    PERL5_CPAN_IS_RUNNING = 2419977
    PERLBREW_HOME = /home/david/.perlbrew
    PERLBREW_MANPATH = /home/david/perl5/perlbrew/perls/perl-5.30.2/man
    PERLBREW_PATH = /home/david/perl5/perlbrew/bin:/home/david/perl5/perlbrew/perls/perl-5.30.2/bin
    PERLBREW_PERL = perl-5.30.2
    PERLBREW_ROOT = /home/david/perl5/perlbrew
    PERLBREW_SHELLRC_VERSION = 0.89
    PERLBREW_VERSION = 0.89
    PERLVER = 5.22.4
    PERL_INLINE_DIRECTORY = /home/david/.Inline-5.22.4
    PERL_MM_USE_DEFAULT = 1
    PERL_USE_UNSAFE_INC = 0
    SHELL = /bin/bash
    TERM = screen

Perl special variables (and OS-specific diagnostics, for MSWin32):

    $^X = /home/david/cpantesting/perl-5.22.4/bin/perl
    $UID/$EUID = 1000 / 1000
    $GID = 1000 24 25 27 29 30 44 46 109 1000
    $EGID = 1000 24 25 27 29 30 44 46 109 1000

Perl module toolchain versions installed:

    Module              Have    
    ------------------- --------
    CPAN                2.11_01 
    CPAN::Meta          2.150010
    Cwd                 3.75    
    ExtUtils::CBuilder  0.280236
    ExtUtils::Command   7.70    
    ExtUtils::Install   2.22    
    ExtUtils::MakeMaker 7.70    
    ExtUtils::Manifest  1.75    
    ExtUtils::ParseXS   3.44    
    File::Spec          3.75    
    JSON                4.10    
    JSON::PP            4.16    
    Module::Build       0.4234  
    Module::Signature   n/a     
    Parse::CPAN::Meta   2.150010
    Test2               1.302195
    Test::Harness       3.44    
    Test::More          1.302195
    YAML                1.30    
    YAML::Syck          n/a     
    version             0.9929  


--

Summary of my perl5 (revision 5 version 22 subversion 4) configuration:
   
  Platform:
    osname=linux, osvers=5.10.0-11-amd64, archname=x86_64-linux
    uname='linux cpantesting-linux 5.10.0-11-amd64 #1 smp debian 5.10.92-1 (2022-01-18) x86_64 gnulinux '
    config_args='-de -Dprefix=/home/david/cpantesting/perl-5.22.4'
    hint=recommended, useposix=true, d_sigaction=define
    useithreads=undef, usemultiplicity=undef
    use64bitint=define, use64bitall=define, uselongdouble=undef
    usemymalloc=n, bincompat5005=undef
  Compiler:
    cc='cc', ccflags ='-fwrapv -fno-strict-aliasing -pipe -fstack-protector-strong -I/usr/local/include -D_LARGEFILE_SOURCE -D_FILE_OFFSET_BITS=64 -D_FORTIFY_SOURCE=2',
    optimize='-O2',
    cppflags='-fwrapv -fno-strict-aliasing -pipe -fstack-protector-strong -I/usr/local/include'
    ccversion='', gccversion='10.2.1 20210110', gccosandvers=''
    intsize=4, longsize=8, ptrsize=8, doublesize=8, byteorder=12345678, doublekind=3
    d_longlong=define, longlongsize=8, d_longdbl=define, longdblsize=16, longdblkind=3
    ivtype='long', ivsize=8, nvtype='double', nvsize=8, Off_t='off_t', lseeksize=8
    alignbytes=8, prototype=define
  Linker and Libraries:
    ld='cc', ldflags =' -fstack-protector-strong -L/usr/local/lib'
    libpth=/usr/local/lib /usr/include/x86_64-linux-gnu /usr/lib /lib/x86_64-linux-gnu /lib/../lib /usr/lib/x86_64-linux-gnu /usr/lib/../lib /lib /lib64 /usr/lib64
    libs=-lpthread -lnsl -ldl -lm -lcrypt -lutil -lc
    perllibs=-lpthread -lnsl -ldl -lm -lcrypt -lutil -lc
    libc=libc-2.31.so, so=so, useshrplib=false, libperl=libperl.a
    gnulibc_version='2.31'
  Dynamic Linking:
    dlsrc=dl_dlopen.xs, dlext=so, d_dlsymun=undef, ccdlflags='-Wl,-E'
    cccdlflags='-fPIC', lddlflags='-shared -O2 -L/usr/local/lib -fstack-protector-strong'


Characteristics of this binary (from libperl): 
  Compile-time options: HAS_TIMES PERLIO_LAYERS PERL_DONT_CREATE_GVSV
                        PERL_HASH_FUNC_ONE_AT_A_TIME_HARD PERL_MALLOC_WRAP
                        PERL_NEW_COPY_ON_WRITE PERL_PRESERVE_IVUV
                        USE_64_BIT_ALL USE_64_BIT_INT USE_LARGE_FILES
                        USE_LOCALE USE_LOCALE_COLLATE USE_LOCALE_CTYPE
                        USE_LOCALE_NUMERIC USE_LOCALE_TIME USE_PERLIO
                        USE_PERL_ATOF
  Locally applied patches:
	Devel::PatchPerl 2.08
  Built under linux
  Compiled at Jul  5 2023 22:39:04
  %ENV:
    PERL="5.22.4"
    PERL5LIB=""
    PERL5OPT=""
    PERL5_CPANPLUS_IS_RUNNING="2419977"
    PERL5_CPAN_IS_RUNNING="2419977"
    PERLBREW_HOME="/home/david/.perlbrew"
    PERLBREW_MANPATH="/home/david/perl5/perlbrew/perls/perl-5.30.2/man"
    PERLBREW_PATH="/home/david/perl5/perlbrew/bin:/home/david/perl5/perlbrew/perls/perl-5.30.2/bin"
    PERLBREW_PERL="perl-5.30.2"
    PERLBREW_ROOT="/home/david/perl5/perlbrew"
    PERLBREW_SHELLRC_VERSION="0.89"
    PERLBREW_VERSION="0.89"
    PERLVER="5.22.4"
    PERL_INLINE_DIRECTORY="/home/david/.Inline-5.22.4"
    PERL_MM_USE_DEFAULT="1"
    PERL_USE_UNSAFE_INC="0"
  @INC:
    /home/david/cpantesting/perl-5.22.4/lib/site_perl/5.22.4/x86_64-linux
    /home/david/cpantesting/perl-5.22.4/lib/site_perl/5.22.4
    /home/david/cpantesting/perl-5.22.4/lib/5.22.4/x86_64-linux
    /home/david/cpantesting/perl-5.22.4/lib/5.22.4
    .