Yancy v1.087 Perl 5 v5.20.3 amd64-freebsd
- Status
- Pass
- From
- Slaven Rezić
- Dist
-
Yancy v1.087
- Platform
- Perl 5 v5.20.3 amd64-freebsd
- Date
- 2021-12-15 02:33:46
- ID
- 6d82f516-5d4f-11ec-9925-e6611f24ea8f
This distribution has been tested as part of the CPAN Testers
project, supporting the Perl programming language. See
http://wiki.cpantesters.org/ for more information or email
questions to cpan-testers-discuss@perl.org
--
Dear Doug Bell,
This is a computer-generated report for Yancy-1.087
on perl 5.20.3, created by CPAN-Reporter-1.2018.
Thank you for uploading your work to CPAN. Congratulations!
All tests were successful.
Sections of this report:
* Tester comments
* Program output
* Prerequisites
* Environment and other context
------------------------------
TESTER COMMENTS
------------------------------
Additional comments from tester:
none provided
------------------------------
PROGRAM OUTPUT
------------------------------
Output from '/usr/bin/make test':
Skip blib/lib/auto/share/dist/Yancy/update_resources.sh (unchanged)
PERL_DL_NONLAZY=1 "/usr/perl5.20.3p/bin/perl5.20.3" "-MExtUtils::Command::MM" "-MTest::Harness" "-e" "undef *Test::Harness::Switches; test_harness(0, 'blib/lib', 'blib/arch')" t/*.t t/backend/*.t t/command/backend/*.t t/controller/*.t t/examples/*.t t/plugin/*.t t/plugin/auth/*.t t/plugin/form/*.t
t/00-compile.t ............... ok
#
# Versions for all modules listed in MYMETA.json (including optional ones):
#
# === Configure Requires ===
#
# Module Want Have
# ----------------------- ---- ----
# ExtUtils::MakeMaker any 7.62
# File::ShareDir::Install 0.06 0.13
#
# === Configure Suggests ===
#
# Module Want Have
# -------- ------- ----
# JSON::PP 2.27300 4.05
#
# === Build Requires ===
#
# Module Want Have
# ------------------- ---- ----
# ExtUtils::MakeMaker any 7.62
#
# === Test Requires ===
#
# Module Want Have
# ------------------- -------- --------
# ExtUtils::MakeMaker any 7.62
# File::Spec any 3.75
# File::Temp 0.2307 0.2311
# IO::Handle any 1.45
# IPC::Open3 any 1.16
# Test::More 1.001005 1.302186
#
# === Test Recommends ===
#
# Module Want Have
# ---------- -------- --------
# CPAN::Meta 2.120900 2.150010
#
# === Runtime Requires ===
#
# Module Want Have
# ---------------------------- -------- --------
# Class::Method::Modifiers any 2.13
# Digest any 1.19
# Exporter any 5.74
# File::Spec::Functions any 3.75
# FindBin any 1.52
# JSON::Validator 5.00 5.04
# Mojolicious 9 9.19
# Mojolicious::Plugin::I18N 1.6 1.6
# Mojolicious::Plugin::OpenAPI 5.00 5.02
# Role::Tiny 2.000001 2.002004
# Scalar::Util any 1.56
# Sys::Hostname any 1.18
# Text::Balanced any 2.03
#
t/00-report-prereqs.t ........ ok
x-view is deprecated and will be removed in v2. Use Yancy::Model or your database's CREATE VIEW instead. at /home/cpansand/.cpan/build/2021121503/Yancy-1.087-9/blib/lib/Yancy/Model/Schema.pm line 281.
t/api.t ...................... ok
t/app.t ...................... ok
DBIx::Class::Storage::DBI::SQLite::_dbi_attrs_for_bind(): Non-integer value supplied for column 'me.id' despite the integer datatype at /home/cpansand/.cpan/build/2021121503/Yancy-1.087-9/blib/lib/Yancy/Backend/Dbic.pm line 174
datatype mismatch: bind param (0) DOES_NOT_EXIST as integer at /usr/perl5.20.3p/lib/site_perl/5.20.3/DBIx/Class/Storage/DBI.pm line 1958.
datatype mismatch: bind param (0) DOES_NOT_EXIST as integer at /usr/perl5.20.3p/lib/site_perl/5.20.3/DBIx/Class/Storage/DBI.pm line 1958.
datatype mismatch: bind param (0) DOES_NOT_EXIST as integer at /usr/perl5.20.3p/lib/site_perl/5.20.3/DBIx/Class/Storage/DBI.pm line 1958.
datatype mismatch: bind param (0) DOES_NOT_EXIST as integer at /usr/perl5.20.3p/lib/site_perl/5.20.3/DBIx/Class/Storage/DBI.pm line 1958.
datatype mismatch: bind param (0) DOES_NOT_EXIST as integer at /usr/perl5.20.3p/lib/site_perl/5.20.3/DBIx/Class/Storage/DBI.pm line 1958.
datatype mismatch: bind param (0) DOES_NOT_EXIST as integer at /usr/perl5.20.3p/lib/site_perl/5.20.3/DBIx/Class/Storage/DBI.pm line 1958.
t/backend/dbic.t ............. ok
t/backend/memory.t ........... ok
t/backend/mysql.t ............ skipped: set TEST_ONLINE_MYSQL to enable this test
t/backend/pg.t ............... skipped: set TEST_ONLINE_PG to enable this test
t/backend/sqlite.t ........... skipped: Mojo::SQLite >= 3.005 required for this test
x-view is deprecated and will be removed in v2. Use Yancy::Model or your database's CREATE VIEW instead. at /home/cpansand/.cpan/build/2021121503/Yancy-1.087-9/blib/lib/Yancy/Model/Schema.pm line 281.
t/command/backend/copy.t ..... ok
x-view is deprecated and will be removed in v2. Use Yancy::Model or your database's CREATE VIEW instead. at /home/cpansand/.cpan/build/2021121503/Yancy-1.087-9/blib/lib/Yancy/Model/Schema.pm line 281.
t/config.t ................... ok
x-view is deprecated and will be removed in v2. Use Yancy::Model or your database's CREATE VIEW instead. at /home/cpansand/.cpan/build/2021121503/Yancy-1.087-9/blib/lib/Yancy/Model/Schema.pm line 281.
t/controller/multi_tenant.t .. ok
x-view is deprecated and will be removed in v2. Use Yancy::Model or your database's CREATE VIEW instead. at /home/cpansand/.cpan/build/2021121503/Yancy-1.087-9/blib/lib/Yancy/Model/Schema.pm line 281.
t/controller/yancy.t ......... ok
t/examples/doc-site.t ........ skipped: Set TEST_YANCY_EXAMPLES to run these tests
t/examples/limited-editor.t .. skipped: Set TEST_YANCY_EXAMPLES to run these tests
t/examples/test-app.t ........ skipped: Set TEST_YANCY_EXAMPLES to run these tests
t/examples/todo-app.t ........ skipped: Set TEST_YANCY_EXAMPLES to run these tests
x-view is deprecated and will be removed in v2. Use Yancy::Model or your database's CREATE VIEW instead. at /home/cpansand/.cpan/build/2021121503/Yancy-1.087-9/blib/lib/Yancy/Model/Schema.pm line 281.
[2021-12-15 03:32:20.47646] [13639] [fatal] [2H_Zwcy_iqkf] Unknown filter: DOES.NOT.EXIST (schema: user, field: email) at /home/cpansand/.cpan/build/2021121503/Yancy-1.087-9/blib/lib/Mojolicious/Plugin/Yancy.pm line 889.
t/filter.t ................... ok
x-view is deprecated and will be removed in v2. Use Yancy::Model or your database's CREATE VIEW instead. at /home/cpansand/.cpan/build/2021121503/Yancy-1.087-9/blib/lib/Yancy/Model/Schema.pm line 281.
t/helpers.t .................. ok
x-view is deprecated and will be removed in v2. Use Yancy::Model or your database's CREATE VIEW instead. at /home/cpansand/.cpan/build/2021121503/Yancy-1.087-9/blib/lib/Yancy/Model/Schema.pm line 281.
t/i18n.t ..................... ok
t/model.t .................... ok
x-view is deprecated and will be removed in v2. Use Yancy::Model or your database's CREATE VIEW instead. at /home/cpansand/.cpan/build/2021121503/Yancy-1.087-9/blib/lib/Yancy/Model/Schema.pm line 281.
t/plugin/auth.t .............. ok
x-view is deprecated and will be removed in v2. Use Yancy::Model or your database's CREATE VIEW instead. at /home/cpansand/.cpan/build/2021121503/Yancy-1.087-9/blib/lib/Yancy/Model/Schema.pm line 281.
The Auth::Basic plugin is deprecated and will be removed in Yancy v2.000. Please migrate to the Auth::Password module.
at /home/cpansand/.cpan/build/2021121503/Yancy-1.087-9/blib/lib/Yancy/Plugin/Auth/Basic.pm line 256.
t/plugin/auth/basic.t ........ ok
x-view is deprecated and will be removed in v2. Use Yancy::Model or your database's CREATE VIEW instead. at /home/cpansand/.cpan/build/2021121503/Yancy-1.087-9/blib/lib/Yancy/Model/Schema.pm line 281.
t/plugin/auth/github.t ....... ok
x-view is deprecated and will be removed in v2. Use Yancy::Model or your database's CREATE VIEW instead. at /home/cpansand/.cpan/build/2021121503/Yancy-1.087-9/blib/lib/Yancy/Model/Schema.pm line 281.
t/plugin/auth/oauth2.t ....... ok
x-view is deprecated and will be removed in v2. Use Yancy::Model or your database's CREATE VIEW instead. at /home/cpansand/.cpan/build/2021121503/Yancy-1.087-9/blib/lib/Yancy/Model/Schema.pm line 281.
t/plugin/auth/password.t ..... ok
x-view is deprecated and will be removed in v2. Use Yancy::Model or your database's CREATE VIEW instead. at /home/cpansand/.cpan/build/2021121503/Yancy-1.087-9/blib/lib/Yancy/Model/Schema.pm line 281.
t/plugin/auth/token.t ........ ok
t/plugin/editor.t ............ ok
x-view is deprecated and will be removed in v2. Use Yancy::Model or your database's CREATE VIEW instead. at /home/cpansand/.cpan/build/2021121503/Yancy-1.087-9/blib/lib/Yancy/Model/Schema.pm line 281.
[2021-12-15 03:32:31.37102] [13658] [debug] [zWqYd55U8bz_] POST "/yancy/upload"
[2021-12-15 03:32:31.37403] [13658] [debug] [zWqYd55U8bz_] Routing to a callback
[2021-12-15 03:32:31.37428] [13658] [warn] *** Cannot verify that admin editor is behind authentication.
Add a Yancy Auth plugin, add a `route` to the Yancy plugin config,
or set `editor.require_user => undef` to silence this warning
[2021-12-15 03:32:31.37447] [13658] [debug] [zWqYd55U8bz_] Routing to a callback
[2021-12-15 03:32:31.37527] [13658] [debug] [zWqYd55U8bz_] 201 Created (0.00548s, 182.482/s)
[2021-12-15 03:32:31.38155] [13658] [debug] [nXpQZhd4LHXH] GET "/user/doug/edit"
[2021-12-15 03:32:31.38458] [13658] [debug] [nXpQZhd4LHXH] Routing to controller "Yancy::Controller::Yancy" and action "set"
[2021-12-15 03:32:31.39023] [13658] [debug] [nXpQZhd4LHXH] Rendering template "user_edit.html.ep"
[2021-12-15 03:32:31.39529] [13658] [debug] Your secret passphrase needs to be changed
[2021-12-15 03:32:31.39618] [13658] [debug] [nXpQZhd4LHXH] 200 OK (0.014623s, 68.385/s)
[2021-12-15 03:32:31.40251] [13658] [debug] [5Jua6vP8SNwd] POST "/user/doug/edit"
[2021-12-15 03:32:31.40372] [13658] [debug] [5Jua6vP8SNwd] Routing to controller "Yancy::Controller::Yancy" and action "set"
[2021-12-15 03:32:31.40725] [13658] [debug] [5Jua6vP8SNwd] 302 Found (0.004714s, 212.134/s)
[2021-12-15 03:32:31.41140] [13658] [debug] [_xQ_XSke1R1P] GET "/user/doug"
[2021-12-15 03:32:31.41254] [13658] [debug] [_xQ_XSke1R1P] Routing to controller "Yancy::Controller::Yancy" and action "get"
[2021-12-15 03:32:31.41347] [13658] [debug] [_xQ_XSke1R1P] Rendering template "user.html.ep"
[2021-12-15 03:32:31.41436] [13658] [debug] [_xQ_XSke1R1P] 200 OK (0.002949s, 339.098/s)
t/plugin/file.t .............. ok
x-view is deprecated and will be removed in v2. Use Yancy::Model or your database's CREATE VIEW instead. at /home/cpansand/.cpan/build/2021121503/Yancy-1.087-9/blib/lib/Yancy/Model/Schema.pm line 281.
[2021-12-15 03:32:32.35256] [13659] [warn] [OCjYq70MfGx1] form_for() called with incomplete request. CSRF token may not validate!
t/plugin/form/bootstrap4.t ... ok
x-view is deprecated and will be removed in v2. Use Yancy::Model or your database's CREATE VIEW instead. at /home/cpansand/.cpan/build/2021121503/Yancy-1.087-9/blib/lib/Yancy/Model/Schema.pm line 281.
t/plugin/roles.t ............. ok
# Could not load SQLite backend: Mojo::SQLite version 3.005 or higher required
# BEGIN failed--compilation aborted at /home/cpansand/.cpan/build/2021121503/Yancy-1.087-9/blib/lib/Yancy/Backend/Sqlite.pm line 116.
# Compilation failed in require at t/register.t line 21.
t/register.t ................. ok
t/util.t ..................... ok
All tests successful.
Files=33, Tests=219, 40 wallclock secs ( 0.04 usr 0.51 sys + 11.87 cusr 19.83 csys = 32.24 CPU)
Result: PASS
------------------------------
PREREQUISITES
------------------------------
Prerequisite modules loaded:
requires:
Module Need Have
---------------------------- -------- --------
Class::Method::Modifiers 0 2.13
Digest 0 1.19
Exporter 0 5.74
File::Spec::Functions 0 3.75
FindBin 0 1.52
JSON::Validator 5.00 5.04
Mojolicious 9 9.19
Mojolicious::Plugin::I18N 1.6 1.6
Mojolicious::Plugin::OpenAPI 5.00 5.02
perl 5.016 5.020003
Role::Tiny 2.000001 2.002004
Scalar::Util 0 1.56
Sys::Hostname 0 1.18
Text::Balanced 0 2.03
build_requires:
Module Need Have
---------------------------- -------- --------
ExtUtils::MakeMaker 0 7.62
File::Spec 0 3.75
File::Temp 0.2307 0.2311
IO::Handle 0 1.45
IPC::Open3 0 1.16
Test::More 1.001005 1.302186
configure_requires:
Module Need Have
---------------------------- -------- --------
ExtUtils::MakeMaker 0 7.62
File::ShareDir::Install 0.06 0.13
------------------------------
ENVIRONMENT AND OTHER CONTEXT
------------------------------
Environment variables:
LC_ALL = de_DE.ISO8859-1
PATH = /usr/local/bin:/usr/bin:/bin:/usr/local/sbin:/usr/sbin:/sbin:/home/cpansand/bin/freebsd10.3:/home/cpansand/bin/sh:/home/cpansand/bin:/usr/games:/home/cpansand/devel:/home/eserte/src/srezic-misc/scripts
PERL5LIB = /home/cpansand/.cpan/build/2021121503/Mojolicious-Plugin-OpenAPI-5.02-7/blib/arch:/home/cpansand/.cpan/build/2021121503/Mojolicious-Plugin-OpenAPI-5.02-7/blib/lib:/home/cpansand/.cpan/build/2021121503/JSON-Validator-5.04-1/blib/arch:/home/cpansand/.cpan/build/2021121503/JSON-Validator-5.04-1/blib/lib
PERL5OPT =
PERL5_CPANPLUS_IS_RUNNING = 13218
PERL5_CPAN_IS_RUNNING = 13218
PERL5_CPAN_IS_RUNNING_IN_RECURSION = 4066,13218
PERLDOC = -MPod::Perldoc::ToTextOverstrike
PERL_BATCH = yes
PERL_CANARY_STABILITY_NOPROMPT = 1
PERL_CPAN_REPORTER_CONFIG = /var/tmp/cpansmoker-1023/2021121503/cpanreporter_000_config.ini
PERL_EXTUTILS_AUTOINSTALL = --defaultdeps
PERL_USE_UNSAFE_INC = 1
SHELL = /usr/local/bin/zsh
TERM = screen
TMPDIR = /var/tmp/cpansmoker-1023/2021121503
Perl special variables (and OS-specific diagnostics, for MSWin32):
$^X = /usr/perl5.20.3p/bin/perl5.20.3
$UID/$EUID = 1023 / 1023
$GID = 1023 1023
$EGID = 1023 1023
Perl module toolchain versions installed:
Module Have
------------------- --------
CPAN 2.28
CPAN::Meta 2.150010
Cwd 3.75
ExtUtils::CBuilder 0.280235
ExtUtils::Command 7.62
ExtUtils::Install 2.20
ExtUtils::MakeMaker 7.62
ExtUtils::Manifest 1.70
ExtUtils::ParseXS 3.35
File::Spec 3.75
JSON 4.03
JSON::PP 4.05
Module::Build 0.4231
Module::Signature 0.87
Parse::CPAN::Meta 2.150010
Test::Harness 3.42
Test::More 1.302186
YAML 1.30
YAML::Syck 1.34
version 0.9928
--
Summary of my perl5 (revision 5 version 20 subversion 3) configuration:
Platform:
osname=freebsd, osvers=10.1-release, archname=amd64-freebsd
uname='freebsd cvrsnica-freebsd-101.herceg.de 10.1-release freebsd 10.1-release #0 r274401: tue nov 11 21:02:49 utc 2014 root@releng1.nyi.freebsd.org:usrobjusrsrcsysgeneric amd64 '
config_args='-ds -e -Dprefix=/usr/perl5.20.3p -Dcf_email=srezic@cpan.org'
hint=recommended, useposix=true, d_sigaction=define
useithreads=undef, usemultiplicity=undef
use64bitint=define, use64bitall=define, uselongdouble=undef
usemymalloc=n, bincompat5005=undef
Compiler:
cc='cc', ccflags ='-DHAS_FPSETMASK -DHAS_FLOATINGPOINT_H -fno-strict-aliasing -pipe -fstack-protector -I/usr/local/include',
optimize='-O',
cppflags='-DHAS_FPSETMASK -DHAS_FLOATINGPOINT_H -fno-strict-aliasing -pipe -fstack-protector -I/usr/local/include'
ccversion='', gccversion='4.2.1 Compatible FreeBSD Clang 3.4.1 (tags/RELEASE_34/dot1-final 208032)', gccosandvers=''
intsize=4, longsize=8, ptrsize=8, doublesize=8, byteorder=12345678
d_longlong=define, longlongsize=8, d_longdbl=define, longdblsize=16
ivtype='long', ivsize=8, nvtype='double', nvsize=8, Off_t='off_t', lseeksize=8
alignbytes=8, prototype=define
Linker and Libraries:
ld='cc', ldflags ='-pthread -Wl,-E -fstack-protector -L/usr/local/lib'
libpth=/usr/lib /usr/local/lib /usr/include/clang/3.4.1 /usr/lib
libs=-lpthread -lgdbm -lm -lcrypt -lutil -lc
perllibs=-lpthread -lm -lcrypt -lutil -lc
libc=, so=so, useshrplib=false, libperl=libperl.a
gnulibc_version=''
Dynamic Linking:
dlsrc=dl_dlopen.xs, dlext=so, d_dlsymun=undef, ccdlflags=' '
cccdlflags='-DPIC -fPIC', lddlflags='-shared -L/usr/local/lib -fstack-protector'
Characteristics of this binary (from libperl):
Compile-time options: HAS_TIMES PERLIO_LAYERS PERL_DONT_CREATE_GVSV
PERL_HASH_FUNC_ONE_AT_A_TIME_HARD PERL_MALLOC_WRAP
PERL_NEW_COPY_ON_WRITE PERL_PRESERVE_IVUV
USE_64_BIT_ALL USE_64_BIT_INT USE_LARGE_FILES
USE_LOCALE USE_LOCALE_COLLATE USE_LOCALE_CTYPE
USE_LOCALE_NUMERIC USE_PERLIO USE_PERL_ATOF
Built under freebsd
Compiled at Sep 12 2015 22:44:25
%ENV:
PERL5LIB="/home/cpansand/.cpan/build/2021121503/Mojolicious-Plugin-OpenAPI-5.02-7/blib/arch:/home/cpansand/.cpan/build/2021121503/Mojolicious-Plugin-OpenAPI-5.02-7/blib/lib:/home/cpansand/.cpan/build/2021121503/JSON-Validator-5.04-1/blib/arch:/home/cpansand/.cpan/build/2021121503/JSON-Validator-5.04-1/blib/lib"
PERL5OPT=""
PERL5_CPANPLUS_IS_RUNNING="13218"
PERL5_CPAN_IS_RUNNING="13218"
PERL5_CPAN_IS_RUNNING_IN_RECURSION="4066,13218"
PERLDOC="-MPod::Perldoc::ToTextOverstrike"
PERL_BATCH="yes"
PERL_CANARY_STABILITY_NOPROMPT="1"
PERL_CPAN_REPORTER_CONFIG="/var/tmp/cpansmoker-1023/2021121503/cpanreporter_000_config.ini"
PERL_EXTUTILS_AUTOINSTALL="--defaultdeps"
PERL_USE_UNSAFE_INC="1"
@INC:
/home/cpansand/.cpan/build/2021121503/Mojolicious-Plugin-OpenAPI-5.02-7/blib/arch
/home/cpansand/.cpan/build/2021121503/Mojolicious-Plugin-OpenAPI-5.02-7/blib/lib
/home/cpansand/.cpan/build/2021121503/JSON-Validator-5.04-1/blib/arch
/home/cpansand/.cpan/build/2021121503/JSON-Validator-5.04-1/blib/lib
/usr/perl5.20.3p/lib/site_perl/5.20.3/amd64-freebsd
/usr/perl5.20.3p/lib/site_perl/5.20.3
/usr/perl5.20.3p/lib/5.20.3/amd64-freebsd
/usr/perl5.20.3p/lib/5.20.3
.