Encode v3.21 Perl 5 v5.20.2 armv7l-linux
- Status
- Pass
- From
- Nigel Horne
- Dist
-
Encode v3.21
- Platform
- Perl 5 v5.20.2 armv7l-linux
- Date
- 2024-08-26 20:54:41
- ID
- 6a80fd48-63ed-11ef-9feb-816f1a3802b0
This distribution has been tested as part of the CPAN Testers
project, supporting the Perl programming language. See
http://wiki.cpantesters.org/ for more information or email
questions to cpan-testers-discuss@perl.org
--
Dear Dan Kogai,
This is a computer-generated report for Encode-3.21
on perl 5.20.2, created by CPAN-Reporter-1.2018.
Thank you for uploading your work to CPAN. Congratulations!
All tests were successful.
Sections of this report:
* Tester comments
* Program output
* Prerequisites
* Environment and other context
------------------------------
TESTER COMMENTS
------------------------------
Additional comments from tester:
this report is from an automated smoke testing program
and was not reviewed by a human for accuracy
------------------------------
PROGRAM OUTPUT
------------------------------
Output from '/usr/bin/make test':
"/home/smoker/perl5/perlbrew/perls/perl-5.20.2-ld/bin/perl5.20.2" -MExtUtils::Command::MM -e 'cp_nonempty' -- Encode.bs blib/arch/auto/Encode/Encode.bs 644
make[1]: Entering directory '/tmp/build/Encode-3.21-0/Byte'
"/home/smoker/perl5/perlbrew/perls/perl-5.20.2-ld/bin/perl5.20.2" -MExtUtils::Command::MM -e 'cp_nonempty' -- Byte.bs ../blib/arch/auto/Encode/Byte/Byte.bs 644
make[1]: Leaving directory '/tmp/build/Encode-3.21-0/Byte'
make[1]: Entering directory '/tmp/build/Encode-3.21-0/CN'
"/home/smoker/perl5/perlbrew/perls/perl-5.20.2-ld/bin/perl5.20.2" -MExtUtils::Command::MM -e 'cp_nonempty' -- CN.bs ../blib/arch/auto/Encode/CN/CN.bs 644
make[1]: Leaving directory '/tmp/build/Encode-3.21-0/CN'
make[1]: Entering directory '/tmp/build/Encode-3.21-0/EBCDIC'
"/home/smoker/perl5/perlbrew/perls/perl-5.20.2-ld/bin/perl5.20.2" -MExtUtils::Command::MM -e 'cp_nonempty' -- EBCDIC.bs ../blib/arch/auto/Encode/EBCDIC/EBCDIC.bs 644
make[1]: Leaving directory '/tmp/build/Encode-3.21-0/EBCDIC'
make[1]: Entering directory '/tmp/build/Encode-3.21-0/JP'
"/home/smoker/perl5/perlbrew/perls/perl-5.20.2-ld/bin/perl5.20.2" -MExtUtils::Command::MM -e 'cp_nonempty' -- JP.bs ../blib/arch/auto/Encode/JP/JP.bs 644
make[1]: Leaving directory '/tmp/build/Encode-3.21-0/JP'
make[1]: Entering directory '/tmp/build/Encode-3.21-0/KR'
"/home/smoker/perl5/perlbrew/perls/perl-5.20.2-ld/bin/perl5.20.2" -MExtUtils::Command::MM -e 'cp_nonempty' -- KR.bs ../blib/arch/auto/Encode/KR/KR.bs 644
make[1]: Leaving directory '/tmp/build/Encode-3.21-0/KR'
make[1]: Entering directory '/tmp/build/Encode-3.21-0/Symbol'
"/home/smoker/perl5/perlbrew/perls/perl-5.20.2-ld/bin/perl5.20.2" -MExtUtils::Command::MM -e 'cp_nonempty' -- Symbol.bs ../blib/arch/auto/Encode/Symbol/Symbol.bs 644
make[1]: Leaving directory '/tmp/build/Encode-3.21-0/Symbol'
make[1]: Entering directory '/tmp/build/Encode-3.21-0/TW'
"/home/smoker/perl5/perlbrew/perls/perl-5.20.2-ld/bin/perl5.20.2" -MExtUtils::Command::MM -e 'cp_nonempty' -- TW.bs ../blib/arch/auto/Encode/TW/TW.bs 644
make[1]: Leaving directory '/tmp/build/Encode-3.21-0/TW'
make[1]: Entering directory '/tmp/build/Encode-3.21-0/Unicode'
"/home/smoker/perl5/perlbrew/perls/perl-5.20.2-ld/bin/perl5.20.2" -MExtUtils::Command::MM -e 'cp_nonempty' -- Unicode.bs ../blib/arch/auto/Encode/Unicode/Unicode.bs 644
make[1]: Leaving directory '/tmp/build/Encode-3.21-0/Unicode'
make[1]: Entering directory '/tmp/build/Encode-3.21-0/Byte'
"/home/smoker/perl5/perlbrew/perls/perl-5.20.2-ld/bin/perl5.20.2" -MExtUtils::Command::MM -e 'cp_nonempty' -- Byte.bs ../blib/arch/auto/Encode/Byte/Byte.bs 644
No tests defined for Encode::Byte extension.
make[1]: Leaving directory '/tmp/build/Encode-3.21-0/Byte'
make[1]: Entering directory '/tmp/build/Encode-3.21-0/CN'
"/home/smoker/perl5/perlbrew/perls/perl-5.20.2-ld/bin/perl5.20.2" -MExtUtils::Command::MM -e 'cp_nonempty' -- CN.bs ../blib/arch/auto/Encode/CN/CN.bs 644
No tests defined for Encode::CN extension.
make[1]: Leaving directory '/tmp/build/Encode-3.21-0/CN'
make[1]: Entering directory '/tmp/build/Encode-3.21-0/EBCDIC'
"/home/smoker/perl5/perlbrew/perls/perl-5.20.2-ld/bin/perl5.20.2" -MExtUtils::Command::MM -e 'cp_nonempty' -- EBCDIC.bs ../blib/arch/auto/Encode/EBCDIC/EBCDIC.bs 644
No tests defined for Encode::EBCDIC extension.
make[1]: Leaving directory '/tmp/build/Encode-3.21-0/EBCDIC'
make[1]: Entering directory '/tmp/build/Encode-3.21-0/JP'
"/home/smoker/perl5/perlbrew/perls/perl-5.20.2-ld/bin/perl5.20.2" -MExtUtils::Command::MM -e 'cp_nonempty' -- JP.bs ../blib/arch/auto/Encode/JP/JP.bs 644
No tests defined for Encode::JP extension.
make[1]: Leaving directory '/tmp/build/Encode-3.21-0/JP'
make[1]: Entering directory '/tmp/build/Encode-3.21-0/KR'
"/home/smoker/perl5/perlbrew/perls/perl-5.20.2-ld/bin/perl5.20.2" -MExtUtils::Command::MM -e 'cp_nonempty' -- KR.bs ../blib/arch/auto/Encode/KR/KR.bs 644
No tests defined for Encode::KR extension.
make[1]: Leaving directory '/tmp/build/Encode-3.21-0/KR'
make[1]: Entering directory '/tmp/build/Encode-3.21-0/Symbol'
"/home/smoker/perl5/perlbrew/perls/perl-5.20.2-ld/bin/perl5.20.2" -MExtUtils::Command::MM -e 'cp_nonempty' -- Symbol.bs ../blib/arch/auto/Encode/Symbol/Symbol.bs 644
No tests defined for Encode::Symbol extension.
make[1]: Leaving directory '/tmp/build/Encode-3.21-0/Symbol'
make[1]: Entering directory '/tmp/build/Encode-3.21-0/TW'
"/home/smoker/perl5/perlbrew/perls/perl-5.20.2-ld/bin/perl5.20.2" -MExtUtils::Command::MM -e 'cp_nonempty' -- TW.bs ../blib/arch/auto/Encode/TW/TW.bs 644
No tests defined for Encode::TW extension.
make[1]: Leaving directory '/tmp/build/Encode-3.21-0/TW'
make[1]: Entering directory '/tmp/build/Encode-3.21-0/Unicode'
"/home/smoker/perl5/perlbrew/perls/perl-5.20.2-ld/bin/perl5.20.2" -MExtUtils::Command::MM -e 'cp_nonempty' -- Unicode.bs ../blib/arch/auto/Encode/Unicode/Unicode.bs 644
No tests defined for Encode::Unicode extension.
make[1]: Leaving directory '/tmp/build/Encode-3.21-0/Unicode'
PERL_DL_NONLAZY=1 "/home/smoker/perl5/perlbrew/perls/perl-5.20.2-ld/bin/perl5.20.2" "-MExtUtils::Command::MM" "-MTest::Harness" "-e" "undef *Test::Harness::Switches; test_harness(0, 'blib/lib', 'blib/arch')" t/*.t
t/at-cn.t .................. ok
t/at-tw.t .................. ok
t/cow.t .................... ok
t/decode.t ................. ok
t/enc_eucjp.t .............. ok
t/enc_data.t ............... ok
t/Aliases.t ................ ok
t/enc_module.t ............. ok
t/enc_utf8.t ............... ok
t/CJKT.t ................... ok
t/encoding-locale.t ........ ok
t/encoding.t ............... ok
t/fallback.t ............... ok
t/from_to.t ................ ok
t/Encoder.t ................ ok
t/grow.t ................... ok
t/guess.t .................. ok
t/jis7-fallback.t .......... ok
t/isa.t .................... ok
t/gsm0338.t ................ ok
t/jperl.t .................. ok
t/magic.t .................. ok
t/Encode.t ................. ok
t/mime-name.t .............. ok
t/mime_header_iso2022jp.t .. ok
t/rt113164.t ............... ok
t/rt65541.t ................ ok
t/piconv.t ................. ok
t/rt76824.t ................ ok
t/rt85489.t ................ ok
t/rt86327.t ................ ok
t/perlio.t ................. ok
t/truncated_utf8.t ......... ok
t/taint.t .................. ok
t/undef.t .................. ok
t/use-Encode-Alias.t ....... ok
t/Unicode.t ................ ok
t/utf32warnings.t .......... ok
t/Unicode_trailing_nul.t ... ok
t/utf8ref.t ................ ok
t/utf8strict.t ............. ok
t/utf8warnings.t ........... ok
t/whatwg-aliases.t ......... skipped: For maintainers only
t/xml.t .................... ok
t/mime-header.t ............ ok
All tests successful.
Test Summary Report
-------------------
t/truncated_utf8.t (Wstat: 0 Tests: 9 Failed: 0)
TODO passed: 9
Files=45, Tests=7836, 68 wallclock secs ( 3.00 usr 0.37 sys + 24.81 cusr 5.00 csys = 33.18 CPU)
Result: PASS
------------------------------
PREREQUISITES
------------------------------
Prerequisite modules loaded:
requires:
Module Need Have
------------------- ----- --------
Exporter 5.57 5.71
parent 0.221 0.228
Storable 0 2.49_01
build_requires:
Module Need Have
------------------- ----- --------
ExtUtils::MakeMaker 0 7.44
Test::More 0.92 1.302171
configure_requires:
Module Need Have
------------------- ----- --------
ExtUtils::MakeMaker 0 7.44
------------------------------
ENVIRONMENT AND OTHER CONTEXT
------------------------------
Environment variables:
AUTOMATED_TESTING = 1
HARNESS_OPTIONS = j4
NONINTERACTIVE_TESTING = 1
PATH = /home/smoker/perl5/perlbrew/bin:/home/smoker/perl5/perlbrew/perls/perl-5.20.2-ld/bin:/usr/local/sbin:/usr/local/bin:/usr/sbin:/usr/bin:/sbin:/bin
PERL5LIB = /tmp/build/Data-Random-Structure-UTF8-0.06-0/blib/arch:/tmp/build/Data-Random-Structure-UTF8-0.06-0/blib/lib:/tmp/build/Data-Random-Structure-0.01-0/blib/arch:/tmp/build/Data-Random-Structure-0.01-0/blib/lib:/tmp/build/Data-Random-0.13-0/blib/arch:/tmp/build/Data-Random-0.13-0/blib/lib:/tmp/build/Test-MockTime-0.17-0/blib/arch:/tmp/build/Test-MockTime-0.17-0/blib/lib:/tmp/build/File-ShareDir-Install-0.14-0/blib/arch:/tmp/build/File-ShareDir-Install-0.14-0/blib/lib:/tmp/build/Data-Dump-1.25-0/blib/arch:/tmp/build/Data-Dump-1.25-0/blib/lib
PERL5OPT =
PERL5_CPANPLUS_IS_RUNNING = 21416
PERL5_CPAN_IS_RUNNING = 21416
PERLBREW_HOME = /home/smoker/.perlbrew
PERLBREW_MANPATH = /home/smoker/perl5/perlbrew/perls/perl-5.20.2-ld/man
PERLBREW_PATH = /home/smoker/perl5/perlbrew/bin:/home/smoker/perl5/perlbrew/perls/perl-5.20.2-ld/bin
PERLBREW_PERL = perl-5.20.2-ld
PERLBREW_ROOT = /home/smoker/perl5/perlbrew
PERLBREW_SHELLRC_VERSION = 0.88
PERLBREW_VERSION = 0.88
PERL_MM_USE_DEFAULT = 1
PERL_USE_UNSAFE_INC = 1
SHELL = /bin/bash
TERM = xterm
TMPDIR = /tmp/testwrapper.21405
Perl special variables (and OS-specific diagnostics, for MSWin32):
$^X = /home/smoker/perl5/perlbrew/perls/perl-5.20.2-ld/bin/perl5.20.2
$UID/$EUID = 1000 / 1000
$GID = 1000 1000
$EGID = 1000 1000
Perl module toolchain versions installed:
Module Have
------------------- --------
CPAN 2.27
CPAN::Meta 2.150010
Cwd 3.75
ExtUtils::CBuilder 0.280217
ExtUtils::Command 7.44
ExtUtils::Install 2.06
ExtUtils::MakeMaker 7.44
ExtUtils::Manifest 1.70
ExtUtils::ParseXS 3.24
File::Spec 3.75
JSON 4.02
JSON::PP 4.04
Module::Build 0.4231
Module::Signature n/a
Parse::CPAN::Meta 2.150010
Test::Harness 3.42
Test::More 1.302171
YAML 1.30
YAML::Syck 1.32
version 0.9909
--
Summary of my perl5 (revision 5 version 20 subversion 2) configuration:
Platform:
osname=linux, osvers=4.19.75-v7l+, archname=armv7l-linux
uname='linux 2c1d99e927e1 4.19.75-v7l+ #1270 smp tue sep 24 18:51:41 bst 2019 armv7l gnulinux '
config_args='-de -Dprefix=/home/smoker/perl5/perlbrew/perls/perl-5.20.2-ld -Dusedevel -Duselongdouble -Accflags=-O2 -pipe -Wall -Wextra -mtune=native -march=native -Aeval:scriptdir=/home/smoker/perl5/perlbrew/perls/perl-5.20.2-ld/bin'
hint=recommended, useposix=true, d_sigaction=define
useithreads=undef, usemultiplicity=undef
use64bitint=undef, use64bitall=undef, uselongdouble=define
usemymalloc=n, bincompat5005=undef
Compiler:
cc='cc', ccflags ='-O2 -pipe -Wall -Wextra -mtune=native -march=native -fwrapv -fno-strict-aliasing -fstack-protector -I/usr/local/include -D_LARGEFILE_SOURCE -D_FILE_OFFSET_BITS=64',
optimize='-O2',
cppflags='-O2 -pipe -Wall -Wextra -mtune=native -march=native -fwrapv -fno-strict-aliasing -fstack-protector -I/usr/local/include'
ccversion='', gccversion='8.3.0', gccosandvers=''
intsize=4, longsize=4, ptrsize=4, doublesize=8, byteorder=1234
d_longlong=define, longlongsize=8, d_longdbl=define, longdblsize=8
ivtype='long', ivsize=4, nvtype='long double', nvsize=8, Off_t='off_t', lseeksize=8
alignbytes=8, prototype=define
Linker and Libraries:
ld='cc', ldflags =' -fstack-protector -L/usr/local/lib'
libpth=/usr/local/lib /usr/lib/gcc/arm-linux-gnueabihf/8/include-fixed /usr/include/arm-linux-gnueabihf /usr/lib /lib/arm-linux-gnueabihf /lib /usr/lib/arm-linux-gnueabihf
libs=-lnsl -ldl -lm -lcrypt -lutil -lc
perllibs=-lnsl -ldl -lm -lcrypt -lutil -lc
libc=libc-2.28.so, so=so, useshrplib=false, libperl=libperl.a
gnulibc_version='2.28'
Dynamic Linking:
dlsrc=dl_dlopen.xs, dlext=so, d_dlsymun=undef, ccdlflags='-Wl,-E'
cccdlflags='-fPIC', lddlflags='-shared -O2 -L/usr/local/lib -fstack-protector'
Characteristics of this binary (from libperl):
Compile-time options: HAS_TIMES PERLIO_LAYERS PERL_DONT_CREATE_GVSV
PERL_HASH_FUNC_ONE_AT_A_TIME_HARD PERL_MALLOC_WRAP
PERL_NEW_COPY_ON_WRITE PERL_PRESERVE_IVUV
PERL_USE_DEVEL USE_LARGE_FILES USE_LOCALE
USE_LOCALE_COLLATE USE_LOCALE_CTYPE
USE_LOCALE_NUMERIC USE_PERLIO USE_PERL_ATOF
Locally applied patches:
Devel::PatchPerl 1.84
Built under linux
Compiled at Feb 2 2020 18:06:26
%ENV:
PERL5LIB="/tmp/build/Data-Random-Structure-UTF8-0.06-0/blib/arch:/tmp/build/Data-Random-Structure-UTF8-0.06-0/blib/lib:/tmp/build/Data-Random-Structure-0.01-0/blib/arch:/tmp/build/Data-Random-Structure-0.01-0/blib/lib:/tmp/build/Data-Random-0.13-0/blib/arch:/tmp/build/Data-Random-0.13-0/blib/lib:/tmp/build/Test-MockTime-0.17-0/blib/arch:/tmp/build/Test-MockTime-0.17-0/blib/lib:/tmp/build/File-ShareDir-Install-0.14-0/blib/arch:/tmp/build/File-ShareDir-Install-0.14-0/blib/lib:/tmp/build/Data-Dump-1.25-0/blib/arch:/tmp/build/Data-Dump-1.25-0/blib/lib"
PERL5OPT=""
PERL5_CPANPLUS_IS_RUNNING="21416"
PERL5_CPAN_IS_RUNNING="21416"
PERLBREW_HOME="/home/smoker/.perlbrew"
PERLBREW_MANPATH="/home/smoker/perl5/perlbrew/perls/perl-5.20.2-ld/man"
PERLBREW_PATH="/home/smoker/perl5/perlbrew/bin:/home/smoker/perl5/perlbrew/perls/perl-5.20.2-ld/bin"
PERLBREW_PERL="perl-5.20.2-ld"
PERLBREW_ROOT="/home/smoker/perl5/perlbrew"
PERLBREW_SHELLRC_VERSION="0.88"
PERLBREW_VERSION="0.88"
PERL_MM_USE_DEFAULT="1"
PERL_USE_UNSAFE_INC="1"
@INC:
/tmp/build/Data-Random-Structure-UTF8-0.06-0/blib/arch
/tmp/build/Data-Random-Structure-UTF8-0.06-0/blib/lib
/tmp/build/Data-Random-Structure-0.01-0/blib/arch
/tmp/build/Data-Random-Structure-0.01-0/blib/lib
/tmp/build/Data-Random-0.13-0/blib/arch
/tmp/build/Data-Random-0.13-0/blib/lib
/tmp/build/Test-MockTime-0.17-0/blib/arch
/tmp/build/Test-MockTime-0.17-0/blib/lib
/tmp/build/File-ShareDir-Install-0.14-0/blib/arch
/tmp/build/File-ShareDir-Install-0.14-0/blib/lib
/tmp/build/Data-Dump-1.25-0/blib/arch
/tmp/build/Data-Dump-1.25-0/blib/lib
/home/smoker/perl5/perlbrew/perls/perl-5.20.2-ld/lib/site_perl/5.20.2/armv7l-linux
/home/smoker/perl5/perlbrew/perls/perl-5.20.2-ld/lib/site_perl/5.20.2
/home/smoker/perl5/perlbrew/perls/perl-5.20.2-ld/lib/5.20.2/armv7l-linux
/home/smoker/perl5/perlbrew/perls/perl-5.20.2-ld/lib/5.20.2
.