FFI-Platypus v2.08 Perl 5 v5.8.9 MSWin32-x86-multi-thread

Status
Pass
From
NONAME
Dist
FFI-Platypus v2.08
Platform
Perl 5 v5.8.9 MSWin32-x86-multi-thread
Date
2023-05-28 11:14:10
ID
69eec424-6d27-1014-a83a-269cb03d33c9
This distribution has been tested as part of the CPAN Testers
project, supporting the Perl programming language.  See
http://wiki.cpantesters.org/ for more information or email
questions to cpan-testers-discuss@perl.org


--
Dear Graham Ollis,

This is a computer-generated report for FFI-Platypus-2.08
on perl 5.8.9, created by CPAN-Reporter-1.2018.

Thank you for uploading your work to CPAN.  Congratulations!
All tests were successful.

Sections of this report:

    * Tester comments
    * Program output
    * Prerequisites
    * Environment and other context

------------------------------
TESTER COMMENTS
------------------------------

Additional comments from tester:

none provided

------------------------------
PROGRAM OUTPUT
------------------------------

Output from 'C:\strawberry\c\bin\dmake.EXE test':

C:\"Strawberry\perl\bin\perl.exe" -MExtUtils::Command::MM -e cp_nonempty -- lib/FFI/Platypus.bs blib\arch\auto\FFI\Platypus\Platypus.bs 644
CC t/ffi/align.c
CC t/ffi/align_array.c
CC t/ffi/align_fixed.c
CC t/ffi/align_string.c
CC t/ffi/basic.c
CC t/ffi/closure.c
CC t/ffi/color.c
CC t/ffi/complex_double.c
CC t/ffi/complex_float.c
CC t/ffi/double.c
CC t/ffi/float.c
CC t/ffi/gh117.c
CC t/ffi/gh174.c
CC t/ffi/longdouble.c
CC t/ffi/memcmp4.c
CC t/ffi/meta.c
CC t/ffi/pointer.c
CC t/ffi/record.c
CC t/ffi/sint16.c
CC t/ffi/sint32.c
CC t/ffi/sint64.c
CC t/ffi/sint8.c
CC t/ffi/string.c
CC t/ffi/string_array.c
CC t/ffi/uint16.c
CC t/ffi/uint32.c
CC t/ffi/uint64.c
CC t/ffi/uint8.c
CC t/ffi/variadic.c
LD t/ffi/test.dll
C:\"Strawberry\perl\bin\perl.exe" "-MExtUtils::Command::MM" "-MTest::Harness" "-e" "undef *Test::Harness::Switches; test_harness(0, 'blib\lib', 'blib\arch')" t/*.t
# 
# 
# 
# HARNESS_ACTIVE=1
# HARNESS_VERSION=3.44
# PERL5LIB=C:\Strawberry\cpan\build\FFI-Platypus-2.08-0\blib\lib;C:\Strawberry\cpan\build\FFI-Platypus-2.08-0\blib\arch;C:\home\flower\perl5\lib\perl5/5.8.9/MSWin32-x86-multi-thread;C:\home\flower\perl5\lib\perl5/5.8.9;C:\home\flower\perl5\lib\perl5/MSWin32-x86-multi-thread;C:\home\flower\perl5\lib\perl5;C:\home\flower\perl5\lib\perl5
# PERL5_CPANPLUS_IS_RUNNING=5956
# PERL5_CPAN_IS_RUNNING=5956
# PERL_LOCAL_LIB_ROOT=C:\home\flower\perl5
# PERL_MB_OPT=--install_base "C:\\home\\flower\\perl5"
# PERL_MM_OPT=INSTALL_BASE=C:\\home\\flower\\perl5
# PERL_MM_USE_DEFAULT=1
# PERL_USE_UNSAFE_INC=1
# 
# 
# 
# PERL5LIB path
# C:\Strawberry\cpan\build\FFI-Platypus-2.08-0\blib\lib
# C:\Strawberry\cpan\build\FFI-Platypus-2.08-0\blib\arch
# C:\home\flower\perl5\lib\perl5/5.8.9/MSWin32-x86-multi-thread
# C:\home\flower\perl5\lib\perl5/5.8.9
# C:\home\flower\perl5\lib\perl5/MSWin32-x86-multi-thread
# C:\home\flower\perl5\lib\perl5
# C:\home\flower\perl5\lib\perl5
# 
# 
# 
# perl                  5.008009 MSWin32 MSWin32-x86-multi-thread
# Alien::Base           2.80
# Alien::FFI            0.22
# Capture::Tiny         0.48
# Devel::Hide           0.0015
# ExtUtils::CBuilder    0.280236
# ExtUtils::MakeMaker   7.70
# ExtUtils::ParseXS     3.44
# FFI::CheckLib         0.31
# File::Spec::Functions 3.62
# IPC::Cmd              1.02
# JSON::PP              4.16
# List::Util            1.63
# Math::LongDouble      -
# PkgConfig             0.25026
# Test2::API            1.302195
# Test2::V0             0.000148
# autodie               2.36
# constant              1.33
# forks                 -
# parent                0.241
# 
# 
# 
# mode : already-installed
# Alien::FFI->VERSION      = 0.22
# Alien::FFI->install_type = share
# Alien::FFI->cflags       = -IC:/home/flower/perl5/lib/perl5/MSWin32-x86-multi-thread/auto/share/dist/Alien-FFI/lib/libffi-3.2.1/include 
# Alien::FFI->libs         = -LC:/home/flower/perl5/lib/perl5/MSWin32-x86-multi-thread/auto/share/dist/Alien-FFI/lib -lffi 
# Alien::FFI->version      = 3.2.1
# my_configure             = %{configure} --disable-shared --enable-static --disable-builddir
# 
# 
# 
# ffi.platypus.memory.strdup_impl =libc
# ffi.platypus.memory.strndup_impl=ffi
# 
# 
# 
# Types:
#   double   : double, float complex
#   float    : float
#   longdouble : double complex, long double, long double complex
#   sint16   : ino_t, int16_t, short, signed short
#   sint32   : int, int32_t, intptr_t, long, off_t, ptrdiff_t, senum, signed int, signed long, ssize_t, time_t
#   sint64   : int64_t, intmax_t, long long, signed long long
#   sint8    : char, int8_t, signed char
#   uint16   : mode_t, uint16_t, unsigned short, ushort, wchar_t, wint_t
#   uint32   : dev_t, enum, size_t, uint, uint32_t, uintptr_t, ulong, unsigned int, unsigned long
#   uint64   : uint64_t, uintmax_t, unsigned long long
#   uint8    : bool, uchar, uint8_t, unsigned char
# 
# 
# 
# ABIs:
#   default_abi          1
#   fastcall             4
#   ms_cdecl             5
#   pascal               6
#   register             7
#   stdcall              2
#   sysv                 1
#   thiscall             3
# 
# 
# 
# Probes:
#   variadic             1
#   bigendian64          0
#   recordvalue          1
#   longdouble           1
#   abi                  1
#   bigendian            0
#   alloca               1
# 
# 
# 
# [PLATFORM]
# osname            : MSWin32
# cc                : gcc
# cxx               : g++
# cxxld             : g++
# for               : ---
# ld                : g++
# ccflags           : -s -O2 -DWIN32 -DHAVE_DES_FCRYPT -DUSE_SITECUSTOMIZE -DPERL_IMPLICIT_CONTEXT -DPERL_IMPLICIT_SYS -fno-strict-aliasing -DPERL_MSVCRT_READFIX -s -O2 -IC:\Strawberry\cpan\build\FFI-Platypus-2.08-0\blib\lib\auto\share\dist\FFI-Platypus\include
# ldflags           : -mdll -s -LC:\strawberry\perl\lib\CORE -LC:\strawberry\c\lib -Wl,--enable-auto-import -Wl,--export-all-symbols -Wl,--enable-auto-image-base
# object suffix     : .o
# library prefix    : 
# library suffix    : .dll
# cc mm works       : -MM
# 
# 
# 
t/00_diag.t .............................. ok
t/ffi_build.t ............................ ok
t/ffi_build_file_base.t .................. ok
t/ffi_build_file_c.t ..................... ok
t/ffi_build_file_cxx.t ................... ok
t/ffi_build_file_library.t ............... ok
t/ffi_build_file_object.t ................ ok
t/ffi_build_mm.t ......................... ok
t/ffi_build_platform.t ................... ok
t/ffi_build_plugin.t ..................... ok
t/ffi_build_plugindata.t ................. ok
t/ffi_platypus.t ......................... ok
t/ffi_platypus_api.t ..................... ok
t/ffi_platypus_buffer.t .................. ok
cannot unlink file for C:\Strawberry\cpan\build\FFI-Platypus-2.08-0\.tmp\DV0rR8Su5z\lib\auto\share\dist\Foo-Bar1\bar1.dll: Permission denied at t/lib/Test/Cleanup.pm line 27.
cannot remove directory for C:\Strawberry\cpan\build\FFI-Platypus-2.08-0\.tmp\DV0rR8Su5z\lib\auto\share\dist\Foo-Bar1: Directory not empty at t/lib/Test/Cleanup.pm line 27.
cannot remove directory for C:\Strawberry\cpan\build\FFI-Platypus-2.08-0\.tmp\DV0rR8Su5z\lib\auto\share\dist: Directory not empty at t/lib/Test/Cleanup.pm line 27.
cannot remove directory for C:\Strawberry\cpan\build\FFI-Platypus-2.08-0\.tmp\DV0rR8Su5z\lib\auto\share: Directory not empty at t/lib/Test/Cleanup.pm line 27.
cannot remove directory for C:\Strawberry\cpan\build\FFI-Platypus-2.08-0\.tmp\DV0rR8Su5z\lib\auto: Directory not empty at t/lib/Test/Cleanup.pm line 27.
cannot remove directory for C:\Strawberry\cpan\build\FFI-Platypus-2.08-0\.tmp\DV0rR8Su5z\lib: Directory not empty at t/lib/Test/Cleanup.pm line 27.
cannot remove directory for C:\Strawberry\cpan\build\FFI-Platypus-2.08-0\.tmp\DV0rR8Su5z: Directory not empty at t/lib/Test/Cleanup.pm line 27.
cannot unlink file for C:\Strawberry\cpan\build\FFI-Platypus-2.08-0\.tmp\Ui9MKjk84K\lib\auto\share\dist\Foo-Bar2\bar2.dll: Permission denied at t/lib/Test/Cleanup.pm line 27.
cannot remove directory for C:\Strawberry\cpan\build\FFI-Platypus-2.08-0\.tmp\Ui9MKjk84K\lib\auto\share\dist\Foo-Bar2: Directory not empty at t/lib/Test/Cleanup.pm line 27.
cannot remove directory for C:\Strawberry\cpan\build\FFI-Platypus-2.08-0\.tmp\Ui9MKjk84K\lib\auto\share\dist: Directory not empty at t/lib/Test/Cleanup.pm line 27.
cannot remove directory for C:\Strawberry\cpan\build\FFI-Platypus-2.08-0\.tmp\Ui9MKjk84K\lib\auto\share: Directory not empty at t/lib/Test/Cleanup.pm line 27.
cannot remove directory for C:\Strawberry\cpan\build\FFI-Platypus-2.08-0\.tmp\Ui9MKjk84K\lib\auto: Directory not empty at t/lib/Test/Cleanup.pm line 27.
cannot remove directory for C:\Strawberry\cpan\build\FFI-Platypus-2.08-0\.tmp\Ui9MKjk84K\lib: Directory not empty at t/lib/Test/Cleanup.pm line 27.
cannot remove directory for C:\Strawberry\cpan\build\FFI-Platypus-2.08-0\.tmp\Ui9MKjk84K: Directory not empty at t/lib/Test/Cleanup.pm line 27.
cannot unlink file for C:\Strawberry\cpan\build\FFI-Platypus-2.08-0\.tmp\ndgPeHrWFo\lib\auto\share\dist\Foo-Bar3\bar3.dll: Permission denied at t/lib/Test/Cleanup.pm line 27.
cannot remove directory for C:\Strawberry\cpan\build\FFI-Platypus-2.08-0\.tmp\ndgPeHrWFo\lib\auto\share\dist\Foo-Bar3: Directory not empty at t/lib/Test/Cleanup.pm line 27.
cannot remove directory for C:\Strawberry\cpan\build\FFI-Platypus-2.08-0\.tmp\ndgPeHrWFo\lib\auto\share\dist: Directory not empty at t/lib/Test/Cleanup.pm line 27.
cannot remove directory for C:\Strawberry\cpan\build\FFI-Platypus-2.08-0\.tmp\ndgPeHrWFo\lib\auto\share: Directory not empty at t/lib/Test/Cleanup.pm line 27.
cannot remove directory for C:\Strawberry\cpan\build\FFI-Platypus-2.08-0\.tmp\ndgPeHrWFo\lib\auto: Directory not empty at t/lib/Test/Cleanup.pm line 27.
cannot remove directory for C:\Strawberry\cpan\build\FFI-Platypus-2.08-0\.tmp\ndgPeHrWFo\lib: Directory not empty at t/lib/Test/Cleanup.pm line 27.
cannot remove directory for C:\Strawberry\cpan\build\FFI-Platypus-2.08-0\.tmp\ndgPeHrWFo: Directory not empty at t/lib/Test/Cleanup.pm line 27.
cannot unlink file for C:\Strawberry\cpan\build\FFI-Platypus-2.08-0\.tmp\xwmZoljSaG\ffi\_build\foo.dll: Permission denied at t/lib/Test/Cleanup.pm line 27.
cannot remove directory for C:\Strawberry\cpan\build\FFI-Platypus-2.08-0\.tmp\xwmZoljSaG\ffi\_build: Directory not empty at t/lib/Test/Cleanup.pm line 27.
cannot remove directory for C:\Strawberry\cpan\build\FFI-Platypus-2.08-0\.tmp\xwmZoljSaG\ffi: Directory not empty at t/lib/Test/Cleanup.pm line 27.
cannot remove directory for C:\Strawberry\cpan\build\FFI-Platypus-2.08-0\.tmp\xwmZoljSaG: Directory not empty at t/lib/Test/Cleanup.pm line 27.
cannot unlink file for C:\Strawberry\cpan\build\FFI-Platypus-2.08-0\.tmp\DV0rR8Su5z\lib\auto\share\dist\Foo-Bar1\bar1.dll: Permission denied at C:\home\flower\perl5\lib\perl5/File/Temp.pm line 2628.
cannot remove directory for C:\Strawberry\cpan\build\FFI-Platypus-2.08-0\.tmp\DV0rR8Su5z\lib\auto\share\dist\Foo-Bar1: Directory not empty at C:\home\flower\perl5\lib\perl5/File/Temp.pm line 2628.
cannot remove directory for C:\Strawberry\cpan\build\FFI-Platypus-2.08-0\.tmp\DV0rR8Su5z\lib\auto\share\dist: Directory not empty at C:\home\flower\perl5\lib\perl5/File/Temp.pm line 2628.
cannot remove directory for C:\Strawberry\cpan\build\FFI-Platypus-2.08-0\.tmp\DV0rR8Su5z\lib\auto\share: Directory not empty at C:\home\flower\perl5\lib\perl5/File/Temp.pm line 2628.
cannot remove directory for C:\Strawberry\cpan\build\FFI-Platypus-2.08-0\.tmp\DV0rR8Su5z\lib\auto: Directory not empty at C:\home\flower\perl5\lib\perl5/File/Temp.pm line 2628.
cannot remove directory for C:\Strawberry\cpan\build\FFI-Platypus-2.08-0\.tmp\DV0rR8Su5z\lib: Directory not empty at C:\home\flower\perl5\lib\perl5/File/Temp.pm line 2628.
cannot remove directory for C:/Strawberry/cpan/build/FFI-Platypus-2.08-0/.tmp/DV0rR8Su5z: Directory not empty at C:\home\flower\perl5\lib\perl5/File/Temp.pm line 2628.
cannot unlink file for C:\Strawberry\cpan\build\FFI-Platypus-2.08-0\.tmp\ndgPeHrWFo\lib\auto\share\dist\Foo-Bar3\bar3.dll: Permission denied at C:\home\flower\perl5\lib\perl5/File/Temp.pm line 2628.
cannot remove directory for C:\Strawberry\cpan\build\FFI-Platypus-2.08-0\.tmp\ndgPeHrWFo\lib\auto\share\dist\Foo-Bar3: Directory not empty at C:\home\flower\perl5\lib\perl5/File/Temp.pm line 2628.
cannot remove directory for C:\Strawberry\cpan\build\FFI-Platypus-2.08-0\.tmp\ndgPeHrWFo\lib\auto\share\dist: Directory not empty at C:\home\flower\perl5\lib\perl5/File/Temp.pm line 2628.
cannot remove directory for C:\Strawberry\cpan\build\FFI-Platypus-2.08-0\.tmp\ndgPeHrWFo\lib\auto\share: Directory not empty at C:\home\flower\perl5\lib\perl5/File/Temp.pm line 2628.
cannot remove directory for C:\Strawberry\cpan\build\FFI-Platypus-2.08-0\.tmp\ndgPeHrWFo\lib\auto: Directory not empty at C:\home\flower\perl5\lib\perl5/File/Temp.pm line 2628.
cannot remove directory for C:\Strawberry\cpan\build\FFI-Platypus-2.08-0\.tmp\ndgPeHrWFo\lib: Directory not empty at C:\home\flower\perl5\lib\perl5/File/Temp.pm line 2628.
cannot remove directory for C:/Strawberry/cpan/build/FFI-Platypus-2.08-0/.tmp/ndgPeHrWFo: Directory not empty at C:\home\flower\perl5\lib\perl5/File/Temp.pm line 2628.
cannot unlink file for C:\Strawberry\cpan\build\FFI-Platypus-2.08-0\.tmp\Ui9MKjk84K\lib\auto\share\dist\Foo-Bar2\bar2.dll: Permission denied at C:\home\flower\perl5\lib\perl5/File/Temp.pm line 2628.
cannot remove directory for C:\Strawberry\cpan\build\FFI-Platypus-2.08-0\.tmp\Ui9MKjk84K\lib\auto\share\dist\Foo-Bar2: Directory not empty at C:\home\flower\perl5\lib\perl5/File/Temp.pm line 2628.
cannot remove directory for C:\Strawberry\cpan\build\FFI-Platypus-2.08-0\.tmp\Ui9MKjk84K\lib\auto\share\dist: Directory not empty at C:\home\flower\perl5\lib\perl5/File/Temp.pm line 2628.
cannot remove directory for C:\Strawberry\cpan\build\FFI-Platypus-2.08-0\.tmp\Ui9MKjk84K\lib\auto\share: Directory not empty at C:\home\flower\perl5\lib\perl5/File/Temp.pm line 2628.
cannot remove directory for C:\Strawberry\cpan\build\FFI-Platypus-2.08-0\.tmp\Ui9MKjk84K\lib\auto: Directory not empty at C:\home\flower\perl5\lib\perl5/File/Temp.pm line 2628.
cannot remove directory for C:\Strawberry\cpan\build\FFI-Platypus-2.08-0\.tmp\Ui9MKjk84K\lib: Directory not empty at C:\home\flower\perl5\lib\perl5/File/Temp.pm line 2628.
cannot remove directory for C:/Strawberry/cpan/build/FFI-Platypus-2.08-0/.tmp/Ui9MKjk84K: Directory not empty at C:\home\flower\perl5\lib\perl5/File/Temp.pm line 2628.
cannot unlink file for C:\Strawberry\cpan\build\FFI-Platypus-2.08-0\.tmp\xwmZoljSaG\ffi\_build\foo.dll: Permission denied at C:\home\flower\perl5\lib\perl5/File/Temp.pm line 2628.
cannot remove directory for C:\Strawberry\cpan\build\FFI-Platypus-2.08-0\.tmp\xwmZoljSaG\ffi\_build: Directory not empty at C:\home\flower\perl5\lib\perl5/File/Temp.pm line 2628.
cannot remove directory for C:\Strawberry\cpan\build\FFI-Platypus-2.08-0\.tmp\xwmZoljSaG\ffi: Directory not empty at C:\home\flower\perl5\lib\perl5/File/Temp.pm line 2628.
cannot remove directory for C:/Strawberry/cpan/build/FFI-Platypus-2.08-0/.tmp/xwmZoljSaG: Directory not empty at C:\home\flower\perl5\lib\perl5/File/Temp.pm line 2628.
t/ffi_platypus_bundle.t .................. ok
t/ffi_platypus_closure.t ................. ok
t/ffi_platypus_constant.t ................ ok
t/ffi_platypus_dl.t ...................... ok
t/ffi_platypus_function.t ................ ok
t/ffi_platypus_function_wrapper.t ........ ok
t/ffi_platypus_internal.t ................ ok
t/ffi_platypus_lang.t .................... ok
t/ffi_platypus_lang_asm.t ................ ok
t/ffi_platypus_lang_c.t .................. ok
t/ffi_platypus_lang_win32.t .............. ok
t/ffi_platypus_legacy.t .................. ok
t/ffi_platypus_memory.t .................. ok
t/ffi_platypus_record.t .................. ok
t/ffi_platypus_record_meta.t ............. ok
t/ffi_platypus_record_tiearray.t ......... ok
t/ffi_platypus_shareconfig.t ............. ok
t/ffi_platypus_type.t .................... ok
t/ffi_platypus_type_pointersizebuffer.t .. ok
t/ffi_platypus_type_stringarray.t ........ ok
t/ffi_platypus_type_stringpointer.t ...... ok
t/ffi_platypus_type_widestring.t ......... ok
t/ffi_platypus_typeparser.t .............. ok
t/ffi_platypus_typeparser_version0.t ..... ok
t/ffi_platypus_typeparser_version1.t ..... ok
t/ffi_platypus_typeparser_version2.t ..... ok
t/ffi_probe.t ............................ ok
t/ffi_probe_runner.t ..................... ok
cannot remove directory for C:\Strawberry\cpan\build\FFI-Platypus-2.08-0\.tmp\test-probe-GpdDhz\bin: Directory not empty at C:\home\flower\perl5\lib\perl5/File/Temp.pm line 2628.
cannot remove directory for C:/Strawberry/cpan/build/FFI-Platypus-2.08-0/.tmp/test-probe-GpdDhz: Directory not empty at C:\home\flower\perl5\lib\perl5/File/Temp.pm line 2628.
t/ffi_probe_runner_builder.t ............. ok
t/ffi_probe_runner_result.t .............. ok
t/ffi_temp.t ............................. ok
t/forks.t ................................ skipped: Test requires forks
t/gh117.t ................................ ok
t/gh129.t ................................ ok
t/gh323.t ................................ ok
t/memory.t ............................... skipped: tested only in CI
t/threads.t .............................. ok
t/type_complex_double.t .................. skipped: Test requires support for double complex
t/type_complex_float.t ................... skipped: Test requires support for float complex
t/type_custom.t .......................... ok
t/type_double.t .......................... ok
t/type_float.t ........................... ok
t/type_longdouble.t ...................... ok
t/type_longdouble__array.t ............... ok
t/type_longdouble__hide.t ................ ok
t/type_longdouble__ptr.t ................. ok
t/type_opaque.t .......................... ok
t/type_record.t .......................... ok
t/type_record_value.t .................... ok
t/type_sint16.t .......................... ok
t/type_sint32.t .......................... ok
t/type_sint64.t .......................... ok
t/type_sint8.t ........................... ok
t/type_string.t .......................... ok
t/type_uint16.t .......................... ok
t/type_uint32.t .......................... ok
t/type_uint64.t .......................... ok
t/type_uint8.t ........................... ok
All tests successful.
Files=72, Tests=316, 89 wallclock secs ( 1.06 usr +  0.39 sys =  1.45 CPU)
Result: PASS
dmake.EXE:  makefile:  line 1280:  Warning: -- Empty recipe for special or meta target .NO_PARALLEL

------------------------------
PREREQUISITES
------------------------------

Prerequisite modules loaded:

requires:

    Module                Need     Have    
    --------------------- -------- --------
    autodie               0        2.36    
    Capture::Tiny         0        0.48    
    constant              1.32     1.33    
    ExtUtils::MakeMaker   7.12     7.70    
    FFI::CheckLib         0.05     0.31    
    File::Spec::Functions 0        3.62    
    IPC::Cmd              0        1.02    
    JSON::PP              0        4.16    
    List::Util            1.45     1.63    
    Math::Int64           0.34     0.54    
    parent                0        0.241   
    perl                  5.008004 5.008009

build_requires:

    Module                Need     Have    
    --------------------- -------- --------
    Alien::FFI            0.20     0.22    
    Capture::Tiny         0        0.48    
    ExtUtils::CBuilder    0        0.280236
    Math::Int64           0.34     0.54    
    Test2::API            1.302015 1.302195
    Test2::V0             0.000121 0.000148

configure_requires:

    Module                Need     Have    
    --------------------- -------- --------
    Capture::Tiny         0        0.48    
    ExtUtils::MakeMaker   7.12     7.70    
    ExtUtils::ParseXS     3.30     3.44    
    IPC::Cmd              0        1.02    
    JSON::PP              0        4.16    
    parent                0        0.241   
    perl                  5.006    5.008009


------------------------------
ENVIRONMENT AND OTHER CONTEXT
------------------------------

Environment variables:

    COMSPEC = C:\windows\system32\cmd.exe
    NONINTERACTIVE_TESTING = 1
    NUMBER_OF_PROCESSORS = 4
    PATH = C:\home\flower\perl5\bin;C:\windows\system32;C:\windows;C:\windows\System32\Wbem;C:\windows\System32\WindowsPowerShell\v1.0\;C:\Strawberry\c\bin;C:\Strawberry\perl\site\bin;C:\Strawberry\perl\bin
    PERL5LIB = C:\home\flower\perl5\lib\perl5
    PERL5OPT = 
    PERL5_CPANPLUS_IS_RUNNING = 5956
    PERL5_CPAN_IS_RUNNING = 5956
    PERL_LOCAL_LIB_ROOT = C:\home\flower\perl5
    PERL_MB_OPT = --install_base "C:\\home\\flower\\perl5"
    PERL_MM_OPT = INSTALL_BASE=C:\\home\\flower\\perl5
    PERL_MM_USE_DEFAULT = 1
    PROCESSOR_IDENTIFIER = x86 Family 6 Model 37 Stepping 5, GenuineIntel
    TEMP = C:\Users\user\AppData\Local\Temp
    TERM = dumb

Perl special variables (and OS-specific diagnostics, for MSWin32):

    $^X = C:\Strawberry\perl\bin\perl.exe
    $UID/$EUID = 0 / 0
    $GID = 0
    $EGID = 0
    Win32::GetOSName = Win7
    Win32::GetOSVersion = Service Pack 1, 6, 1, 7601, 2, 1, 0, 256, 1
    Win32::FsType = NTFS
    Win32::IsAdminUser = 0

Perl module toolchain versions installed:

    Module              Have    
    ------------------- --------
    CPAN                2.16    
    CPAN::Meta          2.150010
    Cwd                 3.62    
    ExtUtils::CBuilder  0.280236
    ExtUtils::Command   7.70    
    ExtUtils::Install   2.22    
    ExtUtils::MakeMaker 7.70    
    ExtUtils::Manifest  1.70    
    ExtUtils::ParseXS   3.44    
    File::Spec          3.62    
    JSON                4.10    
    JSON::PP            4.16    
    Module::Build       0.4232  
    Module::Signature   0.88    
    Parse::CPAN::Meta   2.150010
    Test::Harness       3.44    
    Test::More          1.302195
    YAML                1.26    
    YAML::Syck          1.29    
    version             0.9924  


--

Summary of my perl5 (revision 5 version 8 subversion 9) configuration:
  Platform:
    osname=MSWin32, osvers=5.1, archname=MSWin32-x86-multi-thread
    uname='Win32 strawberryperl 5.8.9.5 #1 Wed Apr 28 11:51:06 2010 i386'
    config_args='undef'
    hint=recommended, useposix=true, d_sigaction=undef
    usethreads=define use5005threads=undef useithreads=define usemultiplicity=define
    useperlio=define d_sfio=undef uselargefiles=define usesocks=undef
    use64bitint=undef use64bitall=undef uselongdouble=undef
    usemymalloc=n, bincompat5005=undef
  Compiler:
    cc='gcc', ccflags =' -s -O2 -DWIN32 -DHAVE_DES_FCRYPT  -DUSE_SITECUSTOMIZE -DPERL_IMPLICIT_CONTEXT -DPERL_IMPLICIT_SYS -fno-strict-aliasing -DPERL_MSVCRT_READFIX',
    optimize='-s -O2',
    cppflags='-DWIN32'
    ccversion='', gccversion='3.4.5', gccosandvers=''
    intsize=4, longsize=4, ptrsize=4, doublesize=8, byteorder=1234
    d_longlong=undef, longlongsize=8, d_longdbl=define, longdblsize=12
    ivtype='long', ivsize=4, nvtype='double', nvsize=8, Off_t='long long', lseeksize=8
    alignbytes=8, prototype=define
  Linker and Libraries:
    ld='g++', ldflags ='-s -L"C:\strawberry\perl\lib\CORE" -L"C:\strawberry\c\lib"'
    libpth=C:\strawberry\c\lib
    libs= -lmsvcrt -lmoldname -lkernel32 -luser32 -lgdi32 -lwinspool -lcomdlg32 -ladvapi32 -lshell32 -lole32 -loleaut32 -lnetapi32 -luuid -lws2_32 -lmpr -lwinmm -lversion -lodbc32 -lodbccp32
    perllibs= -lmsvcrt -lmoldname -lkernel32 -luser32 -lgdi32 -lwinspool -lcomdlg32 -ladvapi32 -lshell32 -lole32 -loleaut32 -lnetapi32 -luuid -lws2_32 -lmpr -lwinmm -lversion -lodbc32 -lodbccp32
    libc=-lmsvcrt, so=dll, useshrplib=true, libperl=libperl58.a
    gnulibc_version=''
  Dynamic Linking:
    dlsrc=dl_win32.xs, dlext=dll, d_dlsymun=undef, ccdlflags=' '
    cccdlflags=' ', lddlflags='-mdll -s -L"C:\strawberry\perl\lib\CORE" -L"C:\strawberry\c\lib"'


Characteristics of this binary (from libperl): 
  Compile-time options: MULTIPLICITY PERL_IMPLICIT_CONTEXT PERL_IMPLICIT_SYS
                        PERL_MALLOC_WRAP PL_OP_SLAB_ALLOC USE_FAST_STDIO
                        USE_ITHREADS USE_LARGE_FILES USE_PERLIO
                        USE_SITECUSTOMIZE
  Built under MSWin32
  Compiled at Apr 28 2010 11:57:55
  %ENV:
    PERL5LIB="C:\home\flower\perl5\lib\perl5"
    PERL5_CPANPLUS_IS_RUNNING="5956"
    PERL5_CPAN_IS_RUNNING="5956"
    PERL_LOCAL_LIB_ROOT="C:\home\flower\perl5"
    PERL_MB_OPT="--install_base "C:\\home\\flower\\perl5""
    PERL_MM_OPT="INSTALL_BASE=C:\\home\\flower\\perl5"
    PERL_MM_USE_DEFAULT="1"
  @INC:
    C:\home\flower\perl5\lib\perl5/5.8.9/MSWin32-x86-multi-thread
    C:\home\flower\perl5\lib\perl5/5.8.9
    C:\home\flower\perl5\lib\perl5/MSWin32-x86-multi-thread
    C:\home\flower\perl5\lib\perl5
    C:/Strawberry/perl/lib
    C:/Strawberry/perl/site/lib
    C:\strawberry\perl\vendor\lib
    .